PDS_VERSION_ID = PDS3
/* FILE DATA ELEMENTS */
RECORD_TYPE = UNDEFINED
/* POINTERS TO DATA OBJECTS */
^IMAGE = ("HJ957_0000_S14.TIF")
/* IDENTIFICATION DATA ELEMENTS */
DATA_SET_ID = "MEX-M-HRSC-4-REFDR-MAPPROJECT-EXT7-V4.0"
DATA_SET_NAME = "MARS EXPRESS HRSC MAP PROJECTED REFDR EXTENSION7 V4.0"
DETECTOR_ID = MEX_HRSC_S1
EVENT_TYPE = "MARS-LOCAL-STEREO-Tc-Ts"
INSTRUMENT_HOST_ID = MEX
INSTRUMENT_HOST_NAME = "MARS EXPRESS"
INSTRUMENT_ID = HRSC
INSTRUMENT_NAME = "HIGH RESOLUTION STEREO CAMERA"
MISSION_NAME = "MARS EXPRESS"
MISSION_PHASE_NAME = ME_Phase_41
PROCESSING_LEVEL_ID = 4
PRODUCT_CREATION_TIME = 2023-01-26T14:38:39.000Z
PRODUCT_ID = "HJ957_0000_S14.TIF"
RELEASE_ID = 0002
REVISION_ID = 0000
/* QUALITY DATA ELEMENTS */
DATA_QUALITY_ID = 1
DATA_QUALITY_DESC = "Data calculated based on original SPICE kernels"
/* TIME DATA ELEMENTS */
SPACECRAFT_CLOCK_START_COUNT = "1/0519053270.23975"
SPACECRAFT_CLOCK_STOP_COUNT = "1/0519053469.00041"
START_TIME = 2019-10-13T13:28:22.436Z
STOP_TIME = 2019-10-13T13:30:17.196Z
/* ORBITAL DATA ELEMENTS */
ASCENDING_NODE_LONGITUDE = 200.3
MAXIMUM_RESOLUTION = 0.0164
FOOTPRINT_POINT_LATITUDE = (29.1389,29.1774,29.2064,29.234,29.26, 29.2848,29.3083,29.3098,29.2553,28.9582 ,28.5128,28.3641,28.2154,28.0669, 27.9183,27.6954,27.3982,27.1756,27.0269 ,26.8038,26.655,26.432,26.2833,25.9861, 25.8374,25.6886,25.54,25.3171,25.1683, 25.0195,24.8708,24.5736,24.4249,24.2763 ,24.1275,23.9044,23.7555,23.6069, 23.4578,23.3052,23.1524,22.9234,22.6944 ,22.4656,22.3129,22.084,21.8552,21.779, 21.7784,21.7483,21.7301,21.7025,21.6755 ,21.6453,21.5992,21.5972,21.5964, 21.7491,21.9781,22.1308,22.2836,22.5126 ,22.7416,22.8943,23.0473,23.2001, 23.3512,23.5001,23.7233,23.9468,24.0955 ,24.2443,24.393,24.5419,24.6906,24.9137 ,25.1368,25.2856,25.4345,25.5835, 25.7321,25.955,26.1782,26.3268,26.5499, 26.6986,26.8475,26.9962,27.1451,27.3682 ,27.5912,27.74,27.9629,28.1116,28.2603, 28.4833,28.7806,29.0037,29.0779, 29.1389)
FOOTPRINT_POINT_LONGITUDE = (108.455,108.111,107.843,107.58,107.324 ,107.073,106.828,106.813,106.839, 106.835,106.828,106.826,106.823,106.821 ,106.818,106.815,106.809,106.805, 106.803,106.799,106.796,106.792,106.789 ,106.784,106.781,106.778,106.775, 106.771,106.768,106.765,106.762,106.756 ,106.752,106.749,106.746,106.741, 106.738,106.735,106.732,106.728,106.725 ,106.72,106.715,106.709,106.706,106.701 ,106.695,106.693,106.693,106.993,107.17 ,107.431,107.681,107.954,108.356, 108.374,108.382,108.385,108.389,108.391 ,108.394,108.398,108.402,108.405, 108.408,108.41,108.413,108.416,108.42, 108.424,108.427,108.429,108.432,108.435 ,108.438,108.442,108.447,108.45,108.453 ,108.455,108.459,108.463,108.468, 108.471,108.476,108.479,108.482,108.485 ,108.488,108.493,108.498,108.501, 108.506,108.509,108.512,108.517,108.524 ,108.529,108.53,108.455)
ORBIT_NUMBER = 19957
ORBITAL_ECCENTRICITY = 0.574
ORBITAL_INCLINATION = 86.98
ORBITAL_SEMIMAJOR_AXIS = 8817.34
PERIAPSIS_ALTITUDE = 369.07
PERIAPSIS_ARGUMENT_ANGLE = 141.71
PERIAPSIS_TIME = 2019-10-13T13:26:38.000Z
SPACECRAFT_ORIENTATION = (0.0,-1.0,0.0)
^MEX_ORIENTATION_DESC = "MEX_ORIENTATION_DESC.TXT"
SPACECRAFT_POINTING_MODE = ACROSSTRACK
^MEX_POINTING_DESC = "MEX_POINTING_DESC.TXT"
RIGHT_ASCENSION = -1e+32
DECLINATION = -1e+32
OFFSET_ANGLE = 1.831
SPACECRAFT_SOLAR_DISTANCE = 2.47501e+08
TARGET_NAME = MARS
/* CAMERA DATA ELEMENTS */
DETECTOR_TEMPERATURE = 17.351
FOCAL_PLANE_TEMPERATURE = 7.7677
INST_CMPRS_NAME = "DISCRETE COSINE TRANSFORMATION (DCT)"
INST_CMPRS_RATIO = 7.49605
INST_CMPRS_QUALITY = 0
INST_CMPRS_QUANTZ_TBL_ID = 0
INSTRUMENT_TEMPERATURE = 10.8262
LENS_TEMPERATURE = 8.3794
MACROPIXEL_SIZE = 1
MISSING_FRAMES = 0
PIXEL_SUBSAMPLING_FLAG = N
SIGNAL_CHAIN_ID = 2
/* RADIOMETRIC DATA ELEMENTS */
BANDWIDTH = 180.0
CENTER_FILTER_WAVELENGTH = 677.0
RADIANCE_OFFSET = 3.51152
RADIANCE_SCALING_FACTOR = 0.0139126
REFLECTANCE_SCALING_FACTOR = 0.000444636
MEX:REFLECTANCE_OFFSET = 0.112225
/* IMAGE OBJECT DEFINITIONS */
OBJECT = IMAGE
  INTERCHANGE_FORMAT = BINARY
  LINES = 35545
  LINE_SAMPLES = 8091
  SAMPLE_TYPE = UNSIGNED_INTEGER
  SAMPLE_BITS = 8
  BANDS = 1
  BAND_STORAGE_TYPE = BAND_SEQUENTIAL
  MAXIMUM = 255
  MEAN = 155.382
  MINIMUM = 1
  STANDARD_DEVIATION = 10.6202
END_OBJECT = IMAGE
/* MAP OBJECT DEFINITIONS */
OBJECT = IMAGE_MAP_PROJECTION
  ^DATA_SET_MAP_PROJECTION_CATALOG= "DSMAP.CAT"
  A_AXIS_RADIUS = 3396.0
  B_AXIS_RADIUS = 3396.0
  C_AXIS_RADIUS = 3396.0
  CENTER_LATITUDE = 0.0
  CENTER_LONGITUDE = 108.0
  COORDINATE_SYSTEM_NAME = PLANETOGRAPHIC
  COORDINATE_SYSTEM_TYPE = "BODY-FIXED ROTATING"
  EASTERNMOST_LONGITUDE = 108.53
  FIRST_STANDARD_PARALLEL = "N/A"
  LINE_FIRST_PIXEL = 1
  LINE_LAST_PIXEL = 35545
  LINE_PROJECTION_OFFSET = 138496.0
  MAP_PROJECTION_ROTATION = 0.0
  MAP_PROJECTION_TYPE = SINUSOIDAL
  MAP_RESOLUTION = 4741.71043093333
  MAP_SCALE = 0.0125
  MAXIMUM_LATITUDE = 29.3098
  MINIMUM_LATITUDE = 21.5964
  POSITIVE_LONGITUDE_DIRECTION = EAST
  REFERENCE_LATITUDE = "N/A"
  REFERENCE_LONGITUDE = "N/A"
  SAMPLE_FIRST_PIXEL = 1
  SAMPLE_LAST_PIXEL = 8091
  SAMPLE_PROJECTION_OFFSET = 5940.0
  SECOND_STANDARD_PARALLEL = "N/A"
  WESTERNMOST_LONGITUDE = 106.693
END_OBJECT = IMAGE_MAP_PROJECTION
END
