PDS_VERSION_ID = PDS3
/* FILE DATA ELEMENTS */
RECORD_TYPE = UNDEFINED
/* POINTERS TO DATA OBJECTS */
^IMAGE = ("HJ956_0000_P24.TIF")
/* IDENTIFICATION DATA ELEMENTS */
DATA_SET_ID = "MEX-M-HRSC-4-REFDR-MAPPROJECT-EXT7-V4.0"
DATA_SET_NAME = "MARS EXPRESS HRSC MAP PROJECTED REFDR EXTENSION7 V4.0"
DETECTOR_ID = MEX_HRSC_P2
EVENT_TYPE = "MARS-DUST-VARIABLE-Eo-At"
INSTRUMENT_HOST_ID = MEX
INSTRUMENT_HOST_NAME = "MARS EXPRESS"
INSTRUMENT_ID = HRSC
INSTRUMENT_NAME = "HIGH RESOLUTION STEREO CAMERA"
MISSION_NAME = "MARS EXPRESS"
MISSION_PHASE_NAME = ME_Phase_41
PROCESSING_LEVEL_ID = 4
PRODUCT_CREATION_TIME = 2023-01-26T14:38:39.000Z
PRODUCT_ID = "HJ956_0000_P24.TIF"
RELEASE_ID = 0002
REVISION_ID = 0000
/* QUALITY DATA ELEMENTS */
DATA_QUALITY_ID = 1
DATA_QUALITY_DESC = "Data calculated based on original SPICE kernels"
/* TIME DATA ELEMENTS */
SPACECRAFT_CLOCK_START_COUNT = "1/0519027965.24925"
SPACECRAFT_CLOCK_STOP_COUNT = "1/0519028192.00011"
START_TIME = 2019-10-13T06:27:33.470Z
STOP_TIME = 2019-10-13T06:30:09.587Z
/* ORBITAL DATA ELEMENTS */
ASCENDING_NODE_LONGITUDE = 200.32
MAXIMUM_RESOLUTION = 0.0616
FOOTPRINT_POINT_LATITUDE = (39.6404,39.6367,39.6312,39.6275, 39.6236,39.6182,39.6179,39.6667,39.4843 ,39.302,39.1197,38.9375,38.7554,38.4823 ,38.3002,37.9364,37.6636,37.3002,36.937 ,36.4834,36.1209,35.7587,35.3967, 35.1956,34.9799,34.6565,34.4411,34.2259 ,34.0107,33.7958,33.5808,33.366,33.1515 ,32.9368,32.7226,32.5084,32.2944, 32.0806,31.8669,31.6533,31.44,31.1201, 30.907,30.6942,30.4815,30.269,30.0566, 29.8445,29.7384,29.7206,29.7226,29.7238 ,29.7245,29.7252,29.7254,29.7254, 29.7264,29.9389,30.2579,30.4707,30.6838 ,30.8969,31.1103,31.3238,31.5375, 31.7513,31.9653,32.1794,32.3939,32.6082 ,32.823,33.0379,33.3605,33.6832,33.8986 ,34.114,34.3296,34.5453,34.7612,34.977, 35.1929,35.397,35.7597,36.1226,36.5767, 36.8493,37.213,37.577,37.7592,38.0326, 38.2148,38.4884,38.6709,38.8534,39.036, 39.2187,39.4014,39.5841,39.6755, 39.6404)
FOOTPRINT_POINT_LONGITUDE = (208.29,207.922,207.478,207.218,206.973 ,206.666,206.651,206.617,206.624,206.63 ,206.637,206.644,206.65,206.659,206.665 ,206.677,206.686,206.697,206.707,206.72 ,206.729,206.738,206.746,206.751, 206.756,206.762,206.767,206.771,206.775 ,206.779,206.782,206.786,206.789, 206.793,206.796,206.799,206.802,206.804 ,206.807,206.809,206.812,206.815, 206.817,206.819,206.821,206.822,206.824 ,206.825,206.826,206.826,207.193, 207.487,207.708,208.061,208.384,208.399 ,208.404,208.403,208.401,208.399, 208.398,208.397,208.395,208.394,208.392 ,208.391,208.389,208.388,208.387, 208.385,208.383,208.382,208.38,208.377, 208.375,208.374,208.372,208.37,208.368, 208.367,208.365,208.363,208.36,208.356, 208.352,208.349,208.346,208.342,208.34, 208.337,208.335,208.332,208.33,208.328, 208.326,208.324,208.322,208.32,208.318, 208.29)
ORBIT_NUMBER = 19956
ORBITAL_ECCENTRICITY = 0.573
ORBITAL_INCLINATION = 86.99
ORBITAL_SEMIMAJOR_AXIS = 8809.56
PERIAPSIS_ALTITUDE = 369.38
PERIAPSIS_ARGUMENT_ANGLE = 141.89
PERIAPSIS_TIME = 2019-10-13T06:27:36.000Z
SPACECRAFT_ORIENTATION = (0.0,-1.0,0.0)
^MEX_ORIENTATION_DESC = "MEX_ORIENTATION_DESC.TXT"
SPACECRAFT_POINTING_MODE = NADIR
^MEX_POINTING_DESC = "MEX_POINTING_DESC.TXT"
RIGHT_ASCENSION = -1e+32
DECLINATION = -1e+32
OFFSET_ANGLE = -1e+32
SPACECRAFT_SOLAR_DISTANCE = 2.47522e+08
TARGET_NAME = MARS
/* CAMERA DATA ELEMENTS */
DETECTOR_TEMPERATURE = 17.9627
FOCAL_PLANE_TEMPERATURE = 7.7677
INST_CMPRS_NAME = "DISCRETE COSINE TRANSFORMATION (DCT)"
INST_CMPRS_RATIO = 6.62558
INST_CMPRS_QUALITY = 0
INST_CMPRS_QUANTZ_TBL_ID = 0
INSTRUMENT_TEMPERATURE = 10.6223
LENS_TEMPERATURE = 8.1755
MACROPIXEL_SIZE = 4
MISSING_FRAMES = 0
PIXEL_SUBSAMPLING_FLAG = N
SIGNAL_CHAIN_ID = 3
/* RADIOMETRIC DATA ELEMENTS */
BANDWIDTH = 177.0
CENTER_FILTER_WAVELENGTH = 676.5
RADIANCE_OFFSET = 3.68922
RADIANCE_SCALING_FACTOR = 0.0143348
REFLECTANCE_SCALING_FACTOR = 0.000465666
MEX:REFLECTANCE_OFFSET = 0.119844
/* IMAGE OBJECT DEFINITIONS */
OBJECT = IMAGE
  INTERCHANGE_FORMAT = BINARY
  LINES = 11831
  LINE_SAMPLES = 1667
  SAMPLE_TYPE = UNSIGNED_INTEGER
  SAMPLE_BITS = 8
  BANDS = 1
  BAND_STORAGE_TYPE = BAND_SEQUENTIAL
  MAXIMUM = 255
  MEAN = 145.025
  MINIMUM = 1
  STANDARD_DEVIATION = 11.326
END_OBJECT = IMAGE
/* MAP OBJECT DEFINITIONS */
OBJECT = IMAGE_MAP_PROJECTION
  ^DATA_SET_MAP_PROJECTION_CATALOG= "DSMAP.CAT"
  A_AXIS_RADIUS = 3396.0
  B_AXIS_RADIUS = 3396.0
  C_AXIS_RADIUS = 3396.0
  CENTER_LATITUDE = 0.0
  CENTER_LONGITUDE = 208.0
  COORDINATE_SYSTEM_NAME = PLANETOGRAPHIC
  COORDINATE_SYSTEM_TYPE = "BODY-FIXED ROTATING"
  EASTERNMOST_LONGITUDE = 208.404
  FIRST_STANDARD_PARALLEL = "N/A"
  LINE_FIRST_PIXEL = 1
  LINE_LAST_PIXEL = 11831
  LINE_PROJECTION_OFFSET = 47038.125
  MAP_PROJECTION_ROTATION = 0.0
  MAP_PROJECTION_TYPE = SINUSOIDAL
  MAP_RESOLUTION = 1185.42760773333
  MAP_SCALE = 0.05
  MAXIMUM_LATITUDE = 39.6755
  MINIMUM_LATITUDE = 29.7206
  POSITIVE_LONGITUDE_DIRECTION = EAST
  REFERENCE_LATITUDE = "N/A"
  REFERENCE_LONGITUDE = "N/A"
  SAMPLE_FIRST_PIXEL = 1
  SAMPLE_LAST_PIXEL = 1667
  SAMPLE_PROJECTION_OFFSET = 1265.625
  SECOND_STANDARD_PARALLEL = "N/A"
  WESTERNMOST_LONGITUDE = 206.617
END_OBJECT = IMAGE_MAP_PROJECTION
END
