PDS_VERSION_ID = PDS3
/* FILE DATA ELEMENTS */
RECORD_TYPE = UNDEFINED
/* POINTERS TO DATA OBJECTS */
^IMAGE = ("HJ953_0000_IR4.TIF")
/* IDENTIFICATION DATA ELEMENTS */
DATA_SET_ID = "MEX-M-HRSC-4-REFDR-MAPPROJECT-EXT7-V4.0"
DATA_SET_NAME = "MARS EXPRESS HRSC MAP PROJECTED REFDR EXTENSION7 V4.0"
DETECTOR_ID = MEX_HRSC_IR
EVENT_TYPE = "MARS-GLOBAL-VARIABLE-Gl-Eo-Ts"
INSTRUMENT_HOST_ID = MEX
INSTRUMENT_HOST_NAME = "MARS EXPRESS"
INSTRUMENT_ID = HRSC
INSTRUMENT_NAME = "HIGH RESOLUTION STEREO CAMERA"
MISSION_NAME = "MARS EXPRESS"
MISSION_PHASE_NAME = ME_Phase_41
PROCESSING_LEVEL_ID = 4
PRODUCT_CREATION_TIME = 2023-01-26T14:38:39.000Z
PRODUCT_ID = "HJ953_0000_IR4.TIF"
RELEASE_ID = 0002
REVISION_ID = 0000
/* QUALITY DATA ELEMENTS */
DATA_QUALITY_ID = 1
DATA_QUALITY_DESC = "Data calculated based on original SPICE kernels"
/* TIME DATA ELEMENTS */
SPACECRAFT_CLOCK_START_COUNT = "1/0518951058.23966"
SPACECRAFT_CLOCK_STOP_COUNT = "1/0518951608.36039"
START_TIME = 2019-10-12T09:05:29.506Z
STOP_TIME = 2019-10-12T09:09:39.015Z
/* ORBITAL DATA ELEMENTS */
ASCENDING_NODE_LONGITUDE = 200.37
MAXIMUM_RESOLUTION = 0.253
FOOTPRINT_POINT_LATITUDE = (70.9786,70.9661,70.9433,70.9102, 70.8669,70.8135,70.7502,70.6771,70.5943 ,70.5019,70.3998,70.2882,70.1671, 70.0024,69.9852,70.0575,70.4613,70.7267 ,70.9902,71.2519,71.5118,71.77,72.0259, 72.2802,72.5325,72.7833,73.0322,73.2791 ,73.5244,73.7678,74.2495,74.7238, 75.1912,75.6512,76.1046,76.5502,76.9885 ,77.4193,77.8422,78.2575,78.6644, 78.9662,79.2576,79.6456,79.9261,80.2971 ,80.7443,81.0918,81.1767,81.1825, 81.6485,81.8813,82.1008,82.306,82.4501, 82.6068,82.7697,82.9314,83.0106,83.1082 ,83.1897,83.2379,83.2964,83.3218, 83.3256,83.323,82.8864,82.4468,82.0039, 81.5572,81.1067,80.5419,79.8484,79.3884 ,78.9163,78.4409,77.9604,77.4747, 76.9836,76.4881,75.9873,75.4815,75.2263 ,74.9699,74.7123,74.453,74.1925,73.9304 ,73.6667,73.4017,73.1353,72.8675, 72.5975,72.3261,72.0536,71.7792,71.5032 ,71.2256,71.0861,70.9786)
FOOTPRINT_POINT_LONGITUDE = (341.329,342.787,344.238,345.682, 347.119,348.549,349.969,351.38,352.78, 354.169,355.546,356.913,358.268,359.944 ,360.111,360.39,360.696,360.902,361.113 ,361.329,361.552,361.781,362.015, 362.255,362.502,362.755,363.015,363.283 ,363.557,363.839,364.427,365.048, 365.705,366.4,367.138,367.919,368.749, 369.63,370.566,371.563,372.625,373.479, 374.339,375.603,376.574,377.989,379.876 ,381.521,381.949,381.979,377.899, 375.545,373.07,370.469,368.433,365.965, 363.023,359.565,357.58,354.73,351.806, 349.676,346.208,344.009,343.568,343.418 ,343.183,342.973,342.786,342.619, 342.468,342.291,342.12,342.004,341.911, 341.825,341.746,341.675,341.61,341.549, 341.494,341.443,341.419,341.396,341.374 ,341.353,341.333,341.314,341.295, 341.277,341.26,341.244,341.228,341.214, 341.199,341.185,341.172,341.159,341.153 ,341.329)
ORBIT_NUMBER = 19953
ORBITAL_ECCENTRICITY = 0.573
ORBITAL_INCLINATION = 86.98
ORBITAL_SEMIMAJOR_AXIS = 8811.16
PERIAPSIS_ALTITUDE = 369.88
PERIAPSIS_ARGUMENT_ANGLE = 142.43
PERIAPSIS_TIME = 2019-10-12T09:30:48.000Z
SPACECRAFT_ORIENTATION = (0.0,-1.0,0.0)
^MEX_ORIENTATION_DESC = "MEX_ORIENTATION_DESC.TXT"
SPACECRAFT_POINTING_MODE = INERT
^MEX_POINTING_DESC = "MEX_POINTING_DESC.TXT"
RIGHT_ASCENSION = 115.615
DECLINATION = -41.212
OFFSET_ANGLE = -1e+32
SPACECRAFT_SOLAR_DISTANCE = 2.47583e+08
TARGET_NAME = MARS
/* CAMERA DATA ELEMENTS */
DETECTOR_TEMPERATURE = 16.9432
FOCAL_PLANE_TEMPERATURE = 7.156
INST_CMPRS_NAME = "DISCRETE COSINE TRANSFORMATION (DCT)"
INST_CMPRS_RATIO = 14.0176
INST_CMPRS_QUALITY = 0
INST_CMPRS_QUANTZ_TBL_ID = 0
INSTRUMENT_TEMPERATURE = 10.8262
LENS_TEMPERATURE = 7.9716
MACROPIXEL_SIZE = 4
MISSING_FRAMES = 0
PIXEL_SUBSAMPLING_FLAG = N
SIGNAL_CHAIN_ID = 2
/* RADIOMETRIC DATA ELEMENTS */
BANDWIDTH = 81.0
CENTER_FILTER_WAVELENGTH = 955.5
RADIANCE_OFFSET = 0.308516
RADIANCE_SCALING_FACTOR = 0.00375059
REFLECTANCE_SCALING_FACTOR = 0.000495989
MEX:REFLECTANCE_OFFSET = 0.0407991
/* IMAGE OBJECT DEFINITIONS */
OBJECT = IMAGE
  INTERCHANGE_FORMAT = BINARY
  LINES = 3901
  LINE_SAMPLES = 2359
  SAMPLE_TYPE = UNSIGNED_INTEGER
  SAMPLE_BITS = 8
  BANDS = 1
  BAND_STORAGE_TYPE = BAND_SEQUENTIAL
  MAXIMUM = 255
  MEAN = 144.086
  MINIMUM = 1
  STANDARD_DEVIATION = 90.7314
END_OBJECT = IMAGE
/* MAP OBJECT DEFINITIONS */
OBJECT = IMAGE_MAP_PROJECTION
  ^DATA_SET_MAP_PROJECTION_CATALOG= "DSMAP.CAT"
  A_AXIS_RADIUS = 3396.0
  B_AXIS_RADIUS = 3396.0
  C_AXIS_RADIUS = 3396.0
  CENTER_LATITUDE = 0.0
  CENTER_LONGITUDE = 355.0
  COORDINATE_SYSTEM_NAME = PLANETOGRAPHIC
  COORDINATE_SYSTEM_TYPE = "BODY-FIXED ROTATING"
  EASTERNMOST_LONGITUDE = 21.979
  FIRST_STANDARD_PARALLEL = "N/A"
  LINE_FIRST_PIXEL = 1
  LINE_LAST_PIXEL = 3901
  LINE_PROJECTION_OFFSET = 24686.625
  MAP_PROJECTION_ROTATION = 0.0
  MAP_PROJECTION_TYPE = SINUSOIDAL
  MAP_RESOLUTION = 296.356901933333
  MAP_SCALE = 0.2
  MAXIMUM_LATITUDE = 83.32559999999999
  MINIMUM_LATITUDE = 69.98520000000001
  POSITIVE_LONGITUDE_DIRECTION = EAST
  REFERENCE_LATITUDE = "N/A"
  REFERENCE_LONGITUDE = "N/A"
  SAMPLE_FIRST_PIXEL = 1
  SAMPLE_LAST_PIXEL = 2359
  SAMPLE_PROJECTION_OFFSET = 1283.625
  SECOND_STANDARD_PARALLEL = "N/A"
  WESTERNMOST_LONGITUDE = -18.847
END_OBJECT = IMAGE_MAP_PROJECTION
END
