PDS_VERSION_ID = PDS3
/* FILE DATA ELEMENTS */
RECORD_TYPE = UNDEFINED
/* POINTERS TO DATA OBJECTS */
^IMAGE = ("HJ942_0000_S14.TIF")
/* IDENTIFICATION DATA ELEMENTS */
DATA_SET_ID = "MEX-M-HRSC-4-REFDR-MAPPROJECT-EXT7-V4.0"
DATA_SET_NAME = "MARS EXPRESS HRSC MAP PROJECTED REFDR EXTENSION7 V4.0"
DETECTOR_ID = MEX_HRSC_S1
EVENT_TYPE = "MARS-DUST-VARIABLE-Eo-At"
INSTRUMENT_HOST_ID = MEX
INSTRUMENT_HOST_NAME = "MARS EXPRESS"
INSTRUMENT_ID = HRSC
INSTRUMENT_NAME = "HIGH RESOLUTION STEREO CAMERA"
MISSION_NAME = "MARS EXPRESS"
MISSION_PHASE_NAME = ME_Phase_41
PROCESSING_LEVEL_ID = 4
PRODUCT_CREATION_TIME = 2023-01-26T14:38:39.000Z
PRODUCT_ID = "HJ942_0000_S14.TIF"
RELEASE_ID = 0002
REVISION_ID = 0000
/* QUALITY DATA ELEMENTS */
DATA_QUALITY_ID = 1
DATA_QUALITY_DESC = "Data calculated based on original SPICE kernels"
/* TIME DATA ELEMENTS */
SPACECRAFT_CLOCK_START_COUNT = "1/0518675983.25687"
SPACECRAFT_CLOCK_STOP_COUNT = "1/0518676209.16731"
START_TIME = 2019-10-09T04:40:15.486Z
STOP_TIME = 2019-10-09T04:42:51.462Z
/* ORBITAL DATA ELEMENTS */
ASCENDING_NODE_LONGITUDE = 200.58
MAXIMUM_RESOLUTION = 0.0316
FOOTPRINT_POINT_LATITUDE = (39.8256,39.8226,39.8194,39.8138, 39.8087,39.7972,39.7967,39.7195,39.3854 ,39.0511,38.7163,38.4926,38.2688, 37.9328,37.5965,37.3721,37.1474,36.9226 ,36.6009,36.129,35.7508,35.4669,35.088, 34.8983,34.6138,34.4239,34.2339,34.0438 ,33.8538,33.6635,33.4731,33.2826, 33.0921,32.9015,32.7107,32.4245,32.2335 ,32.0424,31.8512,31.6601,31.4688, 31.2774,30.9903,30.7987,30.6071,30.3197 ,30.1279,29.8401,29.7442,29.7416, 29.7447,29.7484,29.7502,29.752,29.7521, 29.752,29.7525,30.0408,30.2329,30.5209, 30.7129,30.9048,31.1923,31.384,31.5757, 31.8629,32.0544,32.2458,32.4369,32.6282 ,32.8193,33.0104,33.2966,33.4875, 33.6783,33.8688,34.0594,34.2498,34.4402 ,34.7254,34.9156,35.2008,35.3904, 35.5802,35.7698,35.9593,36.2432,36.6216 ,36.9437,37.169,37.5067,37.844,38.1808, 38.4051,38.6292,38.9652,39.3007,39.6357 ,39.7473,39.8256)
FOOTPRINT_POINT_LONGITUDE = (198.04,197.713,197.451,197.108,196.847 ,196.373,196.357,196.325,196.339, 196.354,196.368,196.377,196.386,196.398 ,196.411,196.419,196.427,196.435, 196.445,196.46,196.472,196.48,196.491, 196.496,196.503,196.508,196.513,196.517 ,196.522,196.526,196.531,196.535, 196.539,196.543,196.546,196.552,196.556 ,196.559,196.562,196.566,196.569, 196.572,196.576,196.579,196.581,196.585 ,196.588,196.591,196.592,196.592, 196.811,197.133,197.353,197.777,198.084 ,198.099,198.104,198.104,198.104, 198.103,198.103,198.103,198.102,198.102 ,198.101,198.101,198.1,198.1,198.1, 198.099,198.099,198.098,198.098,198.097 ,198.096,198.096,198.095,198.095, 198.094,198.093,198.093,198.092,198.091 ,198.091,198.09,198.089,198.088,198.087 ,198.085,198.084,198.083,198.081,198.08 ,198.079,198.078,198.076,198.074, 198.072,198.071,198.04)
ORBIT_NUMBER = 19942
ORBITAL_ECCENTRICITY = 0.574
ORBITAL_INCLINATION = 86.99
ORBITAL_SEMIMAJOR_AXIS = 8811.79
PERIAPSIS_ALTITUDE = 368.12
PERIAPSIS_ARGUMENT_ANGLE = 144.31
PERIAPSIS_TIME = 2019-10-09T04:41:54.000Z
SPACECRAFT_ORIENTATION = (0.0,-1.0,0.0)
^MEX_ORIENTATION_DESC = "MEX_ORIENTATION_DESC.TXT"
SPACECRAFT_POINTING_MODE = NADIR
^MEX_POINTING_DESC = "MEX_POINTING_DESC.TXT"
RIGHT_ASCENSION = -1e+32
DECLINATION = -1e+32
OFFSET_ANGLE = -1e+32
SPACECRAFT_SOLAR_DISTANCE = 2.47797e+08
TARGET_NAME = MARS
/* CAMERA DATA ELEMENTS */
DETECTOR_TEMPERATURE = 17.351
FOCAL_PLANE_TEMPERATURE = 8.3794
INST_CMPRS_NAME = "DISCRETE COSINE TRANSFORMATION (DCT)"
INST_CMPRS_RATIO = 7.64446
INST_CMPRS_QUALITY = 0
INST_CMPRS_QUANTZ_TBL_ID = 0
INSTRUMENT_TEMPERATURE = 9.6028
LENS_TEMPERATURE = 8.5833
MACROPIXEL_SIZE = 2
MISSING_FRAMES = 0
PIXEL_SUBSAMPLING_FLAG = N
SIGNAL_CHAIN_ID = 1
/* RADIOMETRIC DATA ELEMENTS */
BANDWIDTH = 180.0
CENTER_FILTER_WAVELENGTH = 677.0
RADIANCE_OFFSET = 3.75088
RADIANCE_SCALING_FACTOR = 0.0136255
REFLECTANCE_SCALING_FACTOR = 0.000436504
MEX:REFLECTANCE_OFFSET = 0.120163
/* IMAGE OBJECT DEFINITIONS */
OBJECT = IMAGE
  INTERCHANGE_FORMAT = BINARY
  LINES = 23692
  LINE_SAMPLES = 3493
  SAMPLE_TYPE = UNSIGNED_INTEGER
  SAMPLE_BITS = 8
  BANDS = 1
  BAND_STORAGE_TYPE = BAND_SEQUENTIAL
  MAXIMUM = 255
  MEAN = 137.378
  MINIMUM = 1
  STANDARD_DEVIATION = 35.2593
END_OBJECT = IMAGE
/* MAP OBJECT DEFINITIONS */
OBJECT = IMAGE_MAP_PROJECTION
  ^DATA_SET_MAP_PROJECTION_CATALOG= "DSMAP.CAT"
  A_AXIS_RADIUS = 3396.0
  B_AXIS_RADIUS = 3396.0
  C_AXIS_RADIUS = 3396.0
  CENTER_LATITUDE = 0.0
  CENTER_LONGITUDE = 197.0
  COORDINATE_SYSTEM_NAME = PLANETOGRAPHIC
  COORDINATE_SYSTEM_TYPE = "BODY-FIXED ROTATING"
  EASTERNMOST_LONGITUDE = 198.104
  FIRST_STANDARD_PARALLEL = "N/A"
  LINE_FIRST_PIXEL = 1
  LINE_LAST_PIXEL = 23692
  LINE_PROJECTION_OFFSET = 94290.25
  MAP_PROJECTION_ROTATION = 0.0
  MAP_PROJECTION_TYPE = SINUSOIDAL
  MAP_RESOLUTION = 2370.85521546667
  MAP_SCALE = 0.025
  MAXIMUM_LATITUDE = 39.8256
  MINIMUM_LATITUDE = 29.7416
  POSITIVE_LONGITUDE_DIRECTION = EAST
  REFERENCE_LATITUDE = "N/A"
  REFERENCE_LONGITUDE = "N/A"
  SAMPLE_FIRST_PIXEL = 1
  SAMPLE_LAST_PIXEL = 3493
  SAMPLE_PROJECTION_OFFSET = 1215.75
  SECOND_STANDARD_PARALLEL = "N/A"
  WESTERNMOST_LONGITUDE = 196.325
END_OBJECT = IMAGE_MAP_PROJECTION
END
