PDS_VERSION_ID = PDS3
/* FILE DATA ELEMENTS */
RECORD_TYPE = UNDEFINED
/* POINTERS TO DATA OBJECTS */
^IMAGE = ("HJ942_0000_IR4.TIF")
/* IDENTIFICATION DATA ELEMENTS */
DATA_SET_ID = "MEX-M-HRSC-4-REFDR-MAPPROJECT-EXT7-V4.0"
DATA_SET_NAME = "MARS EXPRESS HRSC MAP PROJECTED REFDR EXTENSION7 V4.0"
DETECTOR_ID = MEX_HRSC_IR
EVENT_TYPE = "MARS-DUST-VARIABLE-Eo-At"
INSTRUMENT_HOST_ID = MEX
INSTRUMENT_HOST_NAME = "MARS EXPRESS"
INSTRUMENT_ID = HRSC
INSTRUMENT_NAME = "HIGH RESOLUTION STEREO CAMERA"
MISSION_NAME = "MARS EXPRESS"
MISSION_PHASE_NAME = ME_Phase_41
PROCESSING_LEVEL_ID = 4
PRODUCT_CREATION_TIME = 2023-01-26T14:38:39.000Z
PRODUCT_ID = "HJ942_0000_IR4.TIF"
RELEASE_ID = 0002
REVISION_ID = 0000
/* QUALITY DATA ELEMENTS */
DATA_QUALITY_ID = 1
DATA_QUALITY_DESC = "Data calculated based on original SPICE kernels"
/* TIME DATA ELEMENTS */
SPACECRAFT_CLOCK_START_COUNT = "1/0518675983.25687"
SPACECRAFT_CLOCK_STOP_COUNT = "1/0518676209.16731"
START_TIME = 2019-10-09T04:40:21.671Z
STOP_TIME = 2019-10-09T04:42:57.007Z
/* ORBITAL DATA ELEMENTS */
ASCENDING_NODE_LONGITUDE = 200.58
MAXIMUM_RESOLUTION = 0.0621
FOOTPRINT_POINT_LATITUDE = (39.8,39.7935,39.7883,39.7835,39.7725, 39.772,39.7077,39.484,39.1483,38.8122, 38.4757,38.1387,37.8015,37.4638,37.2387 ,37.0198,36.6418,36.2633,35.8845, 35.5052,35.3155,35.1256,34.9356,34.7455 ,34.5555,34.3652,34.1749,33.9845, 33.7942,33.6036,33.413,33.127,32.9362, 32.7453,32.5544,32.3635,32.1723,31.9811 ,31.6944,31.5031,31.3117,31.1203, 30.9289,30.7374,30.5458,30.2585,30.0668 ,29.8751,29.7792,29.7536,29.7574,29.761 ,29.7625,29.7634,29.7634,29.7642, 29.9562,30.1483,30.3403,30.628,30.8199, 31.0117,31.2033,31.395,31.5867,31.7783, 32.0654,32.2569,32.4483,32.7351,32.9264 ,33.1175,33.3085,33.4995,33.6905, 33.8814,34.1674,34.3581,34.5487,34.7391 ,34.9296,35.1201,35.3104,35.5004, 35.6905,35.8805,36.2601,36.6394,37.0183 ,37.2329,37.4586,37.7971,38.0225, 38.2478,38.5853,38.9226,39.2595,39.596, 39.708,39.8)
FOOTPRINT_POINT_LONGITUDE = (198.035,197.426,197.097,196.848, 196.379,196.363,196.332,196.342,196.356 ,196.37,196.384,196.397,196.409,196.421 ,196.429,196.437,196.449,196.461, 196.473,196.484,196.489,196.494,196.499 ,196.504,196.509,196.514,196.519, 196.523,196.527,196.532,196.536,196.542 ,196.546,196.55,196.553,196.557,196.56, 196.564,196.568,196.571,196.574,196.577 ,196.58,196.583,196.585,196.589,196.591 ,196.594,196.595,196.595,196.889, 197.269,197.508,198.085,198.099,198.103 ,198.103,198.103,198.102,198.102, 198.101,198.101,198.101,198.1,198.1, 198.099,198.099,198.098,198.098,198.097 ,198.096,198.096,198.095,198.095, 198.094,198.094,198.093,198.092,198.091 ,198.091,198.09,198.089,198.088,198.088 ,198.087,198.086,198.085,198.083, 198.081,198.08,198.079,198.077,198.076, 198.075,198.073,198.071,198.069,198.067 ,198.067,198.035)
ORBIT_NUMBER = 19942
ORBITAL_ECCENTRICITY = 0.574
ORBITAL_INCLINATION = 86.99
ORBITAL_SEMIMAJOR_AXIS = 8811.79
PERIAPSIS_ALTITUDE = 368.12
PERIAPSIS_ARGUMENT_ANGLE = 144.31
PERIAPSIS_TIME = 2019-10-09T04:41:54.000Z
SPACECRAFT_ORIENTATION = (0.0,-1.0,0.0)
^MEX_ORIENTATION_DESC = "MEX_ORIENTATION_DESC.TXT"
SPACECRAFT_POINTING_MODE = NADIR
^MEX_POINTING_DESC = "MEX_POINTING_DESC.TXT"
RIGHT_ASCENSION = -1e+32
DECLINATION = -1e+32
OFFSET_ANGLE = -1e+32
SPACECRAFT_SOLAR_DISTANCE = 2.47797e+08
TARGET_NAME = MARS
/* CAMERA DATA ELEMENTS */
DETECTOR_TEMPERATURE = 17.351
FOCAL_PLANE_TEMPERATURE = 8.3794
INST_CMPRS_NAME = "DISCRETE COSINE TRANSFORMATION (DCT)"
INST_CMPRS_RATIO = 8.68451
INST_CMPRS_QUALITY = 0
INST_CMPRS_QUANTZ_TBL_ID = 0
INSTRUMENT_TEMPERATURE = 9.6028
LENS_TEMPERATURE = 8.5833
MACROPIXEL_SIZE = 4
MISSING_FRAMES = 0
PIXEL_SUBSAMPLING_FLAG = N
SIGNAL_CHAIN_ID = 2
/* RADIOMETRIC DATA ELEMENTS */
BANDWIDTH = 81.0
CENTER_FILTER_WAVELENGTH = 955.5
RADIANCE_OFFSET = 0.78366
RADIANCE_SCALING_FACTOR = 0.00430245
REFLECTANCE_SCALING_FACTOR = 0.000569948
MEX:REFLECTANCE_OFFSET = 0.103812
/* IMAGE OBJECT DEFINITIONS */
OBJECT = IMAGE
  INTERCHANGE_FORMAT = BINARY
  LINES = 11846
  LINE_SAMPLES = 1747
  SAMPLE_TYPE = UNSIGNED_INTEGER
  SAMPLE_BITS = 8
  BANDS = 1
  BAND_STORAGE_TYPE = BAND_SEQUENTIAL
  MAXIMUM = 255
  MEAN = 139.204
  MINIMUM = 1
  STANDARD_DEVIATION = 37.5848
END_OBJECT = IMAGE
/* MAP OBJECT DEFINITIONS */
OBJECT = IMAGE_MAP_PROJECTION
  ^DATA_SET_MAP_PROJECTION_CATALOG= "DSMAP.CAT"
  A_AXIS_RADIUS = 3396.0
  B_AXIS_RADIUS = 3396.0
  C_AXIS_RADIUS = 3396.0
  CENTER_LATITUDE = 0.0
  CENTER_LONGITUDE = 197.0
  COORDINATE_SYSTEM_NAME = PLANETOGRAPHIC
  COORDINATE_SYSTEM_TYPE = "BODY-FIXED ROTATING"
  EASTERNMOST_LONGITUDE = 198.103
  FIRST_STANDARD_PARALLEL = "N/A"
  LINE_FIRST_PIXEL = 1
  LINE_LAST_PIXEL = 11846
  LINE_PROJECTION_OFFSET = 47144.875
  MAP_PROJECTION_ROTATION = 0.0
  MAP_PROJECTION_TYPE = SINUSOIDAL
  MAP_RESOLUTION = 1185.42760773333
  MAP_SCALE = 0.05
  MAXIMUM_LATITUDE = 39.8
  MINIMUM_LATITUDE = 29.7536
  POSITIVE_LONGITUDE_DIRECTION = EAST
  REFERENCE_LATITUDE = "N/A"
  REFERENCE_LONGITUDE = "N/A"
  SAMPLE_FIRST_PIXEL = 1
  SAMPLE_LAST_PIXEL = 1747
  SAMPLE_PROJECTION_OFFSET = 607.625
  SECOND_STANDARD_PARALLEL = "N/A"
  WESTERNMOST_LONGITUDE = 196.332
END_OBJECT = IMAGE_MAP_PROJECTION
END
