PDS_VERSION_ID = PDS3
/* FILE DATA ELEMENTS */
RECORD_TYPE = UNDEFINED
/* POINTERS TO DATA OBJECTS */
^IMAGE = ("HJ929_0000_S14.TIF")
/* IDENTIFICATION DATA ELEMENTS */
DATA_SET_ID = "MEX-M-HRSC-4-REFDR-MAPPROJECT-EXT7-V4.0"
DATA_SET_NAME = "MARS EXPRESS HRSC MAP PROJECTED REFDR EXTENSION7 V4.0"
DETECTOR_ID = MEX_HRSC_S1
EVENT_TYPE = "MARS-REGIONAL-MAPPING-Im-Fl"
INSTRUMENT_HOST_ID = MEX
INSTRUMENT_HOST_NAME = "MARS EXPRESS"
INSTRUMENT_ID = HRSC
INSTRUMENT_NAME = "HIGH RESOLUTION STEREO CAMERA"
MISSION_NAME = "MARS EXPRESS"
MISSION_PHASE_NAME = ME_Phase_41
PROCESSING_LEVEL_ID = 4
PRODUCT_CREATION_TIME = 2023-01-26T14:38:39.000Z
PRODUCT_ID = "HJ929_0000_S14.TIF"
RELEASE_ID = 0002
REVISION_ID = 0000
/* QUALITY DATA ELEMENTS */
DATA_QUALITY_ID = 1
DATA_QUALITY_DESC = "Data calculated based on original SPICE kernels"
/* TIME DATA ELEMENTS */
SPACECRAFT_CLOCK_START_COUNT = "1/0518349275.25695"
SPACECRAFT_CLOCK_STOP_COUNT = "1/0518349521.38898"
START_TIME = 2019-10-05T09:55:07.441Z
STOP_TIME = 2019-10-05T09:57:57.970Z
/* ORBITAL DATA ELEMENTS */
ASCENDING_NODE_LONGITUDE = 200.82
MAXIMUM_RESOLUTION = 0.0312
FOOTPRINT_POINT_LATITUDE = (31.4464,31.4531,31.4555,31.4555, 31.4555,31.4059,30.8991,30.4942,30.1904 ,29.9865,29.5805,29.3772,29.1739, 28.7688,28.5657,28.3621,28.1581,27.9544 ,27.7504,27.4443,27.2401,27.0369, 26.8322,26.625,26.2196,26.0131,25.8032, 25.4911,25.2579,25.0198,24.7789,24.5336 ,24.2872,24.0414,23.7969,23.5476, 23.3069,23.0609,22.8159,22.5686,22.3218 ,22.0765,21.7082,21.4625,21.0947, 20.8485,20.4794,20.3566,20.3288,20.3261 ,20.3229,20.3157,20.3049,20.3046,20.305 ,20.5505,20.7964,21.1654,21.4119, 21.6581,21.9042,22.2731,22.5189,22.7644 ,23.0107,23.3791,23.6247,23.8703, 24.2382,24.4833,24.7286,24.9736,25.2183 ,25.4566,25.7639,25.9695,26.1741, 26.4812,26.685,26.8929,27.0978,27.3023, 27.6078,27.8119,28.1174,28.321,28.5253, 28.8307,29.0345,29.34,29.5436,29.7475, 29.951,30.1544,30.3575,30.5608,30.8655, 31.2717,31.3731,31.4464)
FOOTPRINT_POINT_LONGITUDE = (85.9665,85.3894,84.9309,84.5029, 84.4887,84.4738,84.4809,84.4862,84.4899 ,84.492,84.4964,84.4983,84.5002,84.5041 ,84.5058,84.5073,84.5086,84.5099, 84.5111,84.5127,84.5136,84.5147,84.5154 ,84.5161,84.5179,84.5179,84.5171, 84.5163,84.5166,84.5178,84.5184,84.518, 84.5172,84.5164,84.5158,84.5141,84.514, 84.5128,84.5116,84.5099,84.5081,84.5066 ,84.504,84.5021,84.4992,84.4969,84.4934 ,84.4922,84.4919,84.7588,84.9845, 85.4233,85.9358,85.9501,85.9553,85.956, 85.9566,85.9575,85.9578,85.9583,85.9588 ,85.9597,85.9603,85.961,85.9614,85.9624 ,85.963,85.9636,85.9647,85.9655,85.9662 ,85.967,85.9679,85.969,85.9701,85.9705, 85.9714,85.9724,85.9736,85.9744,85.975, 85.9757,85.9773,85.9781,85.9796,85.9806 ,85.9812,85.9826,85.9833,85.9845, 85.9852,85.9858,85.9865,85.9872,85.988, 85.9886,85.9896,85.9908,85.9912, 85.9665)
ORBIT_NUMBER = 19929
ORBITAL_ECCENTRICITY = 0.574
ORBITAL_INCLINATION = 86.99
ORBITAL_SEMIMAJOR_AXIS = 8824.38
PERIAPSIS_ALTITUDE = 365.92
PERIAPSIS_ARGUMENT_ANGLE = 146.55
PERIAPSIS_TIME = 2019-10-05T09:55:09.000Z
SPACECRAFT_ORIENTATION = (0.0,-1.0,0.0)
^MEX_ORIENTATION_DESC = "MEX_ORIENTATION_DESC.TXT"
SPACECRAFT_POINTING_MODE = ACROSSTRACK
^MEX_POINTING_DESC = "MEX_POINTING_DESC.TXT"
RIGHT_ASCENSION = -1e+32
DECLINATION = -1e+32
OFFSET_ANGLE = 0.229
SPACECRAFT_SOLAR_DISTANCE = 2.48033e+08
TARGET_NAME = MARS
/* CAMERA DATA ELEMENTS */
DETECTOR_TEMPERATURE = 16.9432
FOCAL_PLANE_TEMPERATURE = 7.7677
INST_CMPRS_NAME = "DISCRETE COSINE TRANSFORMATION (DCT)"
INST_CMPRS_RATIO = 7.42542
INST_CMPRS_QUALITY = 0
INST_CMPRS_QUANTZ_TBL_ID = 0
INSTRUMENT_TEMPERATURE = 11.0301
LENS_TEMPERATURE = 7.5638
MACROPIXEL_SIZE = 2
MISSING_FRAMES = 1
PIXEL_SUBSAMPLING_FLAG = N
SIGNAL_CHAIN_ID = 1
/* RADIOMETRIC DATA ELEMENTS */
BANDWIDTH = 180.0
CENTER_FILTER_WAVELENGTH = 677.0
RADIANCE_OFFSET = 3.02764
RADIANCE_SCALING_FACTOR = 0.0188445
REFLECTANCE_SCALING_FACTOR = 0.000604844
MEX:REFLECTANCE_OFFSET = 0.0971771
/* IMAGE OBJECT DEFINITIONS */
OBJECT = IMAGE
  INTERCHANGE_FORMAT = BINARY
  LINES = 26282
  LINE_SAMPLES = 3336
  SAMPLE_TYPE = UNSIGNED_INTEGER
  SAMPLE_BITS = 8
  BANDS = 1
  BAND_STORAGE_TYPE = BAND_SEQUENTIAL
  MAXIMUM = 255
  MEAN = 124.668
  MINIMUM = 1
  STANDARD_DEVIATION = 15.0022
END_OBJECT = IMAGE
/* MAP OBJECT DEFINITIONS */
OBJECT = IMAGE_MAP_PROJECTION
  ^DATA_SET_MAP_PROJECTION_CATALOG= "DSMAP.CAT"
  A_AXIS_RADIUS = 3396.0
  B_AXIS_RADIUS = 3396.0
  C_AXIS_RADIUS = 3396.0
  CENTER_LATITUDE = 0.0
  CENTER_LONGITUDE = 85.0
  COORDINATE_SYSTEM_NAME = PLANETOGRAPHIC
  COORDINATE_SYSTEM_TYPE = "BODY-FIXED ROTATING"
  EASTERNMOST_LONGITUDE = 85.99120000000001
  FIRST_STANDARD_PARALLEL = "N/A"
  LINE_FIRST_PIXEL = 1
  LINE_LAST_PIXEL = 26282
  LINE_PROJECTION_OFFSET = 74495.25
  MAP_PROJECTION_ROTATION = 0.0
  MAP_PROJECTION_TYPE = SINUSOIDAL
  MAP_RESOLUTION = 2370.85521546667
  MAP_SCALE = 0.025
  MAXIMUM_LATITUDE = 31.4555
  MINIMUM_LATITUDE = 20.3046
  POSITIVE_LONGITUDE_DIRECTION = EAST
  REFERENCE_LATITUDE = "N/A"
  REFERENCE_LONGITUDE = "N/A"
  SAMPLE_FIRST_PIXEL = 1
  SAMPLE_LAST_PIXEL = 3336
  SAMPLE_PROJECTION_OFFSET = 1181.25
  SECOND_STANDARD_PARALLEL = "N/A"
  WESTERNMOST_LONGITUDE = 84.4738
END_OBJECT = IMAGE_MAP_PROJECTION
END
