PDS_VERSION_ID = PDS3
/* FILE DATA ELEMENTS */
RECORD_TYPE = UNDEFINED
/* POINTERS TO DATA OBJECTS */
^IMAGE = ("HJ927_0000_S14.TIF")
/* IDENTIFICATION DATA ELEMENTS */
DATA_SET_ID = "MEX-M-HRSC-4-REFDR-MAPPROJECT-EXT7-V4.0"
DATA_SET_NAME = "MARS EXPRESS HRSC MAP PROJECTED REFDR EXTENSION7 V4.0"
DETECTOR_ID = MEX_HRSC_S1
EVENT_TYPE = "MARS-REGIONAL-STEREO-Te"
INSTRUMENT_HOST_ID = MEX
INSTRUMENT_HOST_NAME = "MARS EXPRESS"
INSTRUMENT_ID = HRSC
INSTRUMENT_NAME = "HIGH RESOLUTION STEREO CAMERA"
MISSION_NAME = "MARS EXPRESS"
MISSION_PHASE_NAME = ME_Phase_41
PROCESSING_LEVEL_ID = 4
PRODUCT_CREATION_TIME = 2023-01-26T14:38:39.000Z
PRODUCT_ID = "HJ927_0000_S14.TIF"
RELEASE_ID = 0002
REVISION_ID = 0000
/* QUALITY DATA ELEMENTS */
DATA_QUALITY_ID = 1
DATA_QUALITY_DESC = "Data calculated based on original SPICE kernels"
/* TIME DATA ELEMENTS */
SPACECRAFT_CLOCK_START_COUNT = "1/0518298867.25715"
SPACECRAFT_CLOCK_STOP_COUNT = "1/0518299026.47962"
START_TIME = 2019-10-04T19:54:59.477Z
STOP_TIME = 2019-10-04T19:56:30.200Z
/* ORBITAL DATA ELEMENTS */
ASCENDING_NODE_LONGITUDE = 200.85
MAXIMUM_RESOLUTION = 0.0313
FOOTPRINT_POINT_LATITUDE = (39.773,39.77,39.7667,39.7645,39.7611, 39.7558,39.7496,39.7439,39.7435,39.7029 ,39.5281,39.353,39.1776,39.0603,38.8843 ,38.7083,38.5911,38.4735,38.2972, 38.1206,38.0029,37.8266,37.7085,37.5905 ,37.472,37.3533,37.175,37.0556,36.9372, 36.8186,36.6399,36.4604,36.3409,36.2224 ,36.103,35.9828,35.8636,35.7436,35.5647 ,35.4455,35.3261,35.1473,35.0301, 34.8302,34.6301,34.4802,34.2795,34.0292 ,33.9789,33.978,33.9825,33.9855,33.9879 ,33.9897,33.9906,33.9911,33.9917, 33.9915,33.992,34.2931,34.544,34.7448, 34.9955,35.1633,35.2827,35.4026,35.5822 ,35.7613,35.9407,36.0603,36.1805, 36.2998,36.4785,36.5975,36.7164,36.8952 ,37.0151,37.134,37.2529,37.3717,37.4904 ,37.6091,37.7276,37.846,37.9646,38.083, 38.2007,38.3191,38.4375,38.5536,38.6711 ,38.7892,38.9076,39.0848,39.2024, 39.3202,39.4969,39.673,39.7316,39.773)
FOOTPRINT_POINT_LONGITUDE = (289.888,289.554,289.288,289.138, 288.938,288.672,288.405,288.189,288.172 ,288.152,288.161,288.169,288.178, 288.183,288.191,288.199,288.204,288.209 ,288.217,288.224,288.229,288.236, 288.241,288.246,288.25,288.254,288.261, 288.265,288.269,288.274,288.28,288.285, 288.289,288.293,288.297,288.301,288.304 ,288.308,288.313,288.317,288.321, 288.326,288.33,288.336,288.341,288.346, 288.351,288.358,288.359,288.359,288.63, 288.826,289.083,289.324,289.49,289.642, 289.899,289.914,289.919,289.919,289.919 ,289.919,289.918,289.918,289.918, 289.917,289.917,289.917,289.916,289.916 ,289.915,289.915,289.914,289.914, 289.914,289.913,289.913,289.912,289.912 ,289.911,289.911,289.911,289.91,289.91, 289.91,289.909,289.909,289.909,289.908, 289.909,289.909,289.908,289.908,289.907 ,289.906,289.906,289.905,289.905, 289.904,289.888)
ORBIT_NUMBER = 19927
ORBITAL_ECCENTRICITY = 0.574
ORBITAL_INCLINATION = 86.98
ORBITAL_SEMIMAJOR_AXIS = 8822.39
PERIAPSIS_ALTITUDE = 366.4
PERIAPSIS_ARGUMENT_ANGLE = 146.93
PERIAPSIS_TIME = 2019-10-04T19:57:18.000Z
SPACECRAFT_ORIENTATION = (0.0,-1.0,0.0)
^MEX_ORIENTATION_DESC = "MEX_ORIENTATION_DESC.TXT"
SPACECRAFT_POINTING_MODE = NADIR
^MEX_POINTING_DESC = "MEX_POINTING_DESC.TXT"
RIGHT_ASCENSION = -1e+32
DECLINATION = -1e+32
OFFSET_ANGLE = -1e+32
SPACECRAFT_SOLAR_DISTANCE = 2.48067e+08
TARGET_NAME = MARS
/* CAMERA DATA ELEMENTS */
DETECTOR_TEMPERATURE = 17.7588
FOCAL_PLANE_TEMPERATURE = 7.5638
INST_CMPRS_NAME = "DISCRETE COSINE TRANSFORMATION (DCT)"
INST_CMPRS_RATIO = 5.18437
INST_CMPRS_QUALITY = 0
INST_CMPRS_QUANTZ_TBL_ID = 0
INSTRUMENT_TEMPERATURE = 11.234
LENS_TEMPERATURE = 8.3794
MACROPIXEL_SIZE = 2
MISSING_FRAMES = 0
PIXEL_SUBSAMPLING_FLAG = N
SIGNAL_CHAIN_ID = 1
/* RADIOMETRIC DATA ELEMENTS */
BANDWIDTH = 180.0
CENTER_FILTER_WAVELENGTH = 677.0
RADIANCE_OFFSET = 2.60587
RADIANCE_SCALING_FACTOR = 0.0270961
REFLECTANCE_SCALING_FACTOR = 0.000869935
MEX:REFLECTANCE_OFFSET = 0.0836629
/* IMAGE OBJECT DEFINITIONS */
OBJECT = IMAGE
  INTERCHANGE_FORMAT = BINARY
  LINES = 13622
  LINE_SAMPLES = 3304
  SAMPLE_TYPE = UNSIGNED_INTEGER
  SAMPLE_BITS = 8
  BANDS = 1
  BAND_STORAGE_TYPE = BAND_SEQUENTIAL
  MAXIMUM = 255
  MEAN = 114.701
  MINIMUM = 1
  STANDARD_DEVIATION = 14.3484
END_OBJECT = IMAGE
/* MAP OBJECT DEFINITIONS */
OBJECT = IMAGE_MAP_PROJECTION
  ^DATA_SET_MAP_PROJECTION_CATALOG= "DSMAP.CAT"
  A_AXIS_RADIUS = 3396.0
  B_AXIS_RADIUS = 3396.0
  C_AXIS_RADIUS = 3396.0
  CENTER_LATITUDE = 0.0
  CENTER_LONGITUDE = 289.0
  COORDINATE_SYSTEM_NAME = PLANETOGRAPHIC
  COORDINATE_SYSTEM_TYPE = "BODY-FIXED ROTATING"
  EASTERNMOST_LONGITUDE = 289.919
  FIRST_STANDARD_PARALLEL = "N/A"
  LINE_FIRST_PIXEL = 1
  LINE_LAST_PIXEL = 13622
  LINE_PROJECTION_OFFSET = 94168.25
  MAP_PROJECTION_ROTATION = 0.0
  MAP_PROJECTION_TYPE = SINUSOIDAL
  MAP_RESOLUTION = 2370.85521546667
  MAP_SCALE = 0.025
  MAXIMUM_LATITUDE = 39.773
  MINIMUM_LATITUDE = 33.978
  POSITIVE_LONGITUDE_DIRECTION = EAST
  REFERENCE_LATITUDE = "N/A"
  REFERENCE_LONGITUDE = "N/A"
  SAMPLE_FIRST_PIXEL = 1
  SAMPLE_LAST_PIXEL = 3304
  SAMPLE_PROJECTION_OFFSET = 1517.75
  SECOND_STANDARD_PARALLEL = "N/A"
  WESTERNMOST_LONGITUDE = 288.152
END_OBJECT = IMAGE_MAP_PROJECTION
END
