PDS_VERSION_ID = PDS3
/* FILE DATA ELEMENTS */
RECORD_TYPE = UNDEFINED
/* POINTERS TO DATA OBJECTS */
^IMAGE = ("HJ916_0000_P14.TIF")
/* IDENTIFICATION DATA ELEMENTS */
DATA_SET_ID = "MEX-M-HRSC-4-REFDR-MAPPROJECT-EXT7-V4.0"
DATA_SET_NAME = "MARS EXPRESS HRSC MAP PROJECTED REFDR EXTENSION7 V4.0"
DETECTOR_ID = MEX_HRSC_P1
EVENT_TYPE = "MARS-REGIONAL-CARTOGRAPHY-Tc-Ot-Ts"
INSTRUMENT_HOST_ID = MEX
INSTRUMENT_HOST_NAME = "MARS EXPRESS"
INSTRUMENT_ID = HRSC
INSTRUMENT_NAME = "HIGH RESOLUTION STEREO CAMERA"
MISSION_NAME = "MARS EXPRESS"
MISSION_PHASE_NAME = ME_Phase_41
PROCESSING_LEVEL_ID = 4
PRODUCT_CREATION_TIME = 2023-01-26T14:38:39.000Z
PRODUCT_ID = "HJ916_0000_P14.TIF"
RELEASE_ID = 0002
REVISION_ID = 0000
/* QUALITY DATA ELEMENTS */
DATA_QUALITY_ID = 1
DATA_QUALITY_DESC = "Data calculated based on original SPICE kernels"
/* TIME DATA ELEMENTS */
SPACECRAFT_CLOCK_START_COUNT = "1/0518022609.25519"
SPACECRAFT_CLOCK_STOP_COUNT = "1/0518022770.25969"
START_TIME = 2019-10-01T15:10:53.343Z
STOP_TIME = 2019-10-01T15:12:14.608Z
/* ORBITAL DATA ELEMENTS */
ASCENDING_NODE_LONGITUDE = 201.06
MAXIMUM_RESOLUTION = 0.0316
FOOTPRINT_POINT_LATITUDE = (20.6189,20.6301,20.6363,20.6423, 20.6482,20.6539,20.6595,20.6649,20.6701 ,20.6802,20.6897,20.6903,20.6645, 20.5084,20.4039,20.2995,20.1951,20.0386 ,19.8822,19.7258,19.6215,19.4652,19.361 ,19.2051,19.049,18.9447,18.7885,18.6843 ,18.5281,18.3722,18.268,18.1115,17.9554 ,17.8512,17.695,17.5909,17.4868,17.3308 ,17.1748,17.0189,16.7593,16.6033, 16.4992,16.3435,16.0839,15.8246,15.6175 ,15.5132,15.4621,15.4142,15.3984, 15.3931,15.3869,15.3834,15.3803,15.3715 ,15.3592,15.3505,15.337,15.3361,15.3363 ,15.6475,15.8552,16.115,16.2712,16.4269 ,16.5311,16.739,16.9467,17.0509,17.2071 ,17.3113,17.4155,17.6235,17.7277, 17.8323,17.9369,18.0411,18.1455,18.2497 ,18.4058,18.51,18.6142,18.7183,18.8745, 18.9788,19.1352,19.2916,19.4482,19.5526 ,19.657,19.7615,19.8658,20.0222,20.1266 ,20.2832,20.3873,20.4917,20.5438, 20.6189)
FOOTPRINT_POINT_LONGITUDE = (334.491,334.286,334.17,334.054,333.939 ,333.825,333.712,333.6,333.488,333.266, 333.048,333.034,333.038,333.036,333.034 ,333.033,333.031,333.029,333.026, 333.024,333.022,333.02,333.018,333.016, 333.013,333.011,333.009,333.007,333.004 ,333.001,332.999,332.997,332.994, 332.992,332.989,332.987,332.985,332.983 ,332.98,332.977,332.971,332.968,332.966 ,332.963,332.958,332.953,332.948, 332.946,332.945,332.944,333.146,333.261 ,333.378,333.494,333.666,333.829, 334.054,334.205,334.45,334.465,334.47, 334.474,334.476,334.478,334.479,334.481 ,334.482,334.484,334.487,334.488, 334.489,334.49,334.491,334.494,334.495, 334.495,334.496,334.497,334.498,334.499 ,334.501,334.502,334.503,334.504, 334.506,334.508,334.509,334.511,334.513 ,334.514,334.515,334.516,334.517, 334.519,334.52,334.522,334.524,334.525, 334.526,334.491)
ORBIT_NUMBER = 19916
ORBITAL_ECCENTRICITY = 0.574
ORBITAL_INCLINATION = 86.99
ORBITAL_SEMIMAJOR_AXIS = 8818.56
PERIAPSIS_ALTITUDE = 365.58
PERIAPSIS_ARGUMENT_ANGLE = 148.81
PERIAPSIS_TIME = 2019-10-01T15:08:33.000Z
SPACECRAFT_ORIENTATION = (0.0,-1.0,0.0)
^MEX_ORIENTATION_DESC = "MEX_ORIENTATION_DESC.TXT"
SPACECRAFT_POINTING_MODE = ACROSSTRACK
^MEX_POINTING_DESC = "MEX_POINTING_DESC.TXT"
RIGHT_ASCENSION = -1e+32
DECLINATION = -1e+32
OFFSET_ANGLE = 1.1
SPACECRAFT_SOLAR_DISTANCE = 2.48247e+08
TARGET_NAME = MARS
/* CAMERA DATA ELEMENTS */
DETECTOR_TEMPERATURE = 16.9432
FOCAL_PLANE_TEMPERATURE = 7.3599
INST_CMPRS_NAME = "DISCRETE COSINE TRANSFORMATION (DCT)"
INST_CMPRS_RATIO = 8.07112
INST_CMPRS_QUALITY = 0
INST_CMPRS_QUANTZ_TBL_ID = 0
INSTRUMENT_TEMPERATURE = 10.8262
LENS_TEMPERATURE = 6.5443
MACROPIXEL_SIZE = 2
MISSING_FRAMES = 0
PIXEL_SUBSAMPLING_FLAG = N
SIGNAL_CHAIN_ID = 3
/* RADIOMETRIC DATA ELEMENTS */
BANDWIDTH = 174.0
CENTER_FILTER_WAVELENGTH = 675.0
RADIANCE_OFFSET = 1.94619
RADIANCE_SCALING_FACTOR = 0.00989347
REFLECTANCE_SCALING_FACTOR = 0.000327946
MEX:REFLECTANCE_OFFSET = 0.0645116
/* IMAGE OBJECT DEFINITIONS */
OBJECT = IMAGE
  INTERCHANGE_FORMAT = BINARY
  LINES = 12493
  LINE_SAMPLES = 3643
  SAMPLE_TYPE = UNSIGNED_INTEGER
  SAMPLE_BITS = 8
  BANDS = 1
  BAND_STORAGE_TYPE = BAND_SEQUENTIAL
  MAXIMUM = 255
  MEAN = 115.561
  MINIMUM = 1
  STANDARD_DEVIATION = 32.3753
END_OBJECT = IMAGE
/* MAP OBJECT DEFINITIONS */
OBJECT = IMAGE_MAP_PROJECTION
  ^DATA_SET_MAP_PROJECTION_CATALOG= "DSMAP.CAT"
  A_AXIS_RADIUS = 3396.0
  B_AXIS_RADIUS = 3396.0
  C_AXIS_RADIUS = 3396.0
  CENTER_LATITUDE = 0.0
  CENTER_LONGITUDE = 334.0
  COORDINATE_SYSTEM_NAME = PLANETOGRAPHIC
  COORDINATE_SYSTEM_TYPE = "BODY-FIXED ROTATING"
  EASTERNMOST_LONGITUDE = 334.526
  FIRST_STANDARD_PARALLEL = "N/A"
  LINE_FIRST_PIXEL = 1
  LINE_LAST_PIXEL = 12493
  LINE_PROJECTION_OFFSET = 48970.25
  MAP_PROJECTION_ROTATION = 0.0
  MAP_PROJECTION_TYPE = SINUSOIDAL
  MAP_RESOLUTION = 2370.85521546667
  MAP_SCALE = 0.025
  MAXIMUM_LATITUDE = 20.6903
  MINIMUM_LATITUDE = 15.3361
  POSITIVE_LONGITUDE_DIRECTION = EAST
  REFERENCE_LATITUDE = "N/A"
  REFERENCE_LONGITUDE = "N/A"
  SAMPLE_FIRST_PIXEL = 1
  SAMPLE_LAST_PIXEL = 3643
  SAMPLE_PROJECTION_OFFSET = 2463.75
  SECOND_STANDARD_PARALLEL = "N/A"
  WESTERNMOST_LONGITUDE = 332.944
END_OBJECT = IMAGE_MAP_PROJECTION
END
