PDS_VERSION_ID = PDS3
/* FILE DATA ELEMENTS */
RECORD_TYPE = UNDEFINED
/* POINTERS TO DATA OBJECTS */
^IMAGE = ("HJ909_0007_SR4.TIF")
/* IDENTIFICATION DATA ELEMENTS */
DATA_SET_ID = "MEX-M-HRSC-4-REFDR-MAPPROJECT-EXT7-V4.0"
DATA_SET_NAME = "MARS EXPRESS HRSC MAP PROJECTED REFDR EXTENSION7 V4.0"
DETECTOR_ID = MEX_HRSC_SRC
EVENT_TYPE = "MARS-LOCAL-CARTOGRAPHY-Vo-Tc-Ot"
INSTRUMENT_HOST_ID = MEX
INSTRUMENT_HOST_NAME = "MARS EXPRESS"
INSTRUMENT_ID = HRSC
INSTRUMENT_NAME = "HIGH RESOLUTION STEREO CAMERA"
MISSION_NAME = "MARS EXPRESS"
MISSION_PHASE_NAME = ME_Phase_41
PROCESSING_LEVEL_ID = 4
PRODUCT_CREATION_TIME = 2023-01-26T14:38:39.000Z
PRODUCT_ID = "HJ909_0007_SR4.TIF"
RELEASE_ID = 0002
REVISION_ID = 0000
/* QUALITY DATA ELEMENTS */
DATA_QUALITY_ID = 1
DATA_QUALITY_DESC = "Data calculated based on original SPICE kernels"
/* TIME DATA ELEMENTS */
SPACECRAFT_CLOCK_START_COUNT = "1/0517846598.23982"
SPACECRAFT_CLOCK_STOP_COUNT = "1/0517846779.30671"
IMAGE_TIME = 2019-09-29T14:18:34.094Z
START_TIME = 2019-09-29T14:18:34.091Z
STOP_TIME = 2019-09-29T14:18:34.096Z
/* ORBITAL DATA ELEMENTS */
ASCENDING_NODE_LONGITUDE = 201.19
MAXIMUM_RESOLUTION = 0.003595
FOOTPRINT_POINT_LATITUDE = (18.9503,18.9535,18.956,18.9586,18.9613 ,18.9653,18.9678,18.9708,18.9738, 18.9775,18.9807,18.9831,18.9852,18.9884 ,18.9913,18.9951,18.9978,18.9999, 19.0024,19.0046,19.0086,19.0114,19.0115 ,19.0115,19.0115,19.0115,19.0115, 19.0115,19.0115,19.0115,19.0115,19.0115 ,19.0115,19.0115,19.0115,19.0115, 19.0115,19.0115,19.0115,19.0115,19.0115 ,19.0115,19.0115,19.0115,19.0115, 19.0115,19.0114,19.0114,19.0114,19.0114 ,19.0114,19.008,19.0053,19.0036,19.001, 18.9975,18.9947,18.9922,18.9896,18.9863 ,18.9837,18.9808,18.9772,18.9747, 18.9707,18.9659,18.9635,18.9607,18.9582 ,18.9542,18.9504,18.9503,18.9503, 18.9503,18.9503,18.9503,18.9503,18.9503 ,18.9503,18.9503,18.9503,18.9503, 18.9503,18.9503,18.9503,18.9503,18.9503 ,18.9503,18.9503,18.9503,18.9503, 18.9503,18.9503,18.9503,18.9503,18.9503 ,18.9503,18.9503,18.9503,18.9503)
FOOTPRINT_POINT_LONGITUDE = (326.714,326.714,326.714,326.714, 326.714,326.714,326.714,326.714,326.714 ,326.714,326.714,326.714,326.714, 326.714,326.714,326.714,326.714,326.714 ,326.714,326.714,326.714,326.714, 326.714,326.714,326.717,326.719,326.722 ,326.724,326.727,326.73,326.732,326.735 ,326.737,326.74,326.743,326.745,326.748 ,326.75,326.753,326.756,326.758,326.761 ,326.763,326.766,326.768,326.771, 326.774,326.776,326.779,326.779,326.78, 326.78,326.78,326.78,326.78,326.78, 326.78,326.78,326.78,326.78,326.78, 326.78,326.78,326.78,326.78,326.78, 326.78,326.78,326.78,326.78,326.78, 326.78,326.78,326.777,326.775,326.772, 326.769,326.767,326.764,326.762,326.759 ,326.757,326.754,326.751,326.749, 326.746,326.744,326.741,326.738,326.736 ,326.733,326.731,326.728,326.725, 326.723,326.72,326.718,326.715,326.714, 326.714)
ORBIT_NUMBER = 19909
ORBITAL_ECCENTRICITY = 0.574
ORBITAL_INCLINATION = 86.99
ORBITAL_SEMIMAJOR_AXIS = 8820.26
PERIAPSIS_ALTITUDE = 364.97
PERIAPSIS_ARGUMENT_ANGLE = 150.02
PERIAPSIS_TIME = 2019-09-29T14:15:44.000Z
SPACECRAFT_ORIENTATION = (0.0,-1.0,0.0)
^MEX_ORIENTATION_DESC = "MEX_ORIENTATION_DESC.TXT"
SPACECRAFT_POINTING_MODE = ACROSSTRACK
^MEX_POINTING_DESC = "MEX_POINTING_DESC.TXT"
RIGHT_ASCENSION = -1e+32
DECLINATION = -1e+32
OFFSET_ANGLE = -0.62
SPACECRAFT_SOLAR_DISTANCE = 2.48354e+08
TARGET_NAME = MARS
/* CAMERA DATA ELEMENTS */
BUFFER_MODE_ID = BUFFER_8
EXPOSURE_DURATION = 5.04
INST_CMPRS_NAME = NONE
INST_CMPRS_RATIO = 1.0
INST_CMPRS_QUALITY = -2147483648
INST_CMPRS_QUANTZ_TBL_ID = -2147483648
INSTRUMENT_TEMPERATURE = 5.95695
MISSING_FRAMES = 0
START_BIT = 0
/* RADIOMETRIC DATA ELEMENTS */
BANDWIDTH = 250.0
CENTER_FILTER_WAVELENGTH = 600.0
RADIANCE_OFFSET = -9.99e+31
RADIANCE_SCALING_FACTOR = -9.99e+31
REFLECTANCE_SCALING_FACTOR = -9.99e+31
MEX:REFLECTANCE_OFFSET = -9.99e+31
/* IMAGE OBJECT DEFINITIONS */
OBJECT = IMAGE
  INTERCHANGE_FORMAT = BINARY
  LINES = 1499
  LINE_SAMPLES = 1525
  SAMPLE_TYPE = UNSIGNED_INTEGER
  SAMPLE_BITS = 8
  BANDS = 1
  BAND_STORAGE_TYPE = BAND_SEQUENTIAL
  MAXIMUM = 253
  MEAN = 127.91
  MINIMUM = 3
  STANDARD_DEVIATION = 20.396
END_OBJECT = IMAGE
/* MAP OBJECT DEFINITIONS */
OBJECT = IMAGE_MAP_PROJECTION
  ^DATA_SET_MAP_PROJECTION_CATALOG= "DSMAP.CAT"
  A_AXIS_RADIUS = 3396.19
  B_AXIS_RADIUS = 3396.19
  C_AXIS_RADIUS = 3396.19
  CENTER_LATITUDE = 0.0
  CENTER_LONGITUDE = 327.0
  COORDINATE_SYSTEM_NAME = PLANETOGRAPHIC
  COORDINATE_SYSTEM_TYPE = "BODY-FIXED ROTATING"
  EASTERNMOST_LONGITUDE = 326.78
  FIRST_STANDARD_PARALLEL = "N/A"
  LINE_FIRST_PIXEL = 1
  LINE_LAST_PIXEL = 1499
  LINE_PROJECTION_OFFSET = 450684.0
  MAP_PROJECTION_ROTATION = 0.0
  MAP_PROJECTION_TYPE = SINUSOIDAL
  MAP_RESOLUTION = 23709.8786048756
  MAP_SCALE = 0.0025
  MAXIMUM_LATITUDE = 19.0115
  MINIMUM_LATITUDE = 18.9503
  POSITIVE_LONGITUDE_DIRECTION = EAST
  REFERENCE_LATITUDE = "N/A"
  REFERENCE_LONGITUDE = "N/A"
  SAMPLE_FIRST_PIXEL = 1
  SAMPLE_LAST_PIXEL = 1525
  SAMPLE_PROJECTION_OFFSET = 6514.0
  SECOND_STANDARD_PARALLEL = "N/A"
  WESTERNMOST_LONGITUDE = 326.714
END_OBJECT = IMAGE_MAP_PROJECTION
END
