PDS_VERSION_ID = PDS3
/* FILE DATA ELEMENTS */
RECORD_TYPE = UNDEFINED
/* POINTERS TO DATA OBJECTS */
^IMAGE = ("HJ886_0000_S14.TIF")
/* IDENTIFICATION DATA ELEMENTS */
DATA_SET_ID = "MEX-M-HRSC-4-REFDR-MAPPROJECT-EXT7-V4.0"
DATA_SET_NAME = "MARS EXPRESS HRSC MAP PROJECTED REFDR EXTENSION7 V4.0"
DETECTOR_ID = MEX_HRSC_S1
EVENT_TYPE = "MARS-REGIONAL-MAPPING-Vo-Te-Im"
INSTRUMENT_HOST_ID = MEX
INSTRUMENT_HOST_NAME = "MARS EXPRESS"
INSTRUMENT_ID = HRSC
INSTRUMENT_NAME = "HIGH RESOLUTION STEREO CAMERA"
MISSION_NAME = "MARS EXPRESS"
MISSION_PHASE_NAME = ME_Phase_41
PROCESSING_LEVEL_ID = 4
PRODUCT_CREATION_TIME = 2023-01-26T14:38:39.000Z
PRODUCT_ID = "HJ886_0000_S14.TIF"
RELEASE_ID = 0002
REVISION_ID = 0000
/* QUALITY DATA ELEMENTS */
DATA_QUALITY_ID = 1
DATA_QUALITY_DESC = "Data calculated based on original SPICE kernels"
/* TIME DATA ELEMENTS */
SPACECRAFT_CLOCK_START_COUNT = "1/0517268214.23946"
SPACECRAFT_CLOCK_STOP_COUNT = "1/0517268413.57880"
START_TIME = 2019-09-22T21:37:26.420Z
STOP_TIME = 2019-09-22T21:39:37.036Z
/* ORBITAL DATA ELEMENTS */
ASCENDING_NODE_LONGITUDE = 201.6
MAXIMUM_RESOLUTION = 0.0155 <m/pixel>
FOOTPRINT_POINT_LATITUDE = (31.8797,31.8988,31.9132,31.9265, 31.9389,31.9505,31.9612,31.9618,31.9123 ,31.7346,31.4731,31.2964,31.1194, 30.9423,30.7656,30.5878,30.4103,30.2325 ,29.9659,29.7876,29.6092,29.4307, 29.2525,29.0738,28.895,28.7161,28.4476, 28.179,27.9999,27.8209,27.5516,27.372, 27.1921,27.0215,26.7199,26.4178,26.1153 ,25.8884,25.5859,25.2075,24.9042, 24.6007,24.4486,24.2965,24.1444,23.9923 ,23.8402,23.6878,23.6117,23.6028, 23.5926,23.5793,23.5626,23.5458,23.534, 23.5112,23.5102,23.5099,23.6622,23.8146 ,23.9669,24.119,24.2711,24.4232,24.5754 ,24.7275,25.0311,25.3341,25.7128, 26.0161,26.3187,26.5452,26.9222,27.1813 ,27.3611,27.5409,27.8104,27.99,28.1695, 28.3484,28.5279,28.7069,28.8857,29.0645 ,29.2432,29.4219,29.6003,29.7784, 29.9566,30.2236,30.4014,30.5789,30.8452 ,31.0226,31.1998,31.3769,31.5539, 31.7307,31.819,31.8797)
FOOTPRINT_POINT_LONGITUDE = (158.149,157.825,157.57,157.317,157.068 ,156.821,156.577,156.562,156.565, 156.567,156.57,156.572,156.573,156.575, 156.577,156.578,156.58,156.582,156.584, 156.585,156.586,156.588,156.589,156.59, 156.591,156.592,156.593,156.594,156.595 ,156.596,156.596,156.597,156.597, 156.598,156.598,156.599,156.599,156.599 ,156.599,156.598,156.598,156.597, 156.597,156.596,156.596,156.595,156.595 ,156.594,156.594,156.594,156.772, 156.995,157.262,157.52,157.693,158.016, 158.031,158.038,158.041,158.043,158.045 ,158.048,158.05,158.053,158.055,158.057 ,158.062,158.068,158.075,158.079, 158.085,158.089,158.096,158.101,158.104 ,158.107,158.112,158.116,158.119, 158.123,158.126,158.129,158.133,158.136 ,158.14,158.143,158.147,158.151,158.154 ,158.16,158.163,158.167,158.173,158.177 ,158.18,158.184,158.188,158.192,158.194 ,158.149)
ORBIT_NUMBER = 19886
ORBITAL_ECCENTRICITY = 0.575
ORBITAL_INCLINATION = 86.98
ORBITAL_SEMIMAJOR_AXIS = 8828.12
PERIAPSIS_ALTITUDE = 363.24
PERIAPSIS_ARGUMENT_ANGLE = 154.04
PERIAPSIS_TIME = 2019-09-22T21:39:34.000Z
SPACECRAFT_ORIENTATION = (0.0,-1.0,0.0)
^MEX_ORIENTATION_DESC = "MEX_ORIENTATION_DESC.TXT"
SPACECRAFT_POINTING_MODE = ACROSSTRACK
^MEX_POINTING_DESC = "MEX_POINTING_DESC.TXT"
RIGHT_ASCENSION = -1e+32
DECLINATION = -1e+32
OFFSET_ANGLE = 1.0
SPACECRAFT_SOLAR_DISTANCE = 2.48663e+08
TARGET_NAME = MARS
/* CAMERA DATA ELEMENTS */
DETECTOR_TEMPERATURE = 17.5549 <degC>
FOCAL_PLANE_TEMPERATURE = 7.9716 <degC>
INST_CMPRS_NAME = "DISCRETE COSINE TRANSFORMATION (DCT)"
INST_CMPRS_RATIO = 6.62138
INST_CMPRS_QUALITY = 0
INST_CMPRS_QUANTZ_TBL_ID = 0
INSTRUMENT_TEMPERATURE = 11.4379 <degC>
LENS_TEMPERATURE = 8.5833 <degC>
MACROPIXEL_SIZE = 1
MISSING_FRAMES = 0
PIXEL_SUBSAMPLING_FLAG = N
SIGNAL_CHAIN_ID = 2
/* RADIOMETRIC DATA ELEMENTS */
BANDWIDTH = 180.0 <nm>
CENTER_FILTER_WAVELENGTH = 677.0 <nm>
RADIANCE_OFFSET = 2.32349 <W*m**-2*sr**-1>
RADIANCE_SCALING_FACTOR = 0.016483 <W*m**-2*sr**-1>
REFLECTANCE_SCALING_FACTOR = 0.000531742
MEX:REFLECTANCE_OFFSET = 0.0749558
/* IMAGE OBJECT DEFINITIONS */
OBJECT = IMAGE
  INTERCHANGE_FORMAT = BINARY
  LINES = 39496
  LINE_SAMPLES = 6489
  SAMPLE_TYPE = UNSIGNED_INTEGER
  SAMPLE_BITS = 8
  BANDS = 1
  BAND_STORAGE_TYPE = BAND_SEQUENTIAL
  MAXIMUM = 255
  MEAN = 103.44
  MINIMUM = 1
  STANDARD_DEVIATION = 13.9296
END_OBJECT = IMAGE
/* MAP OBJECT DEFINITIONS */
OBJECT = IMAGE_MAP_PROJECTION
  ^DATA_SET_MAP_PROJECTION_CATALOG= "DSMAP.CAT"
  A_AXIS_RADIUS = 3396.0 <km>
  B_AXIS_RADIUS = 3396.0 <km>
  C_AXIS_RADIUS = 3396.0 <km>
  CENTER_LATITUDE = 0.0
  CENTER_LONGITUDE = 157.0
  COORDINATE_SYSTEM_NAME = PLANETOGRAPHIC
  COORDINATE_SYSTEM_TYPE = "BODY-FIXED ROTATING"
  EASTERNMOST_LONGITUDE = 158.194
  FIRST_STANDARD_PARALLEL = "N/A"
  LINE_FIRST_PIXEL = 1
  LINE_LAST_PIXEL = 39496
  LINE_PROJECTION_OFFSET = 151209.0
  MAP_PROJECTION_ROTATION = 0.0
  MAP_PROJECTION_TYPE = SINUSOIDAL
  MAP_RESOLUTION = 4741.71043093333 <pixel/degree>
  MAP_SCALE = 0.0125 <km/pixel>
  MAXIMUM_LATITUDE = 31.9618
  MINIMUM_LATITUDE = 23.5099
  POSITIVE_LONGITUDE_DIRECTION = EAST
  REFERENCE_LATITUDE = "N/A"
  REFERENCE_LONGITUDE = "N/A"
  SAMPLE_FIRST_PIXEL = 1
  SAMPLE_LAST_PIXEL = 6489
  SAMPLE_PROJECTION_OFFSET = 1796.0
  SECOND_STANDARD_PARALLEL = "N/A"
  WESTERNMOST_LONGITUDE = 156.562
END_OBJECT = IMAGE_MAP_PROJECTION
END
