PDS_VERSION_ID = PDS3
/* FILE DATA ELEMENTS */
RECORD_TYPE = UNDEFINED
/* POINTERS TO DATA OBJECTS */
^IMAGE = ("HJ848_0000_S14.TIF")
/* IDENTIFICATION DATA ELEMENTS */
DATA_SET_ID = "MEX-M-HRSC-4-REFDR-MAPPROJECT-EXT7-V4.0"
DATA_SET_NAME = "MARS EXPRESS HRSC MAP PROJECTED REFDR EXTENSION7 V4.0"
DETECTOR_ID = MEX_HRSC_S1
EVENT_TYPE = "MARS-LOCAL-CARTOGRAPHY-Fl-Tc-Ot"
INSTRUMENT_HOST_ID = MEX
INSTRUMENT_HOST_NAME = "MARS EXPRESS"
INSTRUMENT_ID = HRSC
INSTRUMENT_NAME = "HIGH RESOLUTION STEREO CAMERA"
MISSION_NAME = "MARS EXPRESS"
MISSION_PHASE_NAME = ME_Phase_41
PROCESSING_LEVEL_ID = 4
PRODUCT_CREATION_TIME = 2023-01-26T14:38:39.000Z
PRODUCT_ID = "HJ848_0000_S14.TIF"
RELEASE_ID = 0002
REVISION_ID = 0000
/* QUALITY DATA ELEMENTS */
DATA_QUALITY_ID = 1
DATA_QUALITY_DESC = "Data calculated based on original SPICE kernels"
/* TIME DATA ELEMENTS */
SPACECRAFT_CLOCK_START_COUNT = "1/0516312975.25680"
SPACECRAFT_CLOCK_STOP_COUNT = "1/0516313147.25567"
START_TIME = 2019-09-11T20:16:47.445Z
STOP_TIME = 2019-09-11T20:18:32.197Z
/* ORBITAL DATA ELEMENTS */
ASCENDING_NODE_LONGITUDE = 202.31
MAXIMUM_RESOLUTION = 0.0153
FOOTPRINT_POINT_LATITUDE = (22.725,22.7356,22.7435,22.7508,22.7575 ,22.7637,22.7692,22.7696,22.7554, 22.5574,22.4251,22.2939,22.0333,21.9011 ,21.6404,21.4422,21.2445,21.1124, 20.9802,20.8477,20.6488,20.5171,20.385, 20.2529,20.1198,19.9866,19.7877,19.6551 ,19.4568,19.2564,19.0577,18.9251, 18.7916,18.5921,18.4585,18.3254,18.1931 ,17.9889,17.856,17.7126,17.4913,17.3457 ,17.1942,16.9713,16.8276,16.6925, 16.5587,16.4262,16.2883,16.0871,16.0204 ,16.0172,16.0114,16.0026,15.9909, 15.9792,15.9694,15.9631,15.9625,15.9624 ,16.0945,16.2299,16.4331,16.6331, 16.7664,16.9091,17.1337,17.288,17.4354, 17.6557,17.8004,17.9361,18.145,18.4047, 18.5358,18.6686,18.8675,19.0668,19.2001 ,19.3343,19.5359,19.6677,19.8654, 20.0673,20.3306,20.5953,20.7937,20.9926 ,21.1252,21.2602,21.521,21.7798,21.9117 ,22.0429,22.241,22.3728,22.5042,22.6355 ,22.7008,22.725)
FOOTPRINT_POINT_LONGITUDE = (78.194,77.9147,77.6929,77.4724,77.2536 ,77.0359,76.8194,76.8059,76.7986, 76.7994,76.7998,76.8003,76.8014,76.8017 ,76.8026,76.803,76.8034,76.8036,76.8038 ,76.8039,76.804,76.8042,76.8042,76.8043 ,76.8042,76.8041,76.804,76.8039,76.8038 ,76.8034,76.8032,76.8029,76.8026, 76.8021,76.8018,76.8014,76.801,76.8004, 76.7999,76.7993,76.7984,76.7978,76.7972 ,76.7962,76.7955,76.7947,76.7939, 76.7933,76.7925,76.7914,76.791,76.791, 76.9453,77.1656,77.4789,77.7299,77.9559 ,78.1028,78.1162,78.1228,78.1251,78.127 ,78.1303,78.1328,78.1344,78.1361, 78.1387,78.1397,78.1407,78.1429,78.1434 ,78.1435,78.1434,78.1502,78.1528, 78.1545,78.1572,78.1596,78.1609,78.1617 ,78.1628,78.1649,78.168,78.1687,78.1729 ,78.1762,78.1787,78.1809,78.1823, 78.1823,78.1875,78.1937,78.1953,78.1974 ,78.1996,78.2013,78.2031,78.2049,78.206 ,78.194)
ORBIT_NUMBER = 19848
ORBITAL_ECCENTRICITY = 0.576
ORBITAL_INCLINATION = 86.99
ORBITAL_SEMIMAJOR_AXIS = 8842.95
PERIAPSIS_ALTITUDE = 358.0
PERIAPSIS_ARGUMENT_ANGLE = 160.59
PERIAPSIS_TIME = 2019-09-11T20:18:13.000Z
SPACECRAFT_ORIENTATION = (0.0,-1.0,0.0)
^MEX_ORIENTATION_DESC = "MEX_ORIENTATION_DESC.TXT"
SPACECRAFT_POINTING_MODE = ACROSSTRACK
^MEX_POINTING_DESC = "MEX_POINTING_DESC.TXT"
RIGHT_ASCENSION = -1e+32
DECLINATION = -1e+32
OFFSET_ANGLE = 0.5
SPACECRAFT_SOLAR_DISTANCE = 2.49029e+08
TARGET_NAME = MARS
/* CAMERA DATA ELEMENTS */
DETECTOR_TEMPERATURE = 16.3315
FOCAL_PLANE_TEMPERATURE = 6.9521
INST_CMPRS_NAME = "DISCRETE COSINE TRANSFORMATION (DCT)"
INST_CMPRS_RATIO = 3.00061
INST_CMPRS_QUALITY = 0
INST_CMPRS_QUANTZ_TBL_ID = 0
INSTRUMENT_TEMPERATURE = 10.4184
LENS_TEMPERATURE = 7.3599
MACROPIXEL_SIZE = 1
MISSING_FRAMES = 92
PIXEL_SUBSAMPLING_FLAG = N
SIGNAL_CHAIN_ID = 2
/* RADIOMETRIC DATA ELEMENTS */
BANDWIDTH = 180.0
CENTER_FILTER_WAVELENGTH = 677.0
RADIANCE_OFFSET = 1.13082
RADIANCE_SCALING_FACTOR = 0.00682927
REFLECTANCE_SCALING_FACTOR = 0.000220963
MEX:REFLECTANCE_OFFSET = 0.036588
/* IMAGE OBJECT DEFINITIONS */
OBJECT = IMAGE
  INTERCHANGE_FORMAT = BINARY
  LINES = 31919
  LINE_SAMPLES = 6163
  SAMPLE_TYPE = UNSIGNED_INTEGER
  SAMPLE_BITS = 8
  BANDS = 1
  BAND_STORAGE_TYPE = BAND_SEQUENTIAL
  MAXIMUM = 255
  MEAN = 155.381
  MINIMUM = 1
  STANDARD_DEVIATION = 41.5817
END_OBJECT = IMAGE
/* MAP OBJECT DEFINITIONS */
OBJECT = IMAGE_MAP_PROJECTION
  ^DATA_SET_MAP_PROJECTION_CATALOG= "DSMAP.CAT"
  A_AXIS_RADIUS = 3396.0
  B_AXIS_RADIUS = 3396.0
  C_AXIS_RADIUS = 3396.0
  CENTER_LATITUDE = 0.0
  CENTER_LONGITUDE = 77.0
  COORDINATE_SYSTEM_NAME = PLANETOGRAPHIC
  COORDINATE_SYSTEM_TYPE = "BODY-FIXED ROTATING"
  EASTERNMOST_LONGITUDE = 78.206
  FIRST_STANDARD_PARALLEL = "N/A"
  LINE_FIRST_PIXEL = 1
  LINE_LAST_PIXEL = 31919
  LINE_PROJECTION_OFFSET = 107799.0
  MAP_PROJECTION_ROTATION = 0.0
  MAP_PROJECTION_TYPE = SINUSOIDAL
  MAP_RESOLUTION = 4741.71043093333
  MAP_SCALE = 0.0125
  MAXIMUM_LATITUDE = 22.7696
  MINIMUM_LATITUDE = 15.9624
  POSITIVE_LONGITUDE_DIRECTION = EAST
  REFERENCE_LATITUDE = "N/A"
  REFERENCE_LONGITUDE = "N/A"
  SAMPLE_FIRST_PIXEL = 1
  SAMPLE_LAST_PIXEL = 6163
  SAMPLE_PROJECTION_OFFSET = 972.0
  SECOND_STANDARD_PARALLEL = "N/A"
  WESTERNMOST_LONGITUDE = 76.791
END_OBJECT = IMAGE_MAP_PROJECTION
END
