PDS_VERSION_ID = PDS3
/* FILE DATA ELEMENTS */
RECORD_TYPE = UNDEFINED
/* POINTERS TO DATA OBJECTS */
^IMAGE = ("HJ755_0000_RE4.TIF")
/* IDENTIFICATION DATA ELEMENTS */
DATA_SET_ID = "MEX-M-HRSC-4-REFDR-MAPPROJECT-EXT7-V4.0"
DATA_SET_NAME = "MARS EXPRESS HRSC MAP PROJECTED REFDR EXTENSION7 V4.0"
DETECTOR_ID = MEX_HRSC_RED
EVENT_TYPE = "MARS-GLOBAL-VARIABLE-Gl-Eo-Ts"
INSTRUMENT_HOST_ID = MEX
INSTRUMENT_HOST_NAME = "MARS EXPRESS"
INSTRUMENT_ID = HRSC
INSTRUMENT_NAME = "HIGH RESOLUTION STEREO CAMERA"
MISSION_NAME = "MARS EXPRESS"
MISSION_PHASE_NAME = ME_Phase_41
PROCESSING_LEVEL_ID = 4
PRODUCT_CREATION_TIME = 2023-01-26T14:38:39.000Z
PRODUCT_ID = "HJ755_0000_RE4.TIF"
RELEASE_ID = 0002
REVISION_ID = 0000
/* QUALITY DATA ELEMENTS */
DATA_QUALITY_ID = 1
DATA_QUALITY_DESC = "Data calculated based on original SPICE kernels"
/* TIME DATA ELEMENTS */
SPACECRAFT_CLOCK_START_COUNT = "1/0513972943.25662"
SPACECRAFT_CLOCK_STOP_COUNT = "1/0513974199.31059"
START_TIME = 2019-08-15T18:31:36.851Z
STOP_TIME = 2019-08-15T18:36:46.634Z
/* ORBITAL DATA ELEMENTS */
ASCENDING_NODE_LONGITUDE = 204.03
MAXIMUM_RESOLUTION = 0.1963
FOOTPRINT_POINT_LATITUDE = (82.0504,82.0322,81.9944,81.9368, 81.8486,81.7502,81.6336,81.4998,81.3885 ,81.2261,81.0484,80.8559,80.6494, 80.4576,80.4294,80.5247,80.2653,80.0028 ,79.7378,79.4705,79.2015,78.9308, 78.6582,78.2463,77.9707,77.5587,77.2819 ,76.8696,76.5877,76.312,75.8976,75.6212 ,75.3446,75.0691,74.794,74.5195,74.2455 ,73.6985,73.1566,72.4813,71.945,71.4129 ,70.8848,70.3601,69.8396,69.3236, 68.8113,68.3032,67.7998,67.3,67.1759, 67.065,67.153,67.1921,67.248,67.2819, 67.3086,67.3505,67.3784,67.3963,67.4035 ,67.404,67.4068,67.9208,68.5706,69.0969 ,69.6287,70.1667,70.7105,71.2586,71.814 ,72.3744,72.941,73.5148,74.0933,74.6793 ,74.974,75.2706,75.5683,75.8682,76.1701 ,76.4755,76.7773,77.0841,77.393,77.7028 ,78.0145,78.4872,78.8043,79.122,79.4407 ,79.7623,80.0857,80.4109,80.7383, 81.0676,81.3987,81.8991,82.0669, 82.0504)
FOOTPRINT_POINT_LONGITUDE = (220.171,215.626,212.627,209.67,206.401 ,203.561,200.791,198.103,196.141, 193.603,191.154,188.794,186.524,184.611 ,184.343,183.427,184.674,185.847,186.95 ,187.989,188.967,189.891,190.766, 191.995,192.76,193.821,194.49,195.419, 196.027,196.583,197.372,197.869,198.345 ,198.798,199.232,199.647,200.044, 200.792,201.475,202.26,202.835,203.367, 203.862,204.323,204.753,205.154,205.53, 205.882,206.212,206.524,206.599,206.665 ,208.227,209.013,210.293,211.182, 211.974,213.463,214.858,216.157,217.16, 217.261,217.294,217.349,217.42,217.48, 217.543,217.609,217.678,217.75,217.828, 217.909,217.994,218.086,218.182,218.286 ,218.34,218.397,218.455,218.515,218.579 ,218.648,218.712,218.784,218.859, 218.937,219.019,219.152,219.247,219.344 ,219.446,219.555,219.671,219.795, 219.927,220.069,220.221,220.472,220.563 ,220.171)
ORBIT_NUMBER = 19755
ORBITAL_ECCENTRICITY = 0.577
ORBITAL_INCLINATION = 86.97
ORBITAL_SEMIMAJOR_AXIS = 8850.68
PERIAPSIS_ALTITUDE = 349.98
PERIAPSIS_ARGUMENT_ANGLE = 176.69
PERIAPSIS_TIME = 2019-08-15T18:53:55.000Z
SPACECRAFT_ORIENTATION = (0.0,-1.0,0.0)
^MEX_ORIENTATION_DESC = "MEX_ORIENTATION_DESC.TXT"
SPACECRAFT_POINTING_MODE = NADIR
^MEX_POINTING_DESC = "MEX_POINTING_DESC.TXT"
RIGHT_ASCENSION = -1e+32
DECLINATION = -1e+32
OFFSET_ANGLE = -1e+32
SPACECRAFT_SOLAR_DISTANCE = 2.49161e+08
TARGET_NAME = MARS
/* CAMERA DATA ELEMENTS */
DETECTOR_TEMPERATURE = 18.3705
FOCAL_PLANE_TEMPERATURE = 7.7677
INST_CMPRS_NAME = "DISCRETE COSINE TRANSFORMATION (DCT)"
INST_CMPRS_RATIO = 9.2085
INST_CMPRS_QUALITY = 0
INST_CMPRS_QUANTZ_TBL_ID = 0
INSTRUMENT_TEMPERATURE = 10.8262
LENS_TEMPERATURE = 7.7677
MACROPIXEL_SIZE = 4
MISSING_FRAMES = 0
PIXEL_SUBSAMPLING_FLAG = N
SIGNAL_CHAIN_ID = 2
/* RADIOMETRIC DATA ELEMENTS */
BANDWIDTH = 48.0
CENTER_FILTER_WAVELENGTH = 748.0
RADIANCE_OFFSET = 0.675607
RADIANCE_SCALING_FACTOR = 0.00749671
REFLECTANCE_SCALING_FACTOR = 0.00106208
MEX:REFLECTANCE_OFFSET = 0.095715
/* IMAGE OBJECT DEFINITIONS */
OBJECT = IMAGE
  INTERCHANGE_FORMAT = BINARY
  LINES = 4578
  LINE_SAMPLES = 2392
  SAMPLE_TYPE = UNSIGNED_INTEGER
  SAMPLE_BITS = 8
  BANDS = 1
  BAND_STORAGE_TYPE = BAND_SEQUENTIAL
  MAXIMUM = 255
  MEAN = 94.0029
  MINIMUM = 1
  STANDARD_DEVIATION = 49.9747
END_OBJECT = IMAGE
/* MAP OBJECT DEFINITIONS */
OBJECT = IMAGE_MAP_PROJECTION
  ^DATA_SET_MAP_PROJECTION_CATALOG= "DSMAP.CAT"
  A_AXIS_RADIUS = 3396.0
  B_AXIS_RADIUS = 3396.0
  C_AXIS_RADIUS = 3396.0
  CENTER_LATITUDE = 74.64749999999999
  CENTER_LONGITUDE = 208.805
  COORDINATE_SYSTEM_NAME = PLANETOGRAPHIC
  COORDINATE_SYSTEM_TYPE = "BODY-FIXED ROTATING"
  EASTERNMOST_LONGITUDE = 220.563
  FIRST_STANDARD_PARALLEL = "N/A"
  LINE_FIRST_PIXEL = 1
  LINE_LAST_PIXEL = 4578
  LINE_PROJECTION_OFFSET = 2315.875
  MAP_PROJECTION_ROTATION = 0.0
  MAP_PROJECTION_TYPE = ORTHOGRAPHIC
  MAP_RESOLUTION = 296.356901933333
  MAP_SCALE = 0.2
  MAXIMUM_LATITUDE = 82.0669
  MINIMUM_LATITUDE = 67.065
  POSITIVE_LONGITUDE_DIRECTION = EAST
  REFERENCE_LATITUDE = "N/A"
  REFERENCE_LONGITUDE = "N/A"
  SAMPLE_FIRST_PIXEL = 1
  SAMPLE_LAST_PIXEL = 2392
  SAMPLE_PROJECTION_OFFSET = 1367.375
  SECOND_STANDARD_PARALLEL = "N/A"
  WESTERNMOST_LONGITUDE = 183.427
END_OBJECT = IMAGE_MAP_PROJECTION
END
