PDS_VERSION_ID = PDS3
/* FILE DATA ELEMENTS */
RECORD_TYPE = UNDEFINED
/* POINTERS TO DATA OBJECTS */
^IMAGE = ("HJ749_0000_S24.TIF")
/* IDENTIFICATION DATA ELEMENTS */
DATA_SET_ID = "MEX-M-HRSC-4-REFDR-MAPPROJECT-EXT7-V4.0"
DATA_SET_NAME = "MARS EXPRESS HRSC MAP PROJECTED REFDR EXTENSION7 V4.0"
DETECTOR_ID = MEX_HRSC_S2
EVENT_TYPE = "MARS-GLOBAL-VARIABLE-Gl-Eo-Ts"
INSTRUMENT_HOST_ID = MEX
INSTRUMENT_HOST_NAME = "MARS EXPRESS"
INSTRUMENT_ID = HRSC
INSTRUMENT_NAME = "HIGH RESOLUTION STEREO CAMERA"
MISSION_NAME = "MARS EXPRESS"
MISSION_PHASE_NAME = ME_Phase_41
PROCESSING_LEVEL_ID = 4
PRODUCT_CREATION_TIME = 2023-01-26T14:38:39.000Z
PRODUCT_ID = "HJ749_0000_S24.TIF"
RELEASE_ID = 0002
REVISION_ID = 0000
/* QUALITY DATA ELEMENTS */
DATA_QUALITY_ID = 1
DATA_QUALITY_DESC = "Data calculated based on original SPICE kernels"
/* TIME DATA ELEMENTS */
SPACECRAFT_CLOCK_START_COUNT = "1/0513821293.24930"
SPACECRAFT_CLOCK_STOP_COUNT = "1/0513823239.57269"
START_TIME = 2019-08-14T00:35:20.940Z
STOP_TIME = 2019-08-14T00:41:09.860Z
/* ORBITAL DATA ELEMENTS */
ASCENDING_NODE_LONGITUDE = 204.14
MAXIMUM_RESOLUTION = 0.1144
FOOTPRINT_POINT_LATITUDE = (89.4413,89.5729,89.1175,88.6267, 88.1284,87.6276,87.1258,86.6236,86.1207 ,85.6167,85.1114,84.6043,84.032,83.9683 ,83.8923,83.9172,83.8725,83.7585, 83.6291,83.4016,83.1157,82.9526,82.7772 ,82.5903,82.3925,82.1844,81.9666, 81.6243,81.3855,81.0141,80.7584,80.4955 ,80.2271,79.9553,79.6808,79.4039, 79.1248,78.8445,78.5626,77.9958,77.4264 ,76.8523,76.2851,75.4313,74.8644, 74.2995,73.7381,73.179,73.0398,73.0189, 73.1043,73.2115,73.3373,73.409,73.4589, 73.5027,73.5434,73.5877,73.6056,73.6204 ,73.6209,73.6226,74.218,74.82,75.4294, 76.046,76.6695,77.3,77.7774,78.4207, 79.0719,79.4004,79.732,80.0645,80.3988, 80.7351,81.0736,81.4139,81.7566,82.1014 ,82.4457,82.7877,83.1306,83.4657, 83.9723,84.31,84.6483,84.9814,85.3125, 85.8094,86.3034,86.7924,87.1183,87.5992 ,87.9171,88.3838,88.9696,89.4002, 89.4385,89.4413)
FOOTPRINT_POINT_LONGITUDE = (175.112,61.6457,40.59,34.0819,30.9442, 29.0654,27.7908,26.8498,26.1126,25.5101 ,25.0011,24.5577,24.1181,24.0724, 22.0894,28.1093,34.1405,40.0476,44.3196 ,49.7257,54.7566,57.119,59.375,61.5237, 63.5666,65.5098,67.3548,69.933,71.5429, 73.7926,75.1904,76.5194,77.7767,78.9584 ,80.0689,81.1148,82.1003,83.0275, 83.9033,85.5119,86.9522,88.2578,89.4133 ,90.9596,91.8745,92.71,93.4739,94.177, 94.3439,94.3688,95.5972,97.3089,99.6653 ,101.249,102.524,103.807,105.258, 107.365,108.668,110.63,110.794,110.853, 110.957,111.067,111.187,111.315,111.456 ,111.608,111.732,111.912,112.113, 112.222,112.341,112.464,112.596,112.737 ,112.888,113.051,113.227,113.42,113.627 ,113.848,114.095,114.343,114.784, 115.122,115.507,115.922,116.388,117.232 ,118.293,119.653,120.827,123.123, 125.247,129.936,142.578,178.426,193.955 ,175.112)
ORBIT_NUMBER = 19749
ORBITAL_ECCENTRICITY = 0.577
ORBITAL_INCLINATION = 86.97
ORBITAL_SEMIMAJOR_AXIS = 8852.89
PERIAPSIS_ALTITUDE = 349.18
PERIAPSIS_ARGUMENT_ANGLE = 177.74
PERIAPSIS_TIME = 2019-08-14T01:00:15.000Z
SPACECRAFT_ORIENTATION = (0.0,-1.0,0.0)
^MEX_ORIENTATION_DESC = "MEX_ORIENTATION_DESC.TXT"
SPACECRAFT_POINTING_MODE = NADIR
^MEX_POINTING_DESC = "MEX_POINTING_DESC.TXT"
RIGHT_ASCENSION = -1e+32
DECLINATION = -1e+32
OFFSET_ANGLE = -1e+32
SPACECRAFT_SOLAR_DISTANCE = 2.49132e+08
TARGET_NAME = MARS
/* CAMERA DATA ELEMENTS */
DETECTOR_TEMPERATURE = 18.3705
FOCAL_PLANE_TEMPERATURE = 7.5638
INST_CMPRS_NAME = "DISCRETE COSINE TRANSFORMATION (DCT)"
INST_CMPRS_RATIO = 20.5208
INST_CMPRS_QUALITY = 0
INST_CMPRS_QUANTZ_TBL_ID = 0
INSTRUMENT_TEMPERATURE = 10.4184
LENS_TEMPERATURE = 7.7677
MACROPIXEL_SIZE = 2
MISSING_FRAMES = 0
PIXEL_SUBSAMPLING_FLAG = N
SIGNAL_CHAIN_ID = 1
/* RADIOMETRIC DATA ELEMENTS */
BANDWIDTH = 178.0
CENTER_FILTER_WAVELENGTH = 679.0
RADIANCE_OFFSET = 2.47535
RADIANCE_SCALING_FACTOR = 0.0187156
REFLECTANCE_SCALING_FACTOR = 0.000615163
MEX:REFLECTANCE_OFFSET = 0.0813622
/* IMAGE OBJECT DEFINITIONS */
OBJECT = IMAGE
  INTERCHANGE_FORMAT = BINARY
  LINES = 10452
  LINE_SAMPLES = 7254
  SAMPLE_TYPE = UNSIGNED_INTEGER
  SAMPLE_BITS = 8
  BANDS = 1
  BAND_STORAGE_TYPE = BAND_SEQUENTIAL
  MAXIMUM = 255
  MEAN = 189.435
  MINIMUM = 1
  STANDARD_DEVIATION = 26.3954
END_OBJECT = IMAGE
/* MAP OBJECT DEFINITIONS */
OBJECT = IMAGE_MAP_PROJECTION
  ^DATA_SET_MAP_PROJECTION_CATALOG= "DSMAP.CAT"
  A_AXIS_RADIUS = 3396.0
  B_AXIS_RADIUS = 3396.0
  C_AXIS_RADIUS = 3396.0
  CENTER_LATITUDE = 81.89449999999999
  CENTER_LONGITUDE = 91.642
  COORDINATE_SYSTEM_NAME = PLANETOGRAPHIC
  COORDINATE_SYSTEM_TYPE = "BODY-FIXED ROTATING"
  EASTERNMOST_LONGITUDE = 193.955
  FIRST_STANDARD_PARALLEL = "N/A"
  LINE_FIRST_PIXEL = 1
  LINE_LAST_PIXEL = 10452
  LINE_PROJECTION_OFFSET = 5077.75
  MAP_PROJECTION_ROTATION = 0.0
  MAP_PROJECTION_TYPE = ORTHOGRAPHIC
  MAP_RESOLUTION = 592.713803866667
  MAP_SCALE = 0.1
  MAXIMUM_LATITUDE = 89.5729
  MINIMUM_LATITUDE = 73.0189
  POSITIVE_LONGITUDE_DIRECTION = EAST
  REFERENCE_LATITUDE = "N/A"
  REFERENCE_LONGITUDE = "N/A"
  SAMPLE_FIRST_PIXEL = 1
  SAMPLE_LAST_PIXEL = 7254
  SAMPLE_PROJECTION_OFFSET = 3928.75
  SECOND_STANDARD_PARALLEL = "N/A"
  WESTERNMOST_LONGITUDE = 22.0894
END_OBJECT = IMAGE_MAP_PROJECTION
END
