PDS_VERSION_ID = PDS3
/* FILE DATA ELEMENTS */
RECORD_TYPE = UNDEFINED
/* POINTERS TO DATA OBJECTS */
^IMAGE = ("HJ731_0000_ND4.TIF")
/* IDENTIFICATION DATA ELEMENTS */
DATA_SET_ID = "MEX-M-HRSC-4-REFDR-MAPPROJECT-EXT7-V4.0"
DATA_SET_NAME = "MARS EXPRESS HRSC MAP PROJECTED REFDR EXTENSION7 V4.0"
DETECTOR_ID = MEX_HRSC_NADIR
EVENT_TYPE = "MARS-GLOBAL-VARIABLE-Gl-Eo-Ts"
INSTRUMENT_HOST_ID = MEX
INSTRUMENT_HOST_NAME = "MARS EXPRESS"
INSTRUMENT_ID = HRSC
INSTRUMENT_NAME = "HIGH RESOLUTION STEREO CAMERA"
MISSION_NAME = "MARS EXPRESS"
MISSION_PHASE_NAME = ME_Phase_41
PROCESSING_LEVEL_ID = 4
PRODUCT_CREATION_TIME = 2023-01-26T14:38:39.000Z
PRODUCT_ID = "HJ731_0000_ND4.TIF"
RELEASE_ID = 0002
REVISION_ID = 0000
/* QUALITY DATA ELEMENTS */
DATA_QUALITY_ID = 1
DATA_QUALITY_DESC = "Data calculated based on original SPICE kernels"
/* TIME DATA ELEMENTS */
SPACECRAFT_CLOCK_START_COUNT = "1/0513368609.24875"
SPACECRAFT_CLOCK_STOP_COUNT = "1/0513370496.23573"
START_TIME = 2019-08-08T18:46:07.305Z
STOP_TIME = 2019-08-08T18:50:18.275Z
/* ORBITAL DATA ELEMENTS */
ASCENDING_NODE_LONGITUDE = 204.46
MAXIMUM_RESOLUTION = 0.0853
FOOTPRINT_POINT_LATITUDE = (88.4643,88.7555,89.0085,89.1877, 89.2402,89.1433,88.9376,88.6729,88.1452 ,87.8262,87.5007,87.1711,86.8384, 86.5036,86.1673,85.8299,85.4912,84.8957 ,84.5544,84.2122,83.8686,83.524,83.1789 ,82.6597,82.573,82.4673,82.454,82.401, 82.3603,82.31,82.2503,82.1807,82.1009, 82.013,81.9146,81.8083,81.6922,81.5682, 81.4355,81.2944,81.1454,80.9888,80.8247 ,80.6533,80.475,80.2897,80.0978,79.7468 ,79.6951,79.6879,79.9231,80.1057, 80.2827,80.4535,80.6177,80.7749,80.9617 ,81.1029,81.2363,81.3616,81.4787, 81.5871,81.6865,81.7765,81.8571,81.9277 ,81.9881,82.0684,82.0996,82.1199, 82.1292,82.1273,82.097,82.0899,82.0865, 82.6086,82.904,83.1974,83.4886,83.7775, 84.0642,84.3485,84.6302,84.9093,85.1857 ,85.4591,85.929,86.2574,86.5155,86.7675 ,87.014,87.2523,87.4816,87.6997,87.9031 ,88.0879,88.2495,88.3808,88.4082, 88.4643)
FOOTPRINT_POINT_LONGITUDE = (213.282,205.338,193.006,173.95,148.785 ,125.052,108.346,97.6548,86.9391, 83.2252,80.4712,78.3541,76.6802,75.3265 ,74.2101,73.2737,72.4765,71.3333, 70.7913,70.3121,69.8851,69.5026,69.158, 68.7006,68.6304,68.5233,72.4553,76.3933 ,78.3533,80.3008,82.2311,84.1385, 86.0168,87.8699,89.6842,91.4664,93.2058 ,94.9069,96.5639,98.1749,99.7412, 101.262,102.737,104.166,105.548,106.884 ,108.174,110.326,110.623,110.664, 112.289,113.647,115.053,116.509,118.013 ,119.564,121.577,123.244,124.961, 126.728,128.544,130.41,132.323,134.279, 136.278,138.315,140.386,144.079,146.217 ,148.372,150.538,152.71,156.506,157.047 ,157.312,158.109,158.612,159.155, 159.741,160.383,161.068,161.823,162.654 ,163.57,164.576,165.687,168.004,169.986 ,171.797,173.922,176.347,179.215, 182.592,186.593,191.382,197.122,203.946 ,211.978,214.17,213.282)
ORBIT_NUMBER = 19731
ORBITAL_ECCENTRICITY = 0.577
ORBITAL_INCLINATION = 86.96
ORBITAL_SEMIMAJOR_AXIS = 8848.54
PERIAPSIS_ALTITUDE = 348.08
PERIAPSIS_ARGUMENT_ANGLE = 180.88
PERIAPSIS_TIME = 2019-08-08T19:18:33.000Z
SPACECRAFT_ORIENTATION = (0.0,-1.0,0.0)
^MEX_ORIENTATION_DESC = "MEX_ORIENTATION_DESC.TXT"
SPACECRAFT_POINTING_MODE = NADIR
^MEX_POINTING_DESC = "MEX_POINTING_DESC.TXT"
RIGHT_ASCENSION = -1e+32
DECLINATION = -1e+32
OFFSET_ANGLE = -1e+32
SPACECRAFT_SOLAR_DISTANCE = 2.49018e+08
TARGET_NAME = MARS
/* CAMERA DATA ELEMENTS */
DETECTOR_TEMPERATURE = 18.1666
FOCAL_PLANE_TEMPERATURE = 7.7677
INST_CMPRS_NAME = "DISCRETE COSINE TRANSFORMATION (DCT)"
INST_CMPRS_RATIO = 7.06684
INST_CMPRS_QUALITY = 0
INST_CMPRS_QUANTZ_TBL_ID = 0
INSTRUMENT_TEMPERATURE = 10.4184
LENS_TEMPERATURE = 7.9716
MACROPIXEL_SIZE = 1
MISSING_FRAMES = 0
PIXEL_SUBSAMPLING_FLAG = N
SIGNAL_CHAIN_ID = 0
/* RADIOMETRIC DATA ELEMENTS */
BANDWIDTH = 177.0
CENTER_FILTER_WAVELENGTH = 677.5
RADIANCE_OFFSET = 2.36122
RADIANCE_SCALING_FACTOR = 0.0280596
REFLECTANCE_SCALING_FACTOR = 0.000924322
MEX:REFLECTANCE_OFFSET = 0.0777817
/* IMAGE OBJECT DEFINITIONS */
OBJECT = IMAGE
  INTERCHANGE_FORMAT = BINARY
  LINES = 6165
  LINE_SAMPLES = 6305
  SAMPLE_TYPE = UNSIGNED_INTEGER
  SAMPLE_BITS = 8
  BANDS = 1
  BAND_STORAGE_TYPE = BAND_SEQUENTIAL
  MAXIMUM = 255
  MEAN = 186.592
  MINIMUM = 1
  STANDARD_DEVIATION = 39.2118
END_OBJECT = IMAGE
/* MAP OBJECT DEFINITIONS */
OBJECT = IMAGE_MAP_PROJECTION
  ^DATA_SET_MAP_PROJECTION_CATALOG= "DSMAP.CAT"
  A_AXIS_RADIUS = 3396.0
  B_AXIS_RADIUS = 3396.0
  C_AXIS_RADIUS = 3396.0
  CENTER_LATITUDE = 84.8395
  CENTER_LONGITUDE = 116.293
  COORDINATE_SYSTEM_NAME = PLANETOGRAPHIC
  COORDINATE_SYSTEM_TYPE = "BODY-FIXED ROTATING"
  EASTERNMOST_LONGITUDE = 214.17
  FIRST_STANDARD_PARALLEL = "N/A"
  LINE_FIRST_PIXEL = 1
  LINE_LAST_PIXEL = 6165
  LINE_PROJECTION_OFFSET = 3163.0
  MAP_PROJECTION_ROTATION = 0.0
  MAP_PROJECTION_TYPE = ORTHOGRAPHIC
  MAP_RESOLUTION = 592.713803866667
  MAP_SCALE = 0.1
  MAXIMUM_LATITUDE = 89.2402
  MINIMUM_LATITUDE = 79.6879
  POSITIVE_LONGITUDE_DIRECTION = EAST
  REFERENCE_LATITUDE = "N/A"
  REFERENCE_LONGITUDE = "N/A"
  SAMPLE_FIRST_PIXEL = 1
  SAMPLE_LAST_PIXEL = 6305
  SAMPLE_PROJECTION_OFFSET = 3264.0
  SECOND_STANDARD_PARALLEL = "N/A"
  WESTERNMOST_LONGITUDE = 68.52330000000001
END_OBJECT = IMAGE_MAP_PROJECTION
END
