PDS_VERSION_ID = PDS3
/* FILE DATA ELEMENTS */
RECORD_TYPE = UNDEFINED
/* POINTERS TO DATA OBJECTS */
^IMAGE = ("HJ731_0000_IR4.TIF")
/* IDENTIFICATION DATA ELEMENTS */
DATA_SET_ID = "MEX-M-HRSC-4-REFDR-MAPPROJECT-EXT7-V4.0"
DATA_SET_NAME = "MARS EXPRESS HRSC MAP PROJECTED REFDR EXTENSION7 V4.0"
DETECTOR_ID = MEX_HRSC_IR
EVENT_TYPE = "MARS-GLOBAL-VARIABLE-Gl-Eo-Ts"
INSTRUMENT_HOST_ID = MEX
INSTRUMENT_HOST_NAME = "MARS EXPRESS"
INSTRUMENT_ID = HRSC
INSTRUMENT_NAME = "HIGH RESOLUTION STEREO CAMERA"
MISSION_NAME = "MARS EXPRESS"
MISSION_PHASE_NAME = ME_Phase_41
PROCESSING_LEVEL_ID = 4
PRODUCT_CREATION_TIME = 2023-01-26T14:38:39.000Z
PRODUCT_ID = "HJ731_0000_IR4.TIF"
RELEASE_ID = 0002
REVISION_ID = 0000
/* QUALITY DATA ELEMENTS */
DATA_QUALITY_ID = 1
DATA_QUALITY_DESC = "Data calculated based on original SPICE kernels"
/* TIME DATA ELEMENTS */
SPACECRAFT_CLOCK_START_COUNT = "1/0513368609.24875"
SPACECRAFT_CLOCK_STOP_COUNT = "1/0513370496.23573"
START_TIME = 2019-08-08T18:30:02.906Z
STOP_TIME = 2019-08-08T18:40:12.754Z
/* ORBITAL DATA ELEMENTS */
ASCENDING_NODE_LONGITUDE = 204.46
MAXIMUM_RESOLUTION = 0.5316
FOOTPRINT_POINT_LATITUDE = (84.1021,84.5197,84.7969,85.0733, 85.6231,86.1689,86.7103,87.2461,87.7741 ,88.2887,88.7745,89.1811,89.3424,89.114 ,88.686,88.1954,87.6818,87.1573,86.6267 ,86.0921,85.5547,85.0148,84.4722, 83.9272,83.3796,82.8296,82.2771,81.9999 ,81.7221,81.3038,81.1641,81.0031, 80.9284,80.8385,80.7319,80.6063,80.4596 ,80.2897,80.0948,79.8725,79.6205,79.337 ,79.0205,78.8491,78.5274,78.4792, 78.4558,78.8507,79.1625,79.4634,79.7534 ,80.0328,80.3,80.4918,80.6762,80.9095, 81.128,81.3304,81.5155,81.6822,81.8299, 81.9574,82.0634,82.147,82.2079,82.245, 82.258,82.2469,82.2116,82.1525,82.0695, 81.9634,81.8348,81.724,81.6845,81.6717, 82.0798,82.3362,82.5796,82.8096,83.0258 ,83.2275,83.414,83.5847,83.7393,83.8765 ,83.9983,84.102,84.1879,84.2541,84.3237 ,84.3467,84.3511,84.3374,84.3031, 84.2525,84.1098,83.997,83.9722,84.1021)
FOOTPRINT_POINT_LONGITUDE = (241.656,241.315,241.044,240.733, 239.959,238.912,237.462,235.376,232.209 ,227.005,217.381,196.742,155.491, 118.012,100.413,91.9806,87.295,84.3925, 82.4592,81.1033,80.1175,79.3844,78.8316 ,78.4112,78.0915,77.8499,77.6694, 77.5988,77.539,77.4681,77.4493,79.108, 81.2384,83.4439,85.7139,88.0413,90.4155 ,92.8262,95.2596,97.7046,100.149, 102.579,104.981,106.167,108.215,108.504 ,108.643,110.377,111.88,113.475,115.166 ,116.953,118.842,120.329,121.877, 124.037,126.309,128.696,131.195,133.804 ,136.517,139.327,142.225,145.197, 148.229,151.303,154.401,157.503,160.591 ,163.647,166.653,169.594,172.457, 174.545,175.229,175.459,177.989,179.801 ,181.718,183.743,185.879,188.125, 190.482,192.946,195.513,198.175,200.929 ,203.758,206.649,209.575,214.037, 217.008,221.445,224.396,227.246,230.006 ,235.265,238.378,238.981,241.656)
ORBIT_NUMBER = 19731
ORBITAL_ECCENTRICITY = 0.577
ORBITAL_INCLINATION = 86.96
ORBITAL_SEMIMAJOR_AXIS = 8848.54
PERIAPSIS_ALTITUDE = 348.08
PERIAPSIS_ARGUMENT_ANGLE = 180.88
PERIAPSIS_TIME = 2019-08-08T19:18:33.000Z
SPACECRAFT_ORIENTATION = (0.0,-1.0,0.0)
^MEX_ORIENTATION_DESC = "MEX_ORIENTATION_DESC.TXT"
SPACECRAFT_POINTING_MODE = NADIR
^MEX_POINTING_DESC = "MEX_POINTING_DESC.TXT"
RIGHT_ASCENSION = -1e+32
DECLINATION = -1e+32
OFFSET_ANGLE = -1e+32
SPACECRAFT_SOLAR_DISTANCE = 2.49018e+08
TARGET_NAME = MARS
/* CAMERA DATA ELEMENTS */
DETECTOR_TEMPERATURE = 17.1471
FOCAL_PLANE_TEMPERATURE = 7.7677
INST_CMPRS_NAME = "DISCRETE COSINE TRANSFORMATION (DCT)"
INST_CMPRS_RATIO = 15.1302
INST_CMPRS_QUALITY = 0
INST_CMPRS_QUANTZ_TBL_ID = 0
INSTRUMENT_TEMPERATURE = 10.4184
LENS_TEMPERATURE = 7.9716
MACROPIXEL_SIZE = 4
MISSING_FRAMES = 0
PIXEL_SUBSAMPLING_FLAG = N
SIGNAL_CHAIN_ID = 2
/* RADIOMETRIC DATA ELEMENTS */
BANDWIDTH = 81.0
CENTER_FILTER_WAVELENGTH = 955.5
RADIANCE_OFFSET = 0.737407
RADIANCE_SCALING_FACTOR = 0.00564588
REFLECTANCE_SCALING_FACTOR = 0.000755294
MEX:REFLECTANCE_OFFSET = 0.0986488
/* IMAGE OBJECT DEFINITIONS */
OBJECT = IMAGE
  INTERCHANGE_FORMAT = BINARY
  LINES = 1542
  LINE_SAMPLES = 1577
  SAMPLE_TYPE = UNSIGNED_INTEGER
  SAMPLE_BITS = 8
  BANDS = 1
  BAND_STORAGE_TYPE = BAND_SEQUENTIAL
  MAXIMUM = 255
  MEAN = 204.581
  MINIMUM = 1
  STANDARD_DEVIATION = 46.8293
END_OBJECT = IMAGE
/* MAP OBJECT DEFINITIONS */
OBJECT = IMAGE_MAP_PROJECTION
  ^DATA_SET_MAP_PROJECTION_CATALOG= "DSMAP.CAT"
  A_AXIS_RADIUS = 3396.0
  B_AXIS_RADIUS = 3396.0
  C_AXIS_RADIUS = 3396.0
  CENTER_LATITUDE = 84.8395
  CENTER_LONGITUDE = 116.293
  COORDINATE_SYSTEM_NAME = PLANETOGRAPHIC
  COORDINATE_SYSTEM_TYPE = "BODY-FIXED ROTATING"
  EASTERNMOST_LONGITUDE = 241.656
  FIRST_STANDARD_PARALLEL = "N/A"
  LINE_FIRST_PIXEL = 1
  LINE_LAST_PIXEL = 1542
  LINE_PROJECTION_OFFSET = 790.375
  MAP_PROJECTION_ROTATION = 0.0
  MAP_PROJECTION_TYPE = ORTHOGRAPHIC
  MAP_RESOLUTION = 148.178450966667
  MAP_SCALE = 0.4
  MAXIMUM_LATITUDE = 89.3424
  MINIMUM_LATITUDE = 78.4558
  POSITIVE_LONGITUDE_DIRECTION = EAST
  REFERENCE_LATITUDE = "N/A"
  REFERENCE_LONGITUDE = "N/A"
  SAMPLE_FIRST_PIXEL = 1
  SAMPLE_LAST_PIXEL = 1577
  SAMPLE_PROJECTION_OFFSET = 815.625
  SECOND_STANDARD_PARALLEL = "N/A"
  WESTERNMOST_LONGITUDE = 77.44929999999999
END_OBJECT = IMAGE_MAP_PROJECTION
END
