PDS_VERSION_ID = PDS3
/* FILE DATA ELEMENTS */
RECORD_TYPE = UNDEFINED
/* POINTERS TO DATA OBJECTS */
^IMAGE = ("HJ630_0000_P24.TIF")
/* IDENTIFICATION DATA ELEMENTS */
DATA_SET_ID = "MEX-M-HRSC-4-REFDR-MAPPROJECT-EXT7-V4.0"
DATA_SET_NAME = "MARS EXPRESS HRSC MAP PROJECTED REFDR EXTENSION7 V4.0"
DETECTOR_ID = MEX_HRSC_P2
EVENT_TYPE = "MARS-TERMINATOR-CALIBRATION-Tc"
INSTRUMENT_HOST_ID = MEX
INSTRUMENT_HOST_NAME = "MARS EXPRESS"
INSTRUMENT_ID = HRSC
INSTRUMENT_NAME = "HIGH RESOLUTION STEREO CAMERA"
MISSION_NAME = "MARS EXPRESS"
MISSION_PHASE_NAME = ME_Phase_41
PROCESSING_LEVEL_ID = 4
PRODUCT_CREATION_TIME = 2023-01-26T14:38:39.000Z
PRODUCT_ID = "HJ630_0000_P24.TIF"
RELEASE_ID = 0002
REVISION_ID = 0000
/* QUALITY DATA ELEMENTS */
DATA_QUALITY_ID = 1
DATA_QUALITY_DESC = "Data calculated based on original SPICE kernels"
/* TIME DATA ELEMENTS */
SPACECRAFT_CLOCK_START_COUNT = "1/0510843350.23962"
SPACECRAFT_CLOCK_STOP_COUNT = "1/0510843792.15546"
START_TIME = 2019-07-10T12:59:49.430Z
STOP_TIME = 2019-07-10T13:03:01.418Z
/* ORBITAL DATA ELEMENTS */
ASCENDING_NODE_LONGITUDE = 206.34
MAXIMUM_RESOLUTION = 1.6515
FOOTPRINT_POINT_LATITUDE = (-60.2986,-60.4117,-58.0753,-55.5679, -52.8569,-51.0791,-47.3753,-44.3459, -41.9718,-40.174,-38.0411,-34.9846, -32.6309,-28.2974,-25.8636,-23.0996, -20.0709,-15.2693,-12.1229,-7.53528, -3.47081,1.7572,6.47157,9.92316,12.6085 ,15.8393,19.872,23.8897,26.8845,30.7082 ,33.4612,37.6908,40.3645,44.4554, 46.9118,49.7267,52.9954,58.3312,62.6416 ,65.1772,68.1332,71.804,75.5749,78.4624 ,81.9801,84.7574,83.2693,79.1805, 76.6029,75.0796,70.8879,68.2389,64.4681 ,59.2463,54.68,50.6685,50.1708,49.2906, 47.6809,46.1886,44.7766,42.1324,39.6743 ,37.3586,35.1567,33.0496,31.0208, 27.1522,23.4769,19.9405,17.4623,13.9716 ,9.69874,6.89758,2.72798,-3.0158, -8.4554,-12.4267,-16.2679,-19.1617, -23.7009,-27.1269,-32.3737,-35.5283, -39.1267,-43.3501,-45.8093,-49.074, -52.7617,-58.1346,-61.5713,-64.2251, -62.3673,-65.8716,-62.6965,-65.2594, -65.0465,-64.6543,-61.8218,-60.2986)
FOOTPRINT_POINT_LONGITUDE = (192.503,192.772,194.616,201.957, 200.833,207.227,205.74,209.478,212.513, 208.846,205.187,200.818,197.985,193.588 ,191.49,189.346,187.236,184.338,182.678 ,180.528,178.853,176.965,175.482, 174.516,173.829,173.075,172.242,171.526 ,171.073,170.584,170.306,169.995, 169.878,169.849,169.924,170.116,170.503 ,171.638,173.216,174.557,176.693, 180.674,187.624,197.359,182.633,160.401 ,105.959,102.908,90.8127,84.7863, 81.5591,79.8731,82.568,78.4448,80.6551, 79.7555,84.6974,90.0227,96.516,100.954, 104.394,109.612,113.521,116.636,119.217 ,121.41,123.312,126.479,129.046,131.196 ,132.547,134.268,136.12,137.203,138.65, 140.372,141.742,142.606,143.324,143.794 ,144.413,144.784,145.189,145.342, 145.396,145.294,145.143,144.805,144.197 ,142.764,141.369,139.893,148.055, 147.008,151.461,156.809,163.342,173.497 ,182.92,192.503)
ORBIT_NUMBER = 19630
ORBITAL_ECCENTRICITY = 0.578
ORBITAL_INCLINATION = 86.96
ORBITAL_SEMIMAJOR_AXIS = 8841.65
PERIAPSIS_ALTITUDE = 340.3
PERIAPSIS_ARGUMENT_ANGLE = 198.28
PERIAPSIS_TIME = 2019-07-10T10:01:58.000Z
SPACECRAFT_ORIENTATION = (0.0,-1.0,0.0)
^MEX_ORIENTATION_DESC = "MEX_ORIENTATION_DESC.TXT"
SPACECRAFT_POINTING_MODE = FIXED
^MEX_POINTING_DESC = "MEX_POINTING_DESC.TXT"
RIGHT_ASCENSION = -1e+32
DECLINATION = -1e+32
OFFSET_ANGLE = -1e+32
SPACECRAFT_SOLAR_DISTANCE = 2.47632e+08
TARGET_NAME = MARS
/* CAMERA DATA ELEMENTS */
DETECTOR_TEMPERATURE = 18.3705
FOCAL_PLANE_TEMPERATURE = 7.5638
INST_CMPRS_NAME = "DISCRETE COSINE TRANSFORMATION (DCT)"
INST_CMPRS_RATIO = 9.39688
INST_CMPRS_QUALITY = 0
INST_CMPRS_QUANTZ_TBL_ID = 0
INSTRUMENT_TEMPERATURE = 11.234
LENS_TEMPERATURE = 7.9716
MACROPIXEL_SIZE = 4
MISSING_FRAMES = 0
PIXEL_SUBSAMPLING_FLAG = N
SIGNAL_CHAIN_ID = 3
/* RADIOMETRIC DATA ELEMENTS */
BANDWIDTH = 177.0
CENTER_FILTER_WAVELENGTH = 676.5
RADIANCE_OFFSET = 0.0
RADIANCE_SCALING_FACTOR = 0.0372144
REFLECTANCE_SCALING_FACTOR = 0.00121007
MEX:REFLECTANCE_OFFSET = 0.0
/* IMAGE OBJECT DEFINITIONS */
OBJECT = IMAGE
  INTERCHANGE_FORMAT = BINARY
  LINES = 4070
  LINE_SAMPLES = 2692
  SAMPLE_TYPE = UNSIGNED_INTEGER
  SAMPLE_BITS = 8
  BANDS = 1
  BAND_STORAGE_TYPE = BAND_SEQUENTIAL
  MAXIMUM = 255
  MEAN = 108.309
  MINIMUM = 1
  STANDARD_DEVIATION = 51.7941
END_OBJECT = IMAGE
/* MAP OBJECT DEFINITIONS */
OBJECT = IMAGE_MAP_PROJECTION
  ^DATA_SET_MAP_PROJECTION_CATALOG= "DSMAP.CAT"
  A_AXIS_RADIUS = 3396.0
  B_AXIS_RADIUS = 3396.0
  C_AXIS_RADIUS = 3396.0
  CENTER_LATITUDE = 9.07277
  CENTER_LONGITUDE = 155.427
  COORDINATE_SYSTEM_NAME = PLANETOGRAPHIC
  COORDINATE_SYSTEM_TYPE = "BODY-FIXED ROTATING"
  EASTERNMOST_LONGITUDE = 212.513
  FIRST_STANDARD_PARALLEL = "N/A"
  LINE_FIRST_PIXEL = 1
  LINE_LAST_PIXEL = 4070
  LINE_PROJECTION_OFFSET = 2034.75
  MAP_PROJECTION_ROTATION = 0.0
  MAP_PROJECTION_TYPE = ORTHOGRAPHIC
  MAP_RESOLUTION = 37.0446127416667
  MAP_SCALE = 1.6
  MAXIMUM_LATITUDE = 84.7574
  MINIMUM_LATITUDE = -65.8716
  POSITIVE_LONGITUDE_DIRECTION = EAST
  REFERENCE_LATITUDE = "N/A"
  REFERENCE_LONGITUDE = "N/A"
  SAMPLE_FIRST_PIXEL = 1
  SAMPLE_LAST_PIXEL = 2692
  SAMPLE_PROJECTION_OFFSET = 1345.75
  SECOND_STANDARD_PARALLEL = "N/A"
  WESTERNMOST_LONGITUDE = 78.4448
END_OBJECT = IMAGE_MAP_PROJECTION
END
