PDS_VERSION_ID = PDS3
/* FILE DATA ELEMENTS */
RECORD_TYPE = UNDEFINED
/* POINTERS TO DATA OBJECTS */
^IMAGE = ("HJ592_0000_P24.TIF")
/* IDENTIFICATION DATA ELEMENTS */
DATA_SET_ID = "MEX-M-HRSC-4-REFDR-MAPPROJECT-EXT7-V4.0"
DATA_SET_NAME = "MARS EXPRESS HRSC MAP PROJECTED REFDR EXTENSION7 V4.0"
DETECTOR_ID = MEX_HRSC_P2
EVENT_TYPE = "MARS-TERMINATOR-CALIBRATION-Tc"
INSTRUMENT_HOST_ID = MEX
INSTRUMENT_HOST_NAME = "MARS EXPRESS"
INSTRUMENT_ID = HRSC
INSTRUMENT_NAME = "HIGH RESOLUTION STEREO CAMERA"
MISSION_NAME = "MARS EXPRESS"
MISSION_PHASE_NAME = ME_Phase_40
PROCESSING_LEVEL_ID = 4
PRODUCT_CREATION_TIME = 2023-01-26T14:38:39.000Z
PRODUCT_ID = "HJ592_0000_P24.TIF"
RELEASE_ID = 0002
REVISION_ID = 0000
/* QUALITY DATA ELEMENTS */
DATA_QUALITY_ID = 1
DATA_QUALITY_DESC = "Data calculated based on original SPICE kernels"
/* TIME DATA ELEMENTS */
SPACECRAFT_CLOCK_START_COUNT = "1/0509887547.25682"
SPACECRAFT_CLOCK_STOP_COUNT = "1/0509887990.19316"
START_TIME = 2019-06-29T11:29:46.456Z
STOP_TIME = 2019-06-29T11:33:00.374Z
/* ORBITAL DATA ELEMENTS */
ASCENDING_NODE_LONGITUDE = 207.03
MAXIMUM_RESOLUTION = 1.6297
FOOTPRINT_POINT_LATITUDE = (-60.1333,-58.5565,-58.7712,-56.6581, -53.5409,-51.3766,-47.6933,-45.3947, -44.6482,-41.4653,-37.8411,-33.2334, -30.855,-26.8802,-23.5181,-20.8482, -18.0934,-15.5264,-13.1186,-10.8344, -6.5537,-3.2849,1.24702,5.58035,8.02856 ,11.985,15.2576,18.7514,22.2789,25.8734 ,29.5708,33.4164,37.4646,41.7939, 46.5145,49.0759,51.8147,54.7741,58.0309 ,61.7018,65.9967,68.5102,71.4086, 74.9467,77.1402,78.4494,80.6721,83.1966 ,85.3829,87.6822,87.5395,83.8814, 81.5431,72.2854,68.0257,65.2538,60.9288 ,58.1853,55.7788,55.012,54.3364,52.9223 ,51.517,48.8636,46.5999,44.1832,41.5849 ,39.3943,36.0135,31.389,28.3676,25.6585 ,22.1478,18.7152,15.3299,11.964,8.59261 ,3.247,0.840505,-2.74798,-6.47934, -11.447,-17.1579,-22.711,-26.556, -29.2996,-33.2086,-36.6789,-41.4361, -44.3953,-48.0498,-53.2764,-57.1279, -59.2421,-58.9909,-59.955,-59.8313, -59.786,-60.094,-60.1333)
FOOTPRINT_POINT_LONGITUDE = (459.974,465.631,465.924,469.492,475.45 ,479.047,482.745,486.735,490.794, 485.549,480.876,476.176,474.142,471.195 ,469.056,467.526,466.113,464.906, 463.867,462.954,461.417,460.376,459.11, 458.074,457.563,456.825,456.294,455.819 ,455.433,455.141,454.952,454.886, 454.975,455.283,455.923,456.436,457.145 ,458.137,459.578,461.805,465.64,468.856 ,474.057,484.595,496.906,512.982, 519.172,492.382,475.031,499.348,388.598 ,369.119,352.477,353.233,355.37,358.059 ,358.901,357.688,356.821,364.534,370.17 ,377.285,382.217,388.981,393.425, 397.253,400.697,403.173,406.426,410.034 ,412.017,413.599,415.395,416.927, 418.251,419.415,420.445,421.824,422.356 ,423.057,423.673,424.31,424.817,425.056 ,425.07,424.986,424.753,424.416,423.702 ,423.072,422.062,420.04,418.681,424.661 ,430.203,438.499,443.856,451.532, 459.708,459.974)
ORBIT_NUMBER = 19592
ORBITAL_ECCENTRICITY = 0.578
ORBITAL_INCLINATION = 86.97
ORBITAL_SEMIMAJOR_AXIS = 8831.85
PERIAPSIS_ALTITUDE = 337.77
PERIAPSIS_ARGUMENT_ANGLE = 204.85
PERIAPSIS_TIME = 2019-06-29T08:40:35.000Z
SPACECRAFT_ORIENTATION = (0.0,-1.0,0.0)
^MEX_ORIENTATION_DESC = "MEX_ORIENTATION_DESC.TXT"
SPACECRAFT_POINTING_MODE = FIXED
^MEX_POINTING_DESC = "MEX_POINTING_DESC.TXT"
RIGHT_ASCENSION = -1e+32
DECLINATION = -1e+32
OFFSET_ANGLE = -1e+32
SPACECRAFT_SOLAR_DISTANCE = 2.46791e+08
TARGET_NAME = MARS
/* CAMERA DATA ELEMENTS */
DETECTOR_TEMPERATURE = 18.5744
FOCAL_PLANE_TEMPERATURE = 8.1755
INST_CMPRS_NAME = "DISCRETE COSINE TRANSFORMATION (DCT)"
INST_CMPRS_RATIO = 7.79685
INST_CMPRS_QUALITY = 0
INST_CMPRS_QUANTZ_TBL_ID = 0
INSTRUMENT_TEMPERATURE = 10.8262
LENS_TEMPERATURE = 7.9716
MACROPIXEL_SIZE = 4
MISSING_FRAMES = 0
PIXEL_SUBSAMPLING_FLAG = N
SIGNAL_CHAIN_ID = 3
/* RADIOMETRIC DATA ELEMENTS */
BANDWIDTH = 177.0
CENTER_FILTER_WAVELENGTH = 676.5
RADIANCE_OFFSET = 0.0
RADIANCE_SCALING_FACTOR = 0.0205994
REFLECTANCE_SCALING_FACTOR = 0.00066528
MEX:REFLECTANCE_OFFSET = 0.0
/* IMAGE OBJECT DEFINITIONS */
OBJECT = IMAGE
  INTERCHANGE_FORMAT = BINARY
  LINES = 4020
  LINE_SAMPLES = 2439
  SAMPLE_TYPE = UNSIGNED_INTEGER
  SAMPLE_BITS = 8
  BANDS = 1
  BAND_STORAGE_TYPE = BAND_SEQUENTIAL
  MAXIMUM = 255
  MEAN = 196.917
  MINIMUM = 1
  STANDARD_DEVIATION = 60.4423
END_OBJECT = IMAGE
/* MAP OBJECT DEFINITIONS */
OBJECT = IMAGE_MAP_PROJECTION
  ^DATA_SET_MAP_PROJECTION_CATALOG= "DSMAP.CAT"
  A_AXIS_RADIUS = 3396.0
  B_AXIS_RADIUS = 3396.0
  C_AXIS_RADIUS = 3396.0
  CENTER_LATITUDE = 13.0156
  CENTER_LONGITUDE = 77.87430000000001
  COORDINATE_SYSTEM_NAME = PLANETOGRAPHIC
  COORDINATE_SYSTEM_TYPE = "BODY-FIXED ROTATING"
  EASTERNMOST_LONGITUDE = 159.172
  FIRST_STANDARD_PARALLEL = "N/A"
  LINE_FIRST_PIXEL = 1
  LINE_LAST_PIXEL = 4020
  LINE_PROJECTION_OFFSET = 2011.75
  MAP_PROJECTION_ROTATION = 0.0
  MAP_PROJECTION_TYPE = ORTHOGRAPHIC
  MAP_RESOLUTION = 37.0446127416667
  MAP_SCALE = 1.6
  MAXIMUM_LATITUDE = 87.68219999999999
  MINIMUM_LATITUDE = -60.1333
  POSITIVE_LONGITUDE_DIRECTION = EAST
  REFERENCE_LATITUDE = "N/A"
  REFERENCE_LONGITUDE = "N/A"
  SAMPLE_FIRST_PIXEL = 1
  SAMPLE_LAST_PIXEL = 2439
  SAMPLE_PROJECTION_OFFSET = 1227.75
  SECOND_STANDARD_PARALLEL = "N/A"
  WESTERNMOST_LONGITUDE = -7.523
END_OBJECT = IMAGE_MAP_PROJECTION
END
