PDS_VERSION_ID = PDS3
/* FILE DATA ELEMENTS */
RECORD_TYPE = UNDEFINED
/* POINTERS TO DATA OBJECTS */
^IMAGE = ("HJ592_0000_P14.TIF")
/* IDENTIFICATION DATA ELEMENTS */
DATA_SET_ID = "MEX-M-HRSC-4-REFDR-MAPPROJECT-EXT7-V4.0"
DATA_SET_NAME = "MARS EXPRESS HRSC MAP PROJECTED REFDR EXTENSION7 V4.0"
DETECTOR_ID = MEX_HRSC_P1
EVENT_TYPE = "MARS-TERMINATOR-CALIBRATION-Tc"
INSTRUMENT_HOST_ID = MEX
INSTRUMENT_HOST_NAME = "MARS EXPRESS"
INSTRUMENT_ID = HRSC
INSTRUMENT_NAME = "HIGH RESOLUTION STEREO CAMERA"
MISSION_NAME = "MARS EXPRESS"
MISSION_PHASE_NAME = ME_Phase_40
PROCESSING_LEVEL_ID = 4
PRODUCT_CREATION_TIME = 2023-01-26T14:38:39.000Z
PRODUCT_ID = "HJ592_0000_P14.TIF"
RELEASE_ID = 0002
REVISION_ID = 0000
/* QUALITY DATA ELEMENTS */
DATA_QUALITY_ID = 1
DATA_QUALITY_DESC = "Data calculated based on original SPICE kernels"
/* TIME DATA ELEMENTS */
SPACECRAFT_CLOCK_START_COUNT = "1/0509887547.25682"
SPACECRAFT_CLOCK_STOP_COUNT = "1/0509887990.19316"
START_TIME = 2019-06-29T11:27:00.542Z
STOP_TIME = 2019-06-29T11:30:15.474Z
/* ORBITAL DATA ELEMENTS */
ASCENDING_NODE_LONGITUDE = 207.03
MAXIMUM_RESOLUTION = 1.621
FOOTPRINT_POINT_LATITUDE = (-60.62,-59.1934,-59.3119,-56.6612, -55.0859,-54.0021,-49.0975,-46.7223, -43.9769,-42.2163,-39.7735,-37.8801, -34.9168,-32.4561,-28.4138,-24.9921, -21.9587,-18.2359,-15.7419,-13.3913, -9.01671,-5.44738,-2.05485,3.46256, 7.01418,10.9381,14.4016,17.8688,21.3695 ,24.9358,28.6036,32.4171,36.4287, 40.7144,45.385,47.9135,50.6124,53.5266, 56.7225,60.3133,64.4875,66.9123,69.6792 ,73.0046,75.0132,77.4804,79.0976, 81.6837,84.6293,87.7797,85.2432,85.3018 ,82.2782,77.475,73.4985,70.5064,65.4743 ,61.0931,59.9904,56.7492,53.7881, 52.6935,51.2417,49.8288,47.1504,43.738, 41.1065,38.8882,36.7669,32.7575,29.1915 ,23.763,20.2836,17.9348,14.3462,10.9892 ,6.78048,1.64321,-1.88421,-5.76103, -9.35435,-13.4181,-18.386,-21.368, -27.4891,-31.5055,-34.6654,-38.7606, -43.9085,-47.2125,-51.6823,-54.6981, -58.2543,-59.0358,-60.4989,-60.107, -61.7086,-60.0807,-59.8074,-60.62)
FOOTPRINT_POINT_LONGITUDE = (461.224,466.7,466.902,469.645,473.44, 480.368,483.148,485.329,487.604,484.953 ,481.75,479.569,476.587,474.419,471.355 ,469.13,467.385,465.496,464.355,463.363 ,461.706,460.51,459.489,458.065,457.273 ,456.519,455.932,455.429,455.007, 454.669,454.421,454.281,454.271,454.443 ,454.889,455.267,455.799,456.555, 457.654,459.341,462.172,464.459,467.951 ,474.204,479.907,491.221,505.923, 494.432,496.517,445.192,402.151,369.767 ,373.056,355.578,359.578,356.725, 357.055,359.844,355.194,359.023,367.011 ,374.093,380.072,384.424,390.674, 396.546,400.144,402.722,404.883,408.332 ,410.889,414.106,415.82,416.847,418.248 ,419.401,420.649,421.92,422.644,423.32, 423.823,424.265,424.625,424.757,424.74, 424.515,424.226,423.688,422.633,421.687 ,419.957,418.446,416.03,422.867,428.661 ,437.376,448.717,453.563,462.996, 461.224)
ORBIT_NUMBER = 19592
ORBITAL_ECCENTRICITY = 0.578
ORBITAL_INCLINATION = 86.97
ORBITAL_SEMIMAJOR_AXIS = 8831.85
PERIAPSIS_ALTITUDE = 337.77
PERIAPSIS_ARGUMENT_ANGLE = 204.85
PERIAPSIS_TIME = 2019-06-29T08:40:35.000Z
SPACECRAFT_ORIENTATION = (0.0,-1.0,0.0)
^MEX_ORIENTATION_DESC = "MEX_ORIENTATION_DESC.TXT"
SPACECRAFT_POINTING_MODE = FIXED
^MEX_POINTING_DESC = "MEX_POINTING_DESC.TXT"
RIGHT_ASCENSION = -1e+32
DECLINATION = -1e+32
OFFSET_ANGLE = -1e+32
SPACECRAFT_SOLAR_DISTANCE = 2.46791e+08
TARGET_NAME = MARS
/* CAMERA DATA ELEMENTS */
DETECTOR_TEMPERATURE = 16.9432
FOCAL_PLANE_TEMPERATURE = 8.1755
INST_CMPRS_NAME = "DISCRETE COSINE TRANSFORMATION (DCT)"
INST_CMPRS_RATIO = 7.90334
INST_CMPRS_QUALITY = 0
INST_CMPRS_QUANTZ_TBL_ID = 0
INSTRUMENT_TEMPERATURE = 10.8262
LENS_TEMPERATURE = 7.9716
MACROPIXEL_SIZE = 4
MISSING_FRAMES = 0
PIXEL_SUBSAMPLING_FLAG = N
SIGNAL_CHAIN_ID = 3
/* RADIOMETRIC DATA ELEMENTS */
BANDWIDTH = 174.0
CENTER_FILTER_WAVELENGTH = 675.0
RADIANCE_OFFSET = 0.0
RADIANCE_SCALING_FACTOR = 0.0199222
REFLECTANCE_SCALING_FACTOR = 0.000652704
MEX:REFLECTANCE_OFFSET = 0.0
/* IMAGE OBJECT DEFINITIONS */
OBJECT = IMAGE
  INTERCHANGE_FORMAT = BINARY
  LINES = 4020
  LINE_SAMPLES = 2439
  SAMPLE_TYPE = UNSIGNED_INTEGER
  SAMPLE_BITS = 8
  BANDS = 1
  BAND_STORAGE_TYPE = BAND_SEQUENTIAL
  MAXIMUM = 255
  MEAN = 196.592
  MINIMUM = 1
  STANDARD_DEVIATION = 61.3496
END_OBJECT = IMAGE
/* MAP OBJECT DEFINITIONS */
OBJECT = IMAGE_MAP_PROJECTION
  ^DATA_SET_MAP_PROJECTION_CATALOG= "DSMAP.CAT"
  A_AXIS_RADIUS = 3396.0
  B_AXIS_RADIUS = 3396.0
  C_AXIS_RADIUS = 3396.0
  CENTER_LATITUDE = 13.0156
  CENTER_LONGITUDE = 77.87430000000001
  COORDINATE_SYSTEM_NAME = PLANETOGRAPHIC
  COORDINATE_SYSTEM_TYPE = "BODY-FIXED ROTATING"
  EASTERNMOST_LONGITUDE = 145.923
  FIRST_STANDARD_PARALLEL = "N/A"
  LINE_FIRST_PIXEL = 1
  LINE_LAST_PIXEL = 4020
  LINE_PROJECTION_OFFSET = 2011.75
  MAP_PROJECTION_ROTATION = 0.0
  MAP_PROJECTION_TYPE = ORTHOGRAPHIC
  MAP_RESOLUTION = 37.0446127416667
  MAP_SCALE = 1.6
  MAXIMUM_LATITUDE = 87.77970000000001
  MINIMUM_LATITUDE = -61.7086
  POSITIVE_LONGITUDE_DIRECTION = EAST
  REFERENCE_LATITUDE = "N/A"
  REFERENCE_LONGITUDE = "N/A"
  SAMPLE_FIRST_PIXEL = 1
  SAMPLE_LAST_PIXEL = 2439
  SAMPLE_PROJECTION_OFFSET = 1227.75
  SECOND_STANDARD_PARALLEL = "N/A"
  WESTERNMOST_LONGITUDE = -4.806
END_OBJECT = IMAGE_MAP_PROJECTION
END
