PDS_VERSION_ID = PDS3
/* FILE DATA ELEMENTS */
RECORD_TYPE = UNDEFINED
/* POINTERS TO DATA OBJECTS */
^IMAGE = ("HJ576_0000_BL4.TIF")
/* IDENTIFICATION DATA ELEMENTS */
DATA_SET_ID = "MEX-M-HRSC-4-REFDR-MAPPROJECT-EXT7-V4.0"
DATA_SET_NAME = "MARS EXPRESS HRSC MAP PROJECTED REFDR EXTENSION7 V4.0"
DETECTOR_ID = MEX_HRSC_BLUE
EVENT_TYPE = "MARS-TERMINATOR-CALIBRATION-Tc"
INSTRUMENT_HOST_ID = MEX
INSTRUMENT_HOST_NAME = "MARS EXPRESS"
INSTRUMENT_ID = HRSC
INSTRUMENT_NAME = "HIGH RESOLUTION STEREO CAMERA"
MISSION_NAME = "MARS EXPRESS"
MISSION_PHASE_NAME = ME_Phase_40
PROCESSING_LEVEL_ID = 4
PRODUCT_CREATION_TIME = 2023-01-26T14:38:39.000Z
PRODUCT_ID = "HJ576_0000_BL4.TIF"
RELEASE_ID = 0002
REVISION_ID = 0000
/* QUALITY DATA ELEMENTS */
DATA_QUALITY_ID = 1
DATA_QUALITY_DESC = "Data calculated based on original SPICE kernels"
/* TIME DATA ELEMENTS */
SPACECRAFT_CLOCK_START_COUNT = "1/0509486151.25701"
SPACECRAFT_CLOCK_STOP_COUNT = "1/0509486591.25880"
START_TIME = 2019-06-24T19:58:48.456Z
STOP_TIME = 2019-06-24T20:02:00.458Z
/* ORBITAL DATA ELEMENTS */
ASCENDING_NODE_LONGITUDE = 207.32
MAXIMUM_RESOLUTION = 0.8285
FOOTPRINT_POINT_LATITUDE = (-55.1002,-55.1754,-54.8312,-53.5468, -51.2546,-49.1587,-47.1548,-45.3642, -41.2149,-38.8104,-35.5814,-31.0259, -27.605,-24.2784,-21.7329,-18.1978, -14.8189,-12.0603,-8.66107,-2.98293, 2.18428,8.13691,12.1141,17.0232,20.8166 ,23.73,28.3338,33.3383,39.3381,44.3072, 48.5434,51.4328,56.04,60.5726,63.583, 67.7318,69.9811,72.0825,72.7725,72.6969 ,71.9638,75.5561,74.9016,75.5433, 78.1413,77.8128,80.9754,80.7398,80.073, 83.4953,83.9885,83.1266,81.6899,81.0175 ,78.5086,75.3525,71.3686,68.6829, 66.4733,63.2155,61.3007,60.536,60.5887, 60.1582,59.5286,57.3662,55.5412,52.8413 ,48.3745,44.4979,41.9915,39.7972, 35.0836,31.2383,26.7284,23.4299,18.653, 14.2304,9.27862,3.43954,-1.56947, -6.10948,-9.53196,-13.5904,-17.501, -23.3721,-28.4984,-31.8443,-36.0207, -39.0833,-42.8304,-48.2685,-49.8329, -52.9422,-52.2761,-53.1131,-54.5494, -55.2126,-55.1002)
FOOTPRINT_POINT_LONGITUDE = (281.188,281.247,281.922,286.921, 293.126,301.636,306.246,310.696,309.041 ,306.747,304.085,300.992,299.04,297.403 ,296.29,294.916,293.769,293.013,292.033 ,290.793,289.918,289.189,288.859, 288.626,288.589,288.659,288.938,289.512 ,290.668,292.16,293.915,295.458,298.75, 303.42,307.818,317.068,325.262,339.094, 351.011,1.65579,15.8266,11.2124,359.961 ,14.0237,14.3928,26.9818,26.456, 0.012687,36.3852,33.3561,75.4167, 120.294,131.046,137.594,150.604,158.236 ,167.091,165.977,173.098,170.712, 174.731,181.251,190.993,197.154,202.126 ,212.137,217.632,223.638,230.649, 235.058,237.383,239.154,242.266,244.299 ,246.252,247.436,248.846,249.881, 250.797,251.557,251.955,252.132,252.143 ,252.014,251.763,251.064,250.148, 249.346,248.088,246.947,245.233,241.966 ,245.805,247.05,253.098,259.255,267.477 ,273.694,281.188)
ORBIT_NUMBER = 19576
ORBITAL_ECCENTRICITY = 0.578
ORBITAL_INCLINATION = 86.96
ORBITAL_SEMIMAJOR_AXIS = 8829.94
PERIAPSIS_ALTITUDE = 337.34
PERIAPSIS_ARGUMENT_ANGLE = 207.58
PERIAPSIS_TIME = 2019-06-24T16:56:13.000Z
SPACECRAFT_ORIENTATION = (0.0,-1.0,0.0)
^MEX_ORIENTATION_DESC = "MEX_ORIENTATION_DESC.TXT"
SPACECRAFT_POINTING_MODE = FIXED
^MEX_POINTING_DESC = "MEX_POINTING_DESC.TXT"
RIGHT_ASCENSION = -1e+32
DECLINATION = -1e+32
OFFSET_ANGLE = -1e+32
SPACECRAFT_SOLAR_DISTANCE = 2.46386e+08
TARGET_NAME = MARS
/* CAMERA DATA ELEMENTS */
DETECTOR_TEMPERATURE = 18.1666
FOCAL_PLANE_TEMPERATURE = 8.1755
INST_CMPRS_NAME = "DISCRETE COSINE TRANSFORMATION (DCT)"
INST_CMPRS_RATIO = 3.48037
INST_CMPRS_QUALITY = 0
INST_CMPRS_QUANTZ_TBL_ID = 0
INSTRUMENT_TEMPERATURE = 11.0301
LENS_TEMPERATURE = 8.1755
MACROPIXEL_SIZE = 2
MISSING_FRAMES = 0
PIXEL_SUBSAMPLING_FLAG = N
SIGNAL_CHAIN_ID = 2
/* RADIOMETRIC DATA ELEMENTS */
BANDWIDTH = 76.0
CENTER_FILTER_WAVELENGTH = 444.0
RADIANCE_OFFSET = 0.0
RADIANCE_SCALING_FACTOR = 0.00878669
REFLECTANCE_SCALING_FACTOR = 0.000548091
MEX:REFLECTANCE_OFFSET = 0.0
/* IMAGE OBJECT DEFINITIONS */
OBJECT = IMAGE
  INTERCHANGE_FORMAT = BINARY
  LINES = 8178
  LINE_SAMPLES = 4233
  SAMPLE_TYPE = UNSIGNED_INTEGER
  SAMPLE_BITS = 8
  BANDS = 1
  BAND_STORAGE_TYPE = BAND_SEQUENTIAL
  MAXIMUM = 255
  MEAN = 97.2062
  MINIMUM = 1
  STANDARD_DEVIATION = 46.1149
END_OBJECT = IMAGE
/* MAP OBJECT DEFINITIONS */
OBJECT = IMAGE_MAP_PROJECTION
  ^DATA_SET_MAP_PROJECTION_CATALOG= "DSMAP.CAT"
  A_AXIS_RADIUS = 3396.0
  B_AXIS_RADIUS = 3396.0
  C_AXIS_RADIUS = 3396.0
  CENTER_LATITUDE = 20.0175
  CENTER_LONGITUDE = 268.755
  COORDINATE_SYSTEM_NAME = PLANETOGRAPHIC
  COORDINATE_SYSTEM_TYPE = "BODY-FIXED ROTATING"
  EASTERNMOST_LONGITUDE = 360.0
  FIRST_STANDARD_PARALLEL = "N/A"
  LINE_FIRST_PIXEL = 1
  LINE_LAST_PIXEL = 8178
  LINE_PROJECTION_OFFSET = 4090.0
  MAP_PROJECTION_ROTATION = 0.0
  MAP_PROJECTION_TYPE = ORTHOGRAPHIC
  MAP_RESOLUTION = 74.08922548333329
  MAP_SCALE = 0.8
  MAXIMUM_LATITUDE = 90.0
  MINIMUM_LATITUDE = -55.2126
  POSITIVE_LONGITUDE_DIRECTION = EAST
  REFERENCE_LATITUDE = "N/A"
  REFERENCE_LONGITUDE = "N/A"
  SAMPLE_FIRST_PIXEL = 1
  SAMPLE_LAST_PIXEL = 4233
  SAMPLE_PROJECTION_OFFSET = 2126.0
  SECOND_STANDARD_PARALLEL = "N/A"
  WESTERNMOST_LONGITUDE = 0.0
END_OBJECT = IMAGE_MAP_PROJECTION
END
