PDS_VERSION_ID = PDS3
/* FILE DATA ELEMENTS */
RECORD_TYPE = UNDEFINED
/* POINTERS TO DATA OBJECTS */
^IMAGE = ("HJ475_0000_RE4.TIF")
/* IDENTIFICATION DATA ELEMENTS */
DATA_SET_ID = "MEX-M-HRSC-4-REFDR-MAPPROJECT-EXT7-V4.0"
DATA_SET_NAME = "MARS EXPRESS HRSC MAP PROJECTED REFDR EXTENSION7 V4.0"
DETECTOR_ID = MEX_HRSC_RED
EVENT_TYPE = "MARS-TERMINATOR-CALIBRATION-Tc"
INSTRUMENT_HOST_ID = MEX
INSTRUMENT_HOST_NAME = "MARS EXPRESS"
INSTRUMENT_ID = HRSC
INSTRUMENT_NAME = "HIGH RESOLUTION STEREO CAMERA"
MISSION_NAME = "MARS EXPRESS"
MISSION_PHASE_NAME = ME_Phase_40
PROCESSING_LEVEL_ID = 4
PRODUCT_CREATION_TIME = 2023-01-26T14:38:39.000Z
PRODUCT_ID = "HJ475_0000_RE4.TIF"
RELEASE_ID = 0002
REVISION_ID = 0000
/* QUALITY DATA ELEMENTS */
DATA_QUALITY_ID = 1
DATA_QUALITY_DESC = "Data calculated based on original SPICE kernels"
/* TIME DATA ELEMENTS */
SPACECRAFT_CLOCK_START_COUNT = "1/0506945746.23993"
SPACECRAFT_CLOCK_STOP_COUNT = "1/0506946191.19634"
START_TIME = 2019-05-26T10:20:05.422Z
STOP_TIME = 2019-05-26T10:23:22.424Z
/* ORBITAL DATA ELEMENTS */
ASCENDING_NODE_LONGITUDE = 209.18
MAXIMUM_RESOLUTION = 0.8046
FOOTPRINT_POINT_LATITUDE = (-41.2775,-41.3495,-41.3285,-41.7771, -42.0899,-42.724,-43.3537,-41.3569, -42.9128,-39.4316,-34.8125,-31.4714, -26.9718,-23.9888,-20.0677,-14.4973, -11.0036,-6.04593,-1.37514,1.08394, 3.84129,7.01306,10.9231,15.2373,18.4036 ,22.064,27.3455,32.6246,35.7952,40.0016 ,43.203,46.4342,48.2896,51.5407,53.6792 ,54.7158,55.1083,55.2865,55.0501, 54.6579,53.9202,52.3466,52.9111,57.212, 60.0136,61.8108,63.8121,65.55,67.4682, 70.5475,71.5383,74.1023,72.6768,74.679, 73.5204,79.4122,73.8765,76.9625,80.6916 ,82.5152,83.0791,80.9578,78.9604, 73.7553,69.9837,67.5766,64.2979,61.2324 ,56.4276,53.5836,50.8497,46.4527, 42.2224,39.8254,36.0244,33.1035,29.0342 ,24.2496,20.3721,17.7575,13.2609, 10.5493,6.21484,2.80016,-2.12467, -6.74206,-10.657,-13.9433,-17.1424, -20.4826,-22.6694,-25.1388,-27.7528, -31.2853,-35.3619,-36.3072,-39.227, -40.4744,-41.2775)
FOOTPRINT_POINT_LONGITUDE = (126.91,126.901,128.024,133.512,137.245 ,143.003,149.477,152.8,155.838,155.421, 155.092,154.978,154.971,155.06,155.251, 155.72,156.123,156.839,157.656,158.154, 158.769,159.558,160.659,162.087,163.286 ,164.867,167.599,171.028,173.537, 177.588,181.438,186.328,189.808,197.95, 206.329,213.217,217.65,223.289,230.154, 234.319,239.338,246.35,254.755,259.25, 263.615,267.044,274.441,278.442,282.931 ,290.955,299.836,308.887,321.447, 335.351,346.949,0.0136232,348.874, 356.899,10.8977,27.2582,70.7826,96.203, 106.024,117.857,121.918,123.629,125.284 ,126.347,127.386,127.745,127.952, 128.062,127.962,127.83,127.522,127.21, 126.673,125.9,125.166,124.615,123.561, 122.858,121.621,120.552,118.806,116.931 ,115.147,113.465,111.68,109.587,108.078 ,106.221,104.038,108.531,111.595, 114.961,122.079,123.759,126.91)
ORBIT_NUMBER = 19475
ORBITAL_ECCENTRICITY = 0.577
ORBITAL_INCLINATION = 86.97
ORBITAL_SEMIMAJOR_AXIS = 8801.19
PERIAPSIS_ALTITUDE = 333.43
PERIAPSIS_ARGUMENT_ANGLE = 224.87
PERIAPSIS_TIME = 2019-05-26T07:37:45.000Z
SPACECRAFT_ORIENTATION = (0.0,-1.0,0.0)
^MEX_ORIENTATION_DESC = "MEX_ORIENTATION_DESC.TXT"
SPACECRAFT_POINTING_MODE = FIXED
^MEX_POINTING_DESC = "MEX_POINTING_DESC.TXT"
RIGHT_ASCENSION = -1e+32
DECLINATION = -1e+32
OFFSET_ANGLE = -1e+32
SPACECRAFT_SOLAR_DISTANCE = 2.43175e+08
TARGET_NAME = MARS
/* CAMERA DATA ELEMENTS */
DETECTOR_TEMPERATURE = 18.5744
FOCAL_PLANE_TEMPERATURE = 8.5833
INST_CMPRS_NAME = "DISCRETE COSINE TRANSFORMATION (DCT)"
INST_CMPRS_RATIO = 12.133
INST_CMPRS_QUALITY = 0
INST_CMPRS_QUANTZ_TBL_ID = 0
INSTRUMENT_TEMPERATURE = 10.8262
LENS_TEMPERATURE = 8.7872
MACROPIXEL_SIZE = 2
MISSING_FRAMES = 0
PIXEL_SUBSAMPLING_FLAG = N
SIGNAL_CHAIN_ID = 3
/* RADIOMETRIC DATA ELEMENTS */
BANDWIDTH = 48.0
CENTER_FILTER_WAVELENGTH = 748.0
RADIANCE_OFFSET = 0.0
RADIANCE_SCALING_FACTOR = 0.0113299
REFLECTANCE_SCALING_FACTOR = 0.00152911
MEX:REFLECTANCE_OFFSET = 0.0
/* IMAGE OBJECT DEFINITIONS */
OBJECT = IMAGE
  INTERCHANGE_FORMAT = BINARY
  LINES = 8157
  LINE_SAMPLES = 5376
  SAMPLE_TYPE = UNSIGNED_INTEGER
  SAMPLE_BITS = 8
  BANDS = 1
  BAND_STORAGE_TYPE = BAND_SEQUENTIAL
  MAXIMUM = 255
  MEAN = 150.975
  MINIMUM = 6
  STANDARD_DEVIATION = 44.6746
END_OBJECT = IMAGE
/* MAP OBJECT DEFINITIONS */
OBJECT = IMAGE_MAP_PROJECTION
  ^DATA_SET_MAP_PROJECTION_CATALOG= "DSMAP.CAT"
  A_AXIS_RADIUS = 3396.0
  B_AXIS_RADIUS = 3396.0
  C_AXIS_RADIUS = 3396.0
  CENTER_LATITUDE = 30.9102
  CENTER_LONGITUDE = 148.716
  COORDINATE_SYSTEM_NAME = PLANETOGRAPHIC
  COORDINATE_SYSTEM_TYPE = "BODY-FIXED ROTATING"
  EASTERNMOST_LONGITUDE = 360.0
  FIRST_STANDARD_PARALLEL = "N/A"
  LINE_FIRST_PIXEL = 1
  LINE_LAST_PIXEL = 8157
  LINE_PROJECTION_OFFSET = 4081.25
  MAP_PROJECTION_ROTATION = 0.0
  MAP_PROJECTION_TYPE = ORTHOGRAPHIC
  MAP_RESOLUTION = 74.08922548333329
  MAP_SCALE = 0.8
  MAXIMUM_LATITUDE = 90.0
  MINIMUM_LATITUDE = -43.3537
  POSITIVE_LONGITUDE_DIRECTION = EAST
  REFERENCE_LATITUDE = "N/A"
  REFERENCE_LONGITUDE = "N/A"
  SAMPLE_FIRST_PIXEL = 1
  SAMPLE_LAST_PIXEL = 5376
  SAMPLE_PROJECTION_OFFSET = 2672.25
  SECOND_STANDARD_PARALLEL = "N/A"
  WESTERNMOST_LONGITUDE = 0.0
END_OBJECT = IMAGE_MAP_PROJECTION
END
