PDS_VERSION_ID = PDS3
/* FILE DATA ELEMENTS */
RECORD_TYPE = UNDEFINED
/* POINTERS TO DATA OBJECTS */
^IMAGE = ("HJ475_0000_ND4.TIF")
/* IDENTIFICATION DATA ELEMENTS */
DATA_SET_ID = "MEX-M-HRSC-4-REFDR-MAPPROJECT-EXT7-V4.0"
DATA_SET_NAME = "MARS EXPRESS HRSC MAP PROJECTED REFDR EXTENSION7 V4.0"
DETECTOR_ID = MEX_HRSC_NADIR
EVENT_TYPE = "MARS-TERMINATOR-CALIBRATION-Tc"
INSTRUMENT_HOST_ID = MEX
INSTRUMENT_HOST_NAME = "MARS EXPRESS"
INSTRUMENT_ID = HRSC
INSTRUMENT_NAME = "HIGH RESOLUTION STEREO CAMERA"
MISSION_NAME = "MARS EXPRESS"
MISSION_PHASE_NAME = ME_Phase_40
PROCESSING_LEVEL_ID = 4
PRODUCT_CREATION_TIME = 2023-01-26T14:38:39.000Z
PRODUCT_ID = "HJ475_0000_ND4.TIF"
RELEASE_ID = 0002
REVISION_ID = 0000
/* QUALITY DATA ELEMENTS */
DATA_QUALITY_ID = 1
DATA_QUALITY_DESC = "Data calculated based on original SPICE kernels"
/* TIME DATA ELEMENTS */
SPACECRAFT_CLOCK_START_COUNT = "1/0506945746.23993"
SPACECRAFT_CLOCK_STOP_COUNT = "1/0506946191.19634"
START_TIME = 2019-05-26T10:18:22.425Z
STOP_TIME = 2019-05-26T10:21:38.547Z
/* ORBITAL DATA ELEMENTS */
ASCENDING_NODE_LONGITUDE = 209.18
MAXIMUM_RESOLUTION = 0.4004
FOOTPRINT_POINT_LATITUDE = (-41.7483,-41.7956,-41.8378,-42.2981, -42.8938,-43.5823,-43.0968,-43.9629, -40.5617,-35.036,-31.5912,-28.9081, -25.186,-21.9389,-17.3315,-13.6857, -10.5805,-7.76022,-4.09663,0.0635037, 2.83541,7.11775,12.5568,16.6032,19.7906 ,23.0528,27.1589,29.7588,33.202,38.1841 ,41.6658,44.0286,47.2385,49.5978, 51.5538,53.1067,53.7084,53.9467,53.8074 ,52.8747,51.5835,49.5209,54.517,58.1895 ,60.5272,62.2733,64.3766,65.1003, 68.0785,70.8138,73.1977,73.3335,73.9252 ,74.1934,80.558,72.9171,77.9309,73.7903 ,76.2971,78.7714,81.6902,82.945,81.6351 ,79.8885,77.6048,72.7308,69.1803, 63.2514,60.594,55.4722,52.2507,49.3964, 45.4272,42.1366,37.9458,32.7859,27.0459 ,22.9007,18.3925,15.3038,12.6616, 8.90368,5.32442,1.15332,-1.52319, -5.43758,-9.20265,-12.1139,-15.4684, -19.5,-23.8296,-26.5139,-30.175, -32.8645,-35.9664,-36.958,-39.9934, -40.3335,-41.7483)
FOOTPRINT_POINT_LONGITUDE = (126.909,126.899,127.736,132.275, 137.043,143.087,150.163,154.803,157.652 ,157.061,156.862,156.78,156.78,156.869, 157.132,157.455,157.805,158.186,158.762 ,159.543,160.141,161.204,162.83,164.285 ,165.602,167.135,169.388,171.038, 173.554,178.079,182.124,185.476,191.215 ,196.861,203.321,211.312,216.898, 222.042,228.93,237.572,243.957,250.749, 256.147,260.42,264.582,268.83,274.299, 275.819,284.061,291.791,306.018,319.345 ,336.108,346.575,359.996,346.387, 359.979,349.249,357.918,5.27966,23.3901 ,61.0228,87.2962,99.8949,108.884, 118.459,122.084,125.482,126.391,127.501 ,127.887,128.079,128.159,128.089,127.85 ,127.355,126.571,125.865,124.966, 124.271,123.621,122.613,121.544,120.181 ,119.213,117.644,115.977,114.553, 112.741,110.285,107.225,105.061,102.925 ,109.141,112.804,116.146,122.886, 123.925,126.909)
ORBIT_NUMBER = 19475
ORBITAL_ECCENTRICITY = 0.577
ORBITAL_INCLINATION = 86.97
ORBITAL_SEMIMAJOR_AXIS = 8801.19
PERIAPSIS_ALTITUDE = 333.43
PERIAPSIS_ARGUMENT_ANGLE = 224.87
PERIAPSIS_TIME = 2019-05-26T07:37:45.000Z
SPACECRAFT_ORIENTATION = (0.0,-1.0,0.0)
^MEX_ORIENTATION_DESC = "MEX_ORIENTATION_DESC.TXT"
SPACECRAFT_POINTING_MODE = FIXED
^MEX_POINTING_DESC = "MEX_POINTING_DESC.TXT"
RIGHT_ASCENSION = -1e+32
DECLINATION = -1e+32
OFFSET_ANGLE = -1e+32
SPACECRAFT_SOLAR_DISTANCE = 2.43175e+08
TARGET_NAME = MARS
/* CAMERA DATA ELEMENTS */
DETECTOR_TEMPERATURE = 18.1666
FOCAL_PLANE_TEMPERATURE = 8.5833
INST_CMPRS_NAME = "DISCRETE COSINE TRANSFORMATION (DCT)"
INST_CMPRS_RATIO = 7.83125
INST_CMPRS_QUALITY = 0
INST_CMPRS_QUANTZ_TBL_ID = 0
INSTRUMENT_TEMPERATURE = 10.8262
LENS_TEMPERATURE = 8.7872
MACROPIXEL_SIZE = 1
MISSING_FRAMES = 0
PIXEL_SUBSAMPLING_FLAG = N
SIGNAL_CHAIN_ID = 0
/* RADIOMETRIC DATA ELEMENTS */
BANDWIDTH = 177.0
CENTER_FILTER_WAVELENGTH = 677.5
RADIANCE_OFFSET = 0.0
RADIANCE_SCALING_FACTOR = 0.0465993
REFLECTANCE_SCALING_FACTOR = 0.00146403
MEX:REFLECTANCE_OFFSET = 0.0
/* IMAGE OBJECT DEFINITIONS */
OBJECT = IMAGE
  INTERCHANGE_FORMAT = BINARY
  LINES = 16314
  LINE_SAMPLES = 10752
  SAMPLE_TYPE = UNSIGNED_INTEGER
  SAMPLE_BITS = 8
  BANDS = 1
  BAND_STORAGE_TYPE = BAND_SEQUENTIAL
  MAXIMUM = 255
  MEAN = 143.031
  MINIMUM = 1
  STANDARD_DEVIATION = 42.7802
END_OBJECT = IMAGE
/* MAP OBJECT DEFINITIONS */
OBJECT = IMAGE_MAP_PROJECTION
  ^DATA_SET_MAP_PROJECTION_CATALOG= "DSMAP.CAT"
  A_AXIS_RADIUS = 3396.0
  B_AXIS_RADIUS = 3396.0
  C_AXIS_RADIUS = 3396.0
  CENTER_LATITUDE = 30.9102
  CENTER_LONGITUDE = 148.716
  COORDINATE_SYSTEM_NAME = PLANETOGRAPHIC
  COORDINATE_SYSTEM_TYPE = "BODY-FIXED ROTATING"
  EASTERNMOST_LONGITUDE = 360.0
  FIRST_STANDARD_PARALLEL = "N/A"
  LINE_FIRST_PIXEL = 1
  LINE_LAST_PIXEL = 16314
  LINE_PROJECTION_OFFSET = 8163.0
  MAP_PROJECTION_ROTATION = 0.0
  MAP_PROJECTION_TYPE = ORTHOGRAPHIC
  MAP_RESOLUTION = 148.178450966667
  MAP_SCALE = 0.4
  MAXIMUM_LATITUDE = 90.0
  MINIMUM_LATITUDE = -43.9629
  POSITIVE_LONGITUDE_DIRECTION = EAST
  REFERENCE_LATITUDE = "N/A"
  REFERENCE_LONGITUDE = "N/A"
  SAMPLE_FIRST_PIXEL = 1
  SAMPLE_LAST_PIXEL = 10752
  SAMPLE_PROJECTION_OFFSET = 5345.0
  SECOND_STANDARD_PARALLEL = "N/A"
  WESTERNMOST_LONGITUDE = 0.0
END_OBJECT = IMAGE_MAP_PROJECTION
END
