PDS_VERSION_ID = PDS3
/* FILE DATA ELEMENTS */
RECORD_TYPE = UNDEFINED
/* POINTERS TO DATA OBJECTS */
^IMAGE = ("HJ475_0000_GR4.TIF")
/* IDENTIFICATION DATA ELEMENTS */
DATA_SET_ID = "MEX-M-HRSC-4-REFDR-MAPPROJECT-EXT7-V4.0"
DATA_SET_NAME = "MARS EXPRESS HRSC MAP PROJECTED REFDR EXTENSION7 V4.0"
DETECTOR_ID = MEX_HRSC_GREEN
EVENT_TYPE = "MARS-TERMINATOR-CALIBRATION-Tc"
INSTRUMENT_HOST_ID = MEX
INSTRUMENT_HOST_NAME = "MARS EXPRESS"
INSTRUMENT_ID = HRSC
INSTRUMENT_NAME = "HIGH RESOLUTION STEREO CAMERA"
MISSION_NAME = "MARS EXPRESS"
MISSION_PHASE_NAME = ME_Phase_40
PROCESSING_LEVEL_ID = 4
PRODUCT_CREATION_TIME = 2023-01-26T14:38:39.000Z
PRODUCT_ID = "HJ475_0000_GR4.TIF"
RELEASE_ID = 0002
REVISION_ID = 0000
/* QUALITY DATA ELEMENTS */
DATA_QUALITY_ID = 1
DATA_QUALITY_DESC = "Data calculated based on original SPICE kernels"
/* TIME DATA ELEMENTS */
SPACECRAFT_CLOCK_START_COUNT = "1/0506945746.23993"
SPACECRAFT_CLOCK_STOP_COUNT = "1/0506946191.19634"
START_TIME = 2019-05-26T10:18:00.401Z
STOP_TIME = 2019-05-26T10:21:17.403Z
/* ORBITAL DATA ELEMENTS */
ASCENDING_NODE_LONGITUDE = 209.18
MAXIMUM_RESOLUTION = 0.7995
FOOTPRINT_POINT_LATITUDE = (-41.7596,-41.83,-41.7233,-43.0637, -42.7611,-42.3374,-42.0682,-43.5978, -41.6055,-38.4136,-33.9601,-31.3951, -27.8573,-24.771,-19.396,-15.8523, -10.8271,-6.50794,-3.11132,0.734462, 5.17474,9.65214,14.6858,18.0326,22.7648 ,27.1578,30.2242,32.5195,36.0343, 39.1023,42.9448,45.236,47.0153,48.7479, 50.3995,52.0038,53.3709,53.954,53.8732, 53.0753,51.9938,50.741,50.2098,54.5445, 57.9971,61.5252,64.6016,65.8308,68.2809 ,71.7657,75.0365,73.7369,75.0734, 73.2605,78.7709,74.0684,76.4923,78.9954 ,81.8782,82.9336,82.5809,80.5116, 76.1934,72.1517,68.2503,65.1905,60.2608 ,57.4797,53.4962,49.2607,43.8834, 38.5043,34.7272,32.1745,28.6918,25.7496 ,23.0559,19.7059,17.0226,12.7015, 8.24805,4.16008,1.25026,-2.37635, -5.60267,-9.36288,-13.1668,-15.7698, -19.6902,-22.2764,-26.2611,-28.3528, -31.2917,-34.6625,-35.7477,-37.6395, -39.4164,-39.6174,-41.7596)
FOOTPRINT_POINT_LONGITUDE = (126.596,126.587,127.776,133.461, 141.557,145.307,150.347,153.135,157.838 ,157.408,157.015,156.895,156.818, 156.835,157.058,157.308,157.837,158.438 ,159.002,159.749,160.769,161.994, 163.642,164.929,167.067,169.464,171.428 ,173.098,176.051,179.135,183.938, 187.513,190.824,194.695,199.288,205.258 ,213.315,221.767,228.127,236.479, 242.394,247.202,252.209,257.146,258.695 ,267.55,272.803,277.06,284.04,295.728, 311.835,321.646,331.93,346.67,0.0356741 ,349.119,357.74,5.26824,23.6066,41.851, 76.884,97.6541,113.322,119.77,123.286, 125.065,126.874,127.513,128.099,128.403 ,128.437,128.173,127.841,127.553, 127.086,126.625,126.154,125.501,124.923 ,123.889,122.682,121.44,120.475,119.152 ,117.842,116.176,114.287,112.849, 110.454,108.69,105.603,103.765,107.893, 110.55,113.952,118.423,120.869,122.931, 126.596)
ORBIT_NUMBER = 19475
ORBITAL_ECCENTRICITY = 0.577
ORBITAL_INCLINATION = 86.97
ORBITAL_SEMIMAJOR_AXIS = 8801.19
PERIAPSIS_ALTITUDE = 333.43
PERIAPSIS_ARGUMENT_ANGLE = 224.87
PERIAPSIS_TIME = 2019-05-26T07:37:45.000Z
SPACECRAFT_ORIENTATION = (0.0,-1.0,0.0)
^MEX_ORIENTATION_DESC = "MEX_ORIENTATION_DESC.TXT"
SPACECRAFT_POINTING_MODE = FIXED
^MEX_POINTING_DESC = "MEX_POINTING_DESC.TXT"
RIGHT_ASCENSION = -1e+32
DECLINATION = -1e+32
OFFSET_ANGLE = -1e+32
SPACECRAFT_SOLAR_DISTANCE = 2.43175e+08
TARGET_NAME = MARS
/* CAMERA DATA ELEMENTS */
DETECTOR_TEMPERATURE = 18.1666
FOCAL_PLANE_TEMPERATURE = 8.5833
INST_CMPRS_NAME = "DISCRETE COSINE TRANSFORMATION (DCT)"
INST_CMPRS_RATIO = 10.2222
INST_CMPRS_QUALITY = 0
INST_CMPRS_QUANTZ_TBL_ID = 0
INSTRUMENT_TEMPERATURE = 10.8262
LENS_TEMPERATURE = 8.7872
MACROPIXEL_SIZE = 2
MISSING_FRAMES = 0
PIXEL_SUBSAMPLING_FLAG = N
SIGNAL_CHAIN_ID = 2
/* RADIOMETRIC DATA ELEMENTS */
BANDWIDTH = 88.0
CENTER_FILTER_WAVELENGTH = 538.0
RADIANCE_OFFSET = 0.0
RADIANCE_SCALING_FACTOR = 0.0186053
REFLECTANCE_SCALING_FACTOR = 0.000947358
MEX:REFLECTANCE_OFFSET = 0.0
/* IMAGE OBJECT DEFINITIONS */
OBJECT = IMAGE
  INTERCHANGE_FORMAT = BINARY
  LINES = 8157
  LINE_SAMPLES = 5376
  SAMPLE_TYPE = UNSIGNED_INTEGER
  SAMPLE_BITS = 8
  BANDS = 1
  BAND_STORAGE_TYPE = BAND_SEQUENTIAL
  MAXIMUM = 255
  MEAN = 126.335
  MINIMUM = 7
  STANDARD_DEVIATION = 33.7942
END_OBJECT = IMAGE
/* MAP OBJECT DEFINITIONS */
OBJECT = IMAGE_MAP_PROJECTION
  ^DATA_SET_MAP_PROJECTION_CATALOG= "DSMAP.CAT"
  A_AXIS_RADIUS = 3396.0
  B_AXIS_RADIUS = 3396.0
  C_AXIS_RADIUS = 3396.0
  CENTER_LATITUDE = 30.9102
  CENTER_LONGITUDE = 148.716
  COORDINATE_SYSTEM_NAME = PLANETOGRAPHIC
  COORDINATE_SYSTEM_TYPE = "BODY-FIXED ROTATING"
  EASTERNMOST_LONGITUDE = 360.0
  FIRST_STANDARD_PARALLEL = "N/A"
  LINE_FIRST_PIXEL = 1
  LINE_LAST_PIXEL = 8157
  LINE_PROJECTION_OFFSET = 4081.25
  MAP_PROJECTION_ROTATION = 0.0
  MAP_PROJECTION_TYPE = ORTHOGRAPHIC
  MAP_RESOLUTION = 74.08922548333329
  MAP_SCALE = 0.8
  MAXIMUM_LATITUDE = 90.0
  MINIMUM_LATITUDE = -43.5978
  POSITIVE_LONGITUDE_DIRECTION = EAST
  REFERENCE_LATITUDE = "N/A"
  REFERENCE_LONGITUDE = "N/A"
  SAMPLE_FIRST_PIXEL = 1
  SAMPLE_LAST_PIXEL = 5376
  SAMPLE_PROJECTION_OFFSET = 2672.25
  SECOND_STANDARD_PARALLEL = "N/A"
  WESTERNMOST_LONGITUDE = 0.0
END_OBJECT = IMAGE_MAP_PROJECTION
END
