PDS_VERSION_ID = PDS3
/* FILE DATA ELEMENTS */
RECORD_TYPE = UNDEFINED
/* POINTERS TO DATA OBJECTS */
^IMAGE = ("HJ071_0000_GR4.TIF")
/* IDENTIFICATION DATA ELEMENTS */
DATA_SET_ID = "MEX-M-HRSC-4-REFDR-MAPPROJECT-EXT7-V4.0"
DATA_SET_NAME = "MARS EXPRESS HRSC MAP PROJECTED REFDR EXTENSION7 V4.0"
DETECTOR_ID = MEX_HRSC_GREEN
EVENT_TYPE = "MARS-REGIONAL-MAPPING-Im-Pf-Eo"
INSTRUMENT_HOST_ID = MEX
INSTRUMENT_HOST_NAME = "MARS EXPRESS"
INSTRUMENT_ID = HRSC
INSTRUMENT_NAME = "HIGH RESOLUTION STEREO CAMERA"
MISSION_NAME = "MARS EXPRESS"
MISSION_PHASE_NAME = ME_Phase_40
PROCESSING_LEVEL_ID = 4
PRODUCT_CREATION_TIME = 2023-01-26T14:38:39.000Z
PRODUCT_ID = "HJ071_0000_GR4.TIF"
RELEASE_ID = 0002
REVISION_ID = 0000
/* QUALITY DATA ELEMENTS */
DATA_QUALITY_ID = 1
DATA_QUALITY_DESC = "Data calculated based on original SPICE kernels"
/* TIME DATA ELEMENTS */
SPACECRAFT_CLOCK_START_COUNT = "1/0496780366.23978"
SPACECRAFT_CLOCK_STOP_COUNT = "1/0496780774.61700"
START_TIME = 2019-01-28T18:34:04.989Z
STOP_TIME = 2019-01-28T18:39:05.682Z
/* ORBITAL DATA ELEMENTS */
ASCENDING_NODE_LONGITUDE = 216.48
MAXIMUM_RESOLUTION = 0.0806
FOOTPRINT_POINT_LATITUDE = (-40.3159,-40.2858,-40.2419,-40.1673, -40.1658,-40.1925,-39.3924,-38.9028, -38.2467,-37.5811,-36.7364,-36.2199, -35.8748,-35.5232,-35.1717,-34.6383, -34.2806,-33.9167,-33.5527,-33.1823, -32.8127,-32.436,-31.8678,-31.4846, -31.0968,-30.5094,-30.1124,-29.7116, -29.307,-28.898,-28.484,-28.0666, -27.6443,-27.2165,-26.7847,-26.3493, -25.9142,-25.4791,-25.044,-24.3914, -23.9179,-23.4227,-22.9275,-22.4321, -21.6882,-20.9341,-20.6828,-20.4355, -20.4885,-20.52,-20.5646,-20.5917, -20.6254,-20.627,-20.6296,-21.1311, -21.632,-22.1299,-22.6239,-23.3648, -23.8588,-24.5773,-25.0112,-25.4452, -25.8793,-26.3132,-26.7474,-27.1815, -27.6095,-28.0332,-28.4532,-28.868, -29.2778,-29.6845,-30.0864,-30.4837, -30.878,-31.268,-31.8473,-32.2283, -32.6047,-32.9804,-33.3497,-33.7177, -34.0814,-34.6248,-34.9809,-35.3361, -35.6862,-36.0366,-36.3817,-36.7252, -37.0674,-37.744,-38.2395,-38.8995, -39.5493,-40.029,-40.19,-40.3159)
FOOTPRINT_POINT_LONGITUDE = (38.485,37.9896,37.3081,36.2396,36.2188 ,36.2058,36.2276,36.2401,36.2556, 36.2704,36.2867,36.2961,36.302,36.3079, 36.3133,36.3206,36.3254,36.3299,36.3342 ,36.3385,36.3419,36.3455,36.3502,36.353 ,36.3556,36.3589,36.3614,36.3624,36.364 ,36.3651,36.3659,36.3666,36.367,36.3669 ,36.3668,36.3664,36.3656,36.3647, 36.3632,36.3606,36.3583,36.3558,36.3531 ,36.3499,36.3445,36.3383,36.3361, 36.3339,37.0408,37.4902,38.1565,38.5865 ,39.1558,39.1831,39.1921,39.1715, 39.1525,39.1336,39.1162,39.09,39.0726, 39.0466,39.0311,39.0158,39.0007,38.9848 ,38.97,38.9564,38.9431,38.9293,38.9164, 38.9028,38.8894,38.8757,38.8625,38.8485 ,38.8337,38.8233,38.8061,38.7907, 38.7788,38.7663,38.7534,38.7398,38.7282 ,38.7128,38.6994,38.6881,38.6753, 38.6636,38.6526,38.6396,38.6303,38.6078 ,38.5878,38.5661,38.541,38.5239,38.5191 ,38.485)
ORBIT_NUMBER = 19071
ORBITAL_ECCENTRICITY = 0.577
ORBITAL_INCLINATION = 86.97
ORBITAL_SEMIMAJOR_AXIS = 8767.61
PERIAPSIS_ALTITUDE = 328.51
PERIAPSIS_ARGUMENT_ANGLE = 293.3
PERIAPSIS_TIME = 2019-01-28T18:26:42.000Z
SPACECRAFT_ORIENTATION = (0.0,1.0,0.0)
^MEX_ORIENTATION_DESC = "MEX_ORIENTATION_DESC.TXT"
SPACECRAFT_POINTING_MODE = INERT
^MEX_POINTING_DESC = "MEX_POINTING_DESC.TXT"
RIGHT_ASCENSION = 53.206
DECLINATION = 39.802
OFFSET_ANGLE = -1e+32
SPACECRAFT_SOLAR_DISTANCE = 2.22618e+08
TARGET_NAME = MARS
/* CAMERA DATA ELEMENTS */
DETECTOR_TEMPERATURE = 17.5549
FOCAL_PLANE_TEMPERATURE = 7.7677
INST_CMPRS_NAME = "DISCRETE COSINE TRANSFORMATION (DCT)"
INST_CMPRS_RATIO = 15.381
INST_CMPRS_QUALITY = 0
INST_CMPRS_QUANTZ_TBL_ID = 0
INSTRUMENT_TEMPERATURE = 10.0106
LENS_TEMPERATURE = 8.1755
MACROPIXEL_SIZE = 4
MISSING_FRAMES = 0
PIXEL_SUBSAMPLING_FLAG = N
SIGNAL_CHAIN_ID = 2
/* RADIOMETRIC DATA ELEMENTS */
BANDWIDTH = 88.0
CENTER_FILTER_WAVELENGTH = 538.0
RADIANCE_OFFSET = 2.33334
RADIANCE_SCALING_FACTOR = 0.00298234
REFLECTANCE_SCALING_FACTOR = 0.000127254
MEX:REFLECTANCE_OFFSET = 0.0995618
/* IMAGE OBJECT DEFINITIONS */
OBJECT = IMAGE
  INTERCHANGE_FORMAT = BINARY
  LINES = 11802
  LINE_SAMPLES = 1581
  SAMPLE_TYPE = UNSIGNED_INTEGER
  SAMPLE_BITS = 8
  BANDS = 1
  BAND_STORAGE_TYPE = BAND_SEQUENTIAL
  MAXIMUM = 255
  MEAN = 134.17
  MINIMUM = 1
  STANDARD_DEVIATION = 35.9638
END_OBJECT = IMAGE
/* MAP OBJECT DEFINITIONS */
OBJECT = IMAGE_MAP_PROJECTION
  ^DATA_SET_MAP_PROJECTION_CATALOG= "DSMAP.CAT"
  A_AXIS_RADIUS = 3396.0
  B_AXIS_RADIUS = 3396.0
  C_AXIS_RADIUS = 3396.0
  CENTER_LATITUDE = 0.0
  CENTER_LONGITUDE = 38.0
  COORDINATE_SYSTEM_NAME = PLANETOGRAPHIC
  COORDINATE_SYSTEM_TYPE = "BODY-FIXED ROTATING"
  EASTERNMOST_LONGITUDE = 39.1921
  FIRST_STANDARD_PARALLEL = "N/A"
  LINE_FIRST_PIXEL = 1
  LINE_LAST_PIXEL = 11802
  LINE_PROJECTION_OFFSET = -12118.625
  MAP_PROJECTION_ROTATION = 0.0
  MAP_PROJECTION_TYPE = SINUSOIDAL
  MAP_RESOLUTION = 592.713803866667
  MAP_SCALE = 0.1
  MAXIMUM_LATITUDE = -20.4355
  MINIMUM_LATITUDE = -40.3159
  POSITIVE_LONGITUDE_DIRECTION = EAST
  REFERENCE_LATITUDE = "N/A"
  REFERENCE_LONGITUDE = "N/A"
  SAMPLE_FIRST_PIXEL = 1
  SAMPLE_LAST_PIXEL = 1581
  SAMPLE_PROJECTION_OFFSET = 897.125
  SECOND_STANDARD_PARALLEL = "N/A"
  WESTERNMOST_LONGITUDE = 36.2058
END_OBJECT = IMAGE_MAP_PROJECTION
END
