PDS_VERSION_ID = PDS3
/* FILE DATA ELEMENTS */
RECORD_TYPE = UNDEFINED
/* POINTERS TO DATA OBJECTS */
^IMAGE = ("HJ044_0000_P24.TIF")
/* IDENTIFICATION DATA ELEMENTS */
DATA_SET_ID = "MEX-M-HRSC-4-REFDR-MAPPROJECT-EXT7-V4.0"
DATA_SET_NAME = "MARS EXPRESS HRSC MAP PROJECTED REFDR EXTENSION7 V4.0"
DETECTOR_ID = MEX_HRSC_P2
EVENT_TYPE = "MARS-LOCAL-MAPPING-Im-Pf"
INSTRUMENT_HOST_ID = MEX
INSTRUMENT_HOST_NAME = "MARS EXPRESS"
INSTRUMENT_ID = HRSC
INSTRUMENT_NAME = "HIGH RESOLUTION STEREO CAMERA"
MISSION_NAME = "MARS EXPRESS"
MISSION_PHASE_NAME = ME_Phase_40
PROCESSING_LEVEL_ID = 4
PRODUCT_CREATION_TIME = 2023-01-26T14:38:39.000Z
PRODUCT_ID = "HJ044_0000_P24.TIF"
RELEASE_ID = 0002
REVISION_ID = 0000
/* QUALITY DATA ELEMENTS */
DATA_QUALITY_ID = 1
DATA_QUALITY_DESC = "Data calculated based on original SPICE kernels"
/* TIME DATA ELEMENTS */
SPACECRAFT_CLOCK_START_COUNT = "1/0496101315.25702"
SPACECRAFT_CLOCK_STOP_COUNT = "1/0496101506.26703"
START_TIME = 2019-01-20T21:55:55.944Z
STOP_TIME = 2019-01-20T21:58:05.667Z
/* ORBITAL DATA ELEMENTS */
ASCENDING_NODE_LONGITUDE = 216.97
MAXIMUM_RESOLUTION = 0.0266
FOOTPRINT_POINT_LATITUDE = (-55.8236,-55.8001,-55.7768,-55.7507, -55.7498,-55.7248,-55.4511,-55.1784, -54.9043,-54.6306,-54.1739,-53.8932, -53.7043,-53.5156,-53.3267,-53.1379, -52.949,-52.7605,-52.5714,-52.2876, -52.0983,-51.8145,-51.6252,-51.4359, -51.2462,-51.0566,-50.7722,-50.4878, -50.2981,-50.1082,-49.9183,-49.6335, -49.4436,-49.2532,-49.0629,-48.8735, -48.6826,-48.397,-48.1111,-47.9205, -47.7299,-47.5395,-47.3491,-47.1579, -46.9667,-46.7754,-46.5842,-46.3927, -46.297,-46.2843,-46.3021,-46.3234, -46.3392,-46.3494,-46.3495,-46.3502, -46.5395,-46.7306,-46.9221,-47.1134, -47.4004,-47.5916,-47.7827,-47.9737, -48.1646,-48.4516,-48.6428,-48.8318, -49.0223,-49.3077,-49.4982,-49.6881, -49.8788,-50.0688,-50.3539,-50.544, -50.7353,-51.0215,-51.3056,-51.59, -51.7795,-51.9674,-52.1575,-52.3465, -52.5359,-52.8201,-53.0087,-53.1982, -53.4811,-53.67,-53.8592,-54.0479, -54.2351,-54.5093,-54.8752,-55.1494, -55.3325,-55.6979,-55.7891,-55.8236)
FOOTPRINT_POINT_LONGITUDE = (274.919,274.186,273.578,272.979,272.96 ,272.954,272.984,273.014,273.044, 273.073,273.12,273.147,273.166,273.184, 273.202,273.22,273.237,273.255,273.272, 273.297,273.313,273.337,273.353,273.369 ,273.384,273.399,273.422,273.444, 273.458,273.472,273.486,273.507,273.52, 273.533,273.547,273.56,273.572,273.591, 273.61,273.622,273.634,273.645,273.657, 273.668,273.68,273.691,273.702,273.713, 273.718,273.719,274.129,274.651,275.162 ,275.569,275.588,275.594,275.586, 275.576,275.565,275.555,275.539,275.528 ,275.517,275.506,275.495,275.477, 275.465,275.456,275.445,275.429,275.417 ,275.406,275.394,275.383,275.365, 275.353,275.339,275.319,275.301,275.283 ,275.271,275.262,275.248,275.236, 275.223,275.204,275.192,275.178,275.16, 275.147,275.133,275.12,275.107,275.087, 275.058,275.037,275.022,274.992,274.985 ,274.919)
ORBIT_NUMBER = 19044
ORBITAL_ECCENTRICITY = 0.577
ORBITAL_INCLINATION = 86.97
ORBITAL_SEMIMAJOR_AXIS = 8771.87
PERIAPSIS_ALTITUDE = 328.13
PERIAPSIS_ARGUMENT_ANGLE = 297.89
PERIAPSIS_TIME = 2019-01-20T21:54:32.000Z
SPACECRAFT_ORIENTATION = (0.0,1.0,0.0)
^MEX_ORIENTATION_DESC = "MEX_ORIENTATION_DESC.TXT"
SPACECRAFT_POINTING_MODE = INERT
^MEX_POINTING_DESC = "MEX_POINTING_DESC.TXT"
RIGHT_ASCENSION = 24.78
DECLINATION = 51.172
OFFSET_ANGLE = -1e+32
SPACECRAFT_SOLAR_DISTANCE = 2.21113e+08
TARGET_NAME = MARS
/* CAMERA DATA ELEMENTS */
DETECTOR_TEMPERATURE = 18.5744
FOCAL_PLANE_TEMPERATURE = 8.7872
INST_CMPRS_NAME = "DISCRETE COSINE TRANSFORMATION (DCT)"
INST_CMPRS_RATIO = 7.02527
INST_CMPRS_QUALITY = 0
INST_CMPRS_QUANTZ_TBL_ID = 0
INSTRUMENT_TEMPERATURE = 11.4379
LENS_TEMPERATURE = 9.3989
MACROPIXEL_SIZE = 2
MISSING_FRAMES = 0
PIXEL_SUBSAMPLING_FLAG = N
SIGNAL_CHAIN_ID = 3
/* RADIOMETRIC DATA ELEMENTS */
BANDWIDTH = 177.0
CENTER_FILTER_WAVELENGTH = 676.5
RADIANCE_OFFSET = 4.60005
RADIANCE_SCALING_FACTOR = 0.0102446
REFLECTANCE_SCALING_FACTOR = 0.000265572
MEX:REFLECTANCE_OFFSET = 0.119247
/* IMAGE OBJECT DEFINITIONS */
OBJECT = IMAGE
  INTERCHANGE_FORMAT = BINARY
  LINES = 22624
  LINE_SAMPLES = 3989
  SAMPLE_TYPE = UNSIGNED_INTEGER
  SAMPLE_BITS = 8
  BANDS = 1
  BAND_STORAGE_TYPE = BAND_SEQUENTIAL
  MAXIMUM = 255
  MEAN = 103.989
  MINIMUM = 1
  STANDARD_DEVIATION = 35.1579
END_OBJECT = IMAGE
/* MAP OBJECT DEFINITIONS */
OBJECT = IMAGE_MAP_PROJECTION
  ^DATA_SET_MAP_PROJECTION_CATALOG= "DSMAP.CAT"
  A_AXIS_RADIUS = 3396.0
  B_AXIS_RADIUS = 3396.0
  C_AXIS_RADIUS = 3396.0
  CENTER_LATITUDE = 0.0
  CENTER_LONGITUDE = 274.0
  COORDINATE_SYSTEM_NAME = PLANETOGRAPHIC
  COORDINATE_SYSTEM_TYPE = "BODY-FIXED ROTATING"
  EASTERNMOST_LONGITUDE = 275.594
  FIRST_STANDARD_PARALLEL = "N/A"
  LINE_FIRST_PIXEL = 1
  LINE_LAST_PIXEL = 22624
  LINE_PROJECTION_OFFSET = -109653.25
  MAP_PROJECTION_ROTATION = 0.0
  MAP_PROJECTION_TYPE = SINUSOIDAL
  MAP_RESOLUTION = 2370.85521546667
  MAP_SCALE = 0.025
  MAXIMUM_LATITUDE = -46.2843
  MINIMUM_LATITUDE = -55.8236
  POSITIVE_LONGITUDE_DIRECTION = EAST
  REFERENCE_LATITUDE = "N/A"
  REFERENCE_LONGITUDE = "N/A"
  SAMPLE_FIRST_PIXEL = 1
  SAMPLE_LAST_PIXEL = 3989
  SAMPLE_PROJECTION_OFFSET = 1507.75
  SECOND_STANDARD_PARALLEL = "N/A"
  WESTERNMOST_LONGITUDE = 272.954
END_OBJECT = IMAGE_MAP_PROJECTION
END
