PDS_VERSION_ID = PDS3
/* FILE DATA ELEMENTS */
RECORD_TYPE = UNDEFINED
/* POINTERS TO DATA OBJECTS */
^IMAGE = ("HJ034_0000_P24.TIF")
/* IDENTIFICATION DATA ELEMENTS */
DATA_SET_ID = "MEX-M-HRSC-4-REFDR-MAPPROJECT-EXT7-V4.0"
DATA_SET_NAME = "MARS EXPRESS HRSC MAP PROJECTED REFDR EXTENSION7 V4.0"
DETECTOR_ID = MEX_HRSC_P2
EVENT_TYPE = "MARS-REGIONAL-MAPPING-Im-Gl-Pf"
INSTRUMENT_HOST_ID = MEX
INSTRUMENT_HOST_NAME = "MARS EXPRESS"
INSTRUMENT_ID = HRSC
INSTRUMENT_NAME = "HIGH RESOLUTION STEREO CAMERA"
MISSION_NAME = "MARS EXPRESS"
MISSION_PHASE_NAME = ME_Phase_40
PROCESSING_LEVEL_ID = 4
PRODUCT_CREATION_TIME = 2023-01-26T14:38:39.000Z
PRODUCT_ID = "HJ034_0000_P24.TIF"
RELEASE_ID = 0002
REVISION_ID = 0000
/* QUALITY DATA ELEMENTS */
DATA_QUALITY_ID = 1
DATA_QUALITY_DESC = "Data calculated based on original SPICE kernels"
/* TIME DATA ELEMENTS */
SPACECRAFT_CLOCK_START_COUNT = "1/0495849723.25695"
SPACECRAFT_CLOCK_STOP_COUNT = "1/0495849947.16063"
START_TIME = 2019-01-18T00:02:46.063Z
STOP_TIME = 2019-01-18T00:05:28.161Z
/* ORBITAL DATA ELEMENTS */
ASCENDING_NODE_LONGITUDE = 217.15
MAXIMUM_RESOLUTION = 0.0268
FOOTPRINT_POINT_LATITUDE = (-67.0175,-66.9915,-66.9636,-66.9302, -66.9291,-66.8693,-66.6577,-66.4453, -66.2321,-65.9125,-65.5924,-65.2725, -65.0589,-64.7452,-64.5379,-64.3306, -64.1238,-63.9164,-63.7087,-63.5013, -63.2926,-63.0846,-62.8764,-62.6683, -62.3562,-62.1478,-61.94,-61.6267, -61.3137,-61.1048,-60.8955,-60.6858, -60.4762,-60.2664,-60.0568,-59.8469, -59.6367,-59.3214,-59.111,-58.9007, -58.5848,-58.3743,-58.0584,-57.8476, -57.5317,-57.3208,-57.1102,-56.7948, -56.479,-56.3736,-56.3424,-56.3541, -56.3684,-56.3775,-56.3774,-56.3779, -56.6963,-57.0135,-57.2255,-57.5428, -57.7539,-57.9654,-58.1766,-58.3884, -58.706,-59.0234,-59.2349,-59.4465, -59.6571,-59.8679,-60.1834,-60.3942, -60.6051,-60.816,-61.024,-61.2352, -61.5492,-61.7589,-62.0732,-62.3872, -62.7017,-63.0155,-63.2248,-63.4339, -63.643,-63.8518,-64.0609,-64.2695, -64.4781,-64.6867,-64.895,-65.1063, -65.3219,-65.644,-65.9664,-66.1822, -66.3963,-66.8236,-66.9318,-67.0175)
FOOTPRINT_POINT_LONGITUDE = (214.838,213.744,212.836,211.94,211.912 ,211.901,211.968,212.032,212.096, 212.188,212.278,212.365,212.422,212.503 ,212.555,212.606,212.656,212.705, 212.753,212.8,212.846,212.891,212.936, 212.979,213.043,213.084,213.125,213.185 ,213.242,213.28,213.317,213.353,213.389 ,213.424,213.458,213.491,213.524, 213.572,213.603,213.634,213.679,213.708 ,213.751,213.779,213.82,213.847,213.873 ,213.911,213.948,213.96,213.964,214.74, 215.507,216.013,216.034,216.042,216.02, 216.0,215.986,215.964,215.95,215.935, 215.92,215.904,215.879,215.853,215.836, 215.818,215.801,215.784,215.758,215.739 ,215.72,215.701,215.686,215.664,215.637 ,215.617,215.586,215.555,215.522, 215.489,215.465,215.442,215.418,215.394 ,215.369,215.343,215.317,215.291, 215.264,215.235,215.205,215.161,215.114 ,215.08,215.049,214.984,214.965, 214.838)
ORBIT_NUMBER = 19034
ORBITAL_ECCENTRICITY = 0.577
ORBITAL_INCLINATION = 86.99
ORBITAL_SEMIMAJOR_AXIS = 8772.8
PERIAPSIS_ALTITUDE = 327.79
PERIAPSIS_ARGUMENT_ANGLE = 299.58
PERIAPSIS_TIME = 2019-01-18T00:04:48.000Z
SPACECRAFT_ORIENTATION = (0.0,1.0,0.0)
^MEX_ORIENTATION_DESC = "MEX_ORIENTATION_DESC.TXT"
SPACECRAFT_POINTING_MODE = ACROSSTRACK
^MEX_POINTING_DESC = "MEX_POINTING_DESC.TXT"
RIGHT_ASCENSION = -1e+32
DECLINATION = -1e+32
OFFSET_ANGLE = -0.4
SPACECRAFT_SOLAR_DISTANCE = 2.20562e+08
TARGET_NAME = MARS
/* CAMERA DATA ELEMENTS */
DETECTOR_TEMPERATURE = 19.1861
FOCAL_PLANE_TEMPERATURE = 9.3989
INST_CMPRS_NAME = "DISCRETE COSINE TRANSFORMATION (DCT)"
INST_CMPRS_RATIO = 8.69217
INST_CMPRS_QUALITY = 0
INST_CMPRS_QUANTZ_TBL_ID = 0
INSTRUMENT_TEMPERATURE = 11.0301
LENS_TEMPERATURE = 10.2145
MACROPIXEL_SIZE = 2
MISSING_FRAMES = 0
PIXEL_SUBSAMPLING_FLAG = N
SIGNAL_CHAIN_ID = 3
/* RADIOMETRIC DATA ELEMENTS */
BANDWIDTH = 177.0
CENTER_FILTER_WAVELENGTH = 676.5
RADIANCE_OFFSET = 4.65685
RADIANCE_SCALING_FACTOR = 0.0118036
REFLECTANCE_SCALING_FACTOR = 0.000304461
MEX:REFLECTANCE_OFFSET = 0.120119
/* IMAGE OBJECT DEFINITIONS */
OBJECT = IMAGE
  INTERCHANGE_FORMAT = BINARY
  LINES = 25205
  LINE_SAMPLES = 4609
  SAMPLE_TYPE = UNSIGNED_INTEGER
  SAMPLE_BITS = 8
  BANDS = 1
  BAND_STORAGE_TYPE = BAND_SEQUENTIAL
  MAXIMUM = 255
  MEAN = 132.174
  MINIMUM = 1
  STANDARD_DEVIATION = 50.8994
END_OBJECT = IMAGE
/* MAP OBJECT DEFINITIONS */
OBJECT = IMAGE_MAP_PROJECTION
  ^DATA_SET_MAP_PROJECTION_CATALOG= "DSMAP.CAT"
  A_AXIS_RADIUS = 3396.0
  B_AXIS_RADIUS = 3396.0
  C_AXIS_RADIUS = 3396.0
  CENTER_LATITUDE = 0.0
  CENTER_LONGITUDE = 214.0
  COORDINATE_SYSTEM_NAME = PLANETOGRAPHIC
  COORDINATE_SYSTEM_TYPE = "BODY-FIXED ROTATING"
  EASTERNMOST_LONGITUDE = 216.042
  FIRST_STANDARD_PARALLEL = "N/A"
  LINE_FIRST_PIXEL = 1
  LINE_LAST_PIXEL = 25205
  LINE_PROJECTION_OFFSET = -133510.75
  MAP_PROJECTION_ROTATION = 0.0
  MAP_PROJECTION_TYPE = SINUSOIDAL
  MAP_RESOLUTION = 2370.85521546667
  MAP_SCALE = 0.025
  MAXIMUM_LATITUDE = -56.3424
  MINIMUM_LATITUDE = -67.0175
  POSITIVE_LONGITUDE_DIRECTION = EAST
  REFERENCE_LATITUDE = "N/A"
  REFERENCE_LONGITUDE = "N/A"
  SAMPLE_FIRST_PIXEL = 1
  SAMPLE_LAST_PIXEL = 4609
  SAMPLE_PROJECTION_OFFSET = 1929.25
  SECOND_STANDARD_PARALLEL = "N/A"
  WESTERNMOST_LONGITUDE = 211.901
END_OBJECT = IMAGE_MAP_PROJECTION
END
