PDS_VERSION_ID = PDS3
/* FILE DATA ELEMENTS */
RECORD_TYPE = UNDEFINED
/* POINTERS TO DATA OBJECTS */
^IMAGE = ("HJ032_0000_IR4.TIF")
/* IDENTIFICATION DATA ELEMENTS */
DATA_SET_ID = "MEX-M-HRSC-4-REFDR-MAPPROJECT-EXT7-V4.0"
DATA_SET_NAME = "MARS EXPRESS HRSC MAP PROJECTED REFDR EXTENSION7 V4.0"
DETECTOR_ID = MEX_HRSC_IR
EVENT_TYPE = "MARS-REGIONAL-MAPPING-Vo-Im"
INSTRUMENT_HOST_ID = MEX
INSTRUMENT_HOST_NAME = "MARS EXPRESS"
INSTRUMENT_ID = HRSC
INSTRUMENT_NAME = "HIGH RESOLUTION STEREO CAMERA"
MISSION_NAME = "MARS EXPRESS"
MISSION_PHASE_NAME = ME_Phase_40
PROCESSING_LEVEL_ID = 4
PRODUCT_CREATION_TIME = 2023-01-26T14:38:39.000Z
PRODUCT_ID = "HJ032_0000_IR4.TIF"
RELEASE_ID = 0002
REVISION_ID = 0000
/* QUALITY DATA ELEMENTS */
DATA_QUALITY_ID = 1
DATA_QUALITY_DESC = "Data calculated based on original SPICE kernels"
/* TIME DATA ELEMENTS */
SPACECRAFT_CLOCK_START_COUNT = "1/0495799421.24946"
SPACECRAFT_CLOCK_STOP_COUNT = "1/0495799660.23606"
START_TIME = 2019-01-17T10:05:05.044Z
STOP_TIME = 2019-01-17T10:08:06.171Z
/* ORBITAL DATA ELEMENTS */
ASCENDING_NODE_LONGITUDE = 217.19
MAXIMUM_RESOLUTION = 0.0531
FOOTPRINT_POINT_LATITUDE = (-69.1754,-69.0957,-69.0041,-69.0023, -69.0889,-68.6809,-68.2721,-67.9997, -67.5943,-67.3347,-67.0705,-66.6737, -66.4119,-66.149,-65.8873,-65.6241, -65.23,-64.9685,-64.7064,-64.3132, -64.0516,-63.7899,-63.5288,-63.2674, -63.0062,-62.745,-62.4831,-62.2221, -61.9608,-61.5697,-61.3088,-60.9179, -60.6574,-60.3959,-60.006,-59.746, -59.4858,-59.0963,-58.8366,-58.5776, -58.3183,-57.9299,-57.5418,-57.2832, -57.0246,-56.7661,-56.5074,-56.1197, -55.9905,-55.9887,-56.0577,-56.0991, -56.1,-56.1012,-56.3601,-56.6189, -56.8778,-57.2659,-57.5247,-57.9135, -58.1727,-58.4336,-58.6939,-58.9546, -59.3441,-59.6038,-59.8667,-60.2575, -60.5198,-60.781,-61.1732,-61.4355, -61.8286,-62.0918,-62.3536,-62.6165, -63.0107,-63.2734,-63.6669,-63.9303, -64.1935,-64.4563,-64.7199,-65.1147, -65.3784,-65.6428,-65.9078,-66.3052, -66.5706,-66.8349,-67.0999,-67.3663, -67.6322,-67.8979,-68.172,-68.4474, -68.8604,-69.1352,-69.2723,-69.1754)
FOOTPRINT_POINT_LONGITUDE = (58.0411,56.4384,54.8635,54.8341,54.741 ,54.9091,55.071,55.1751,55.3255,55.4159 ,55.5081,55.6425,55.7268,55.81,55.8901, 55.9695,56.0844,56.1577,56.2297,56.3347 ,56.4021,56.4681,56.5321,56.5948,56.656 ,56.7158,56.7748,56.8318,56.8877, 56.9688,57.0215,57.0979,57.1475,57.1969 ,57.2672,57.3128,57.3577,57.4225, 57.4647,57.5053,57.5454,57.6036,57.6597 ,57.6959,57.7314,57.7662,57.8003, 57.8501,57.8662,57.8664,59.0342,59.8415 ,59.8603,59.8666,59.8449,59.8226,59.8, 59.7651,59.7412,59.7056,59.6812,59.6586 ,59.6346,59.6106,59.5714,59.5446, 59.5212,59.4805,59.4547,59.4268,59.3841 ,59.3558,59.3114,59.2821,59.2505, 59.2192,59.1706,59.137,59.0845,59.0495, 59.0132,58.9756,58.9378,58.8787,58.8383 ,58.7976,58.7563,58.6921,58.6482,58.602 ,58.5552,58.5082,58.4595,58.4091, 58.3555,58.301,58.216,58.1566,58.126, 58.0411)
ORBIT_NUMBER = 19032
ORBITAL_ECCENTRICITY = 0.577
ORBITAL_INCLINATION = 86.98
ORBITAL_SEMIMAJOR_AXIS = 8776.64
PERIAPSIS_ALTITUDE = 328.05
PERIAPSIS_ARGUMENT_ANGLE = 299.93
PERIAPSIS_TIME = 2019-01-17T10:06:56.000Z
SPACECRAFT_ORIENTATION = (0.0,1.0,0.0)
^MEX_ORIENTATION_DESC = "MEX_ORIENTATION_DESC.TXT"
SPACECRAFT_POINTING_MODE = INERT
^MEX_POINTING_DESC = "MEX_POINTING_DESC.TXT"
RIGHT_ASCENSION = 4.446
DECLINATION = 56.083
OFFSET_ANGLE = -1e+32
SPACECRAFT_SOLAR_DISTANCE = 2.20452e+08
TARGET_NAME = MARS
/* CAMERA DATA ELEMENTS */
DETECTOR_TEMPERATURE = 17.5549
FOCAL_PLANE_TEMPERATURE = 9.195
INST_CMPRS_NAME = "DISCRETE COSINE TRANSFORMATION (DCT)"
INST_CMPRS_RATIO = 17.7161
INST_CMPRS_QUALITY = 0
INST_CMPRS_QUANTZ_TBL_ID = 0
INSTRUMENT_TEMPERATURE = 11.234
LENS_TEMPERATURE = 9.6028
MACROPIXEL_SIZE = 4
MISSING_FRAMES = 0
PIXEL_SUBSAMPLING_FLAG = N
SIGNAL_CHAIN_ID = 2
/* RADIOMETRIC DATA ELEMENTS */
BANDWIDTH = 81.0
CENTER_FILTER_WAVELENGTH = 955.5
RADIANCE_OFFSET = 1.5785
RADIANCE_SCALING_FACTOR = 0.00431226
REFLECTANCE_SCALING_FACTOR = 0.000452128
MEX:REFLECTANCE_OFFSET = 0.165501
/* IMAGE OBJECT DEFINITIONS */
OBJECT = IMAGE
  INTERCHANGE_FORMAT = BINARY
  LINES = 15746
  LINE_SAMPLES = 2668
  SAMPLE_TYPE = UNSIGNED_INTEGER
  SAMPLE_BITS = 8
  BANDS = 1
  BAND_STORAGE_TYPE = BAND_SEQUENTIAL
  MAXIMUM = 255
  MEAN = 97.0967
  MINIMUM = 1
  STANDARD_DEVIATION = 51.2086
END_OBJECT = IMAGE
/* MAP OBJECT DEFINITIONS */
OBJECT = IMAGE_MAP_PROJECTION
  ^DATA_SET_MAP_PROJECTION_CATALOG= "DSMAP.CAT"
  A_AXIS_RADIUS = 3396.0
  B_AXIS_RADIUS = 3396.0
  C_AXIS_RADIUS = 3396.0
  CENTER_LATITUDE = 0.0
  CENTER_LONGITUDE = 58.0
  COORDINATE_SYSTEM_NAME = PLANETOGRAPHIC
  COORDINATE_SYSTEM_TYPE = "BODY-FIXED ROTATING"
  EASTERNMOST_LONGITUDE = 59.8666
  FIRST_STANDARD_PARALLEL = "N/A"
  LINE_FIRST_PIXEL = 1
  LINE_LAST_PIXEL = 15746
  LINE_PROJECTION_OFFSET = -66404.125
  MAP_PROJECTION_ROTATION = 0.0
  MAP_PROJECTION_TYPE = SINUSOIDAL
  MAP_RESOLUTION = 1185.42760773333
  MAP_SCALE = 0.05
  MAXIMUM_LATITUDE = -55.9887
  MINIMUM_LATITUDE = -69.2723
  POSITIVE_LONGITUDE_DIRECTION = EAST
  REFERENCE_LATITUDE = "N/A"
  REFERENCE_LONGITUDE = "N/A"
  SAMPLE_FIRST_PIXEL = 1
  SAMPLE_LAST_PIXEL = 2668
  SAMPLE_PROJECTION_OFFSET = 1348.375
  SECOND_STANDARD_PARALLEL = "N/A"
  WESTERNMOST_LONGITUDE = 54.741
END_OBJECT = IMAGE_MAP_PROJECTION
END
