PDS_VERSION_ID = PDS3
/* FILE DATA ELEMENTS */
RECORD_TYPE = UNDEFINED
/* POINTERS TO DATA OBJECTS */
^IMAGE = ("HJ029_0000_BL4.TIF")
/* IDENTIFICATION DATA ELEMENTS */
DATA_SET_ID = "MEX-M-HRSC-4-REFDR-MAPPROJECT-EXT7-V4.0"
DATA_SET_NAME = "MARS EXPRESS HRSC MAP PROJECTED REFDR EXTENSION7 V4.0"
DETECTOR_ID = MEX_HRSC_BLUE
EVENT_TYPE = "MARS-REGIONAL-MAPPING-Im-Gl-Pf"
INSTRUMENT_HOST_ID = MEX
INSTRUMENT_HOST_NAME = "MARS EXPRESS"
INSTRUMENT_ID = HRSC
INSTRUMENT_NAME = "HIGH RESOLUTION STEREO CAMERA"
MISSION_NAME = "MARS EXPRESS"
MISSION_PHASE_NAME = ME_Phase_40
PROCESSING_LEVEL_ID = 4
PRODUCT_CREATION_TIME = 2023-01-26T14:38:39.000Z
PRODUCT_ID = "HJ029_0000_BL4.TIF"
RELEASE_ID = 0002
REVISION_ID = 0000
/* QUALITY DATA ELEMENTS */
DATA_QUALITY_ID = 1
DATA_QUALITY_DESC = "Data calculated based on original SPICE kernels"
/* TIME DATA ELEMENTS */
SPACECRAFT_CLOCK_START_COUNT = "1/0495724211.25691"
SPACECRAFT_CLOCK_STOP_COUNT = "1/0495724397.63935"
START_TIME = 2019-01-16T13:11:04.984Z
STOP_TIME = 2019-01-16T13:13:13.381Z
/* ORBITAL DATA ELEMENTS */
ASCENDING_NODE_LONGITUDE = 217.25
MAXIMUM_RESOLUTION = 0.0525
FOOTPRINT_POINT_LATITUDE = (-55.2874,-55.2569,-55.231,-55.2029, -55.202,-55.2046,-54.9343,-54.5739, -54.0332,-53.6729,-53.4026,-53.0422, -52.6817,-52.4989,-52.3126,-52.1263, -51.94,-51.7537,-51.5674,-51.3811, -51.1948,-50.9153,-50.6356,-50.4492, -50.1695,-49.9831,-49.7964,-49.5166, -49.33,-49.1434,-48.9568,-48.7703, -48.5837,-48.3975,-48.2106,-48.0243, -47.8377,-47.5535,-47.2759,-47.089, -46.9014,-46.7165,-46.5302,-46.3429, -46.1558,-46.0624,-45.9709,-45.9838, -46.0004,-46.02,-46.0335,-46.0474, -46.048,-46.0491,-46.3297,-46.5169, -46.7039,-46.9844,-47.1715,-47.3587, -47.5442,-47.8251,-48.0127,-48.1993, -48.3861,-48.5729,-48.853,-49.0396, -49.2255,-49.4124,-49.6928,-49.8798, -50.0665,-50.2533,-50.5332,-50.7197, -50.9063,-51.1862,-51.3727,-51.5593, -51.7458,-51.9324,-52.1189,-52.3055, -52.492,-52.7683,-53.1293,-53.3098, -53.4903,-53.6708,-53.8513,-54.0317, -54.2122,-54.3927,-54.5733,-54.7538, -54.9345,-55.115,-55.2052,-55.2874)
FOOTPRINT_POINT_LONGITUDE = (7.01285,6.23272,5.6505,5.07786,5.06013 ,5.05977,5.08744,5.12349,5.1755,5.20906 ,5.23373,5.2659,5.29726,5.31286,5.32849 ,5.3439,5.35912,5.37413,5.38894,5.40353 ,5.41791,5.43918,5.46006,5.47374, 5.49386,5.50707,5.52019,5.53943,5.55205 ,5.56449,5.57677,5.58883,5.60077, 5.61242,5.62412,5.63547,5.64679,5.66474 ,5.68033,5.69109,5.70192,5.71183, 5.72198,5.7323,5.74238,5.74735,5.75217, 6.01613,6.36737,6.82494,7.16818,7.54949 ,7.56697,7.57275,7.55995,7.55095, 7.54217,7.5291,7.51995,7.51028,7.50641, 7.49095,7.47927,7.47107,7.46184,7.45277 ,7.4393,7.43108,7.42618,7.41579,7.39975 ,7.38865,7.3786,7.36831,7.35439,7.3451, 7.33544,7.32093,7.31106,7.3016,7.29139, 7.28169,7.27125,7.26029,7.24976,7.23443 ,7.21589,7.20546,7.1945,7.18305,7.17251 ,7.16172,7.1515,7.14091,7.13038,7.12018 ,7.11224,7.10113,7.09428,7.01285)
ORBIT_NUMBER = 19029
ORBITAL_ECCENTRICITY = 0.577
ORBITAL_INCLINATION = 86.97
ORBITAL_SEMIMAJOR_AXIS = 8775.99
PERIAPSIS_ALTITUDE = 328.63
PERIAPSIS_ARGUMENT_ANGLE = 300.42
PERIAPSIS_TIME = 2019-01-16T13:09:59.000Z
SPACECRAFT_ORIENTATION = (0.0,1.0,0.0)
^MEX_ORIENTATION_DESC = "MEX_ORIENTATION_DESC.TXT"
SPACECRAFT_POINTING_MODE = INERT
^MEX_POINTING_DESC = "MEX_POINTING_DESC.TXT"
RIGHT_ASCENSION = 24.811
DECLINATION = 49.663
OFFSET_ANGLE = -1e+32
SPACECRAFT_SOLAR_DISTANCE = 2.20288e+08
TARGET_NAME = MARS
/* CAMERA DATA ELEMENTS */
DETECTOR_TEMPERATURE = 18.5744
FOCAL_PLANE_TEMPERATURE = 8.9911
INST_CMPRS_NAME = "DISCRETE COSINE TRANSFORMATION (DCT)"
INST_CMPRS_RATIO = 8.73982
INST_CMPRS_QUALITY = 0
INST_CMPRS_QUANTZ_TBL_ID = 0
INSTRUMENT_TEMPERATURE = 11.8457
LENS_TEMPERATURE = 9.6028
MACROPIXEL_SIZE = 4
MISSING_FRAMES = 0
PIXEL_SUBSAMPLING_FLAG = N
SIGNAL_CHAIN_ID = 2
/* RADIOMETRIC DATA ELEMENTS */
BANDWIDTH = 76.0
CENTER_FILTER_WAVELENGTH = 444.0
RADIANCE_OFFSET = 1.04516
RADIANCE_SCALING_FACTOR = 0.00110775
REFLECTANCE_SCALING_FACTOR = 5.52308e-05
MEX:REFLECTANCE_OFFSET = 0.0521103
/* IMAGE OBJECT DEFINITIONS */
OBJECT = IMAGE
  INTERCHANGE_FORMAT = BINARY
  LINES = 11077
  LINE_SAMPLES = 1936
  SAMPLE_TYPE = UNSIGNED_INTEGER
  SAMPLE_BITS = 8
  BANDS = 1
  BAND_STORAGE_TYPE = BAND_SEQUENTIAL
  MAXIMUM = 251
  MEAN = 120.443
  MINIMUM = 6
  STANDARD_DEVIATION = 45.7647
END_OBJECT = IMAGE
/* MAP OBJECT DEFINITIONS */
OBJECT = IMAGE_MAP_PROJECTION
  ^DATA_SET_MAP_PROJECTION_CATALOG= "DSMAP.CAT"
  A_AXIS_RADIUS = 3396.0
  B_AXIS_RADIUS = 3396.0
  C_AXIS_RADIUS = 3396.0
  CENTER_LATITUDE = 0.0
  CENTER_LONGITUDE = 6.0
  COORDINATE_SYSTEM_NAME = PLANETOGRAPHIC
  COORDINATE_SYSTEM_TYPE = "BODY-FIXED ROTATING"
  EASTERNMOST_LONGITUDE = 7.57275
  FIRST_STANDARD_PARALLEL = "N/A"
  LINE_FIRST_PIXEL = 1
  LINE_LAST_PIXEL = 11077
  LINE_PROJECTION_OFFSET = -54485.625
  MAP_PROJECTION_ROTATION = 0.0
  MAP_PROJECTION_TYPE = SINUSOIDAL
  MAP_RESOLUTION = 1185.42760773333
  MAP_SCALE = 0.05
  MAXIMUM_LATITUDE = -45.9709
  MINIMUM_LATITUDE = -55.2874
  POSITIVE_LONGITUDE_DIRECTION = EAST
  REFERENCE_LATITUDE = "N/A"
  REFERENCE_LONGITUDE = "N/A"
  SAMPLE_FIRST_PIXEL = 1
  SAMPLE_LAST_PIXEL = 1936
  SAMPLE_PROJECTION_OFFSET = 658.875
  SECOND_STANDARD_PARALLEL = "N/A"
  WESTERNMOST_LONGITUDE = 5.05977
END_OBJECT = IMAGE_MAP_PROJECTION
END
