PDS_VERSION_ID = PDS3
/* FILE DATA ELEMENTS */
RECORD_TYPE = UNDEFINED
/* POINTERS TO DATA OBJECTS */
^IMAGE = ("HJ022_0000_ND4.TIF")
/* IDENTIFICATION DATA ELEMENTS */
DATA_SET_ID = "MEX-M-HRSC-4-REFDR-MAPPROJECT-EXT7-V4.0"
DATA_SET_NAME = "MARS EXPRESS HRSC MAP PROJECTED REFDR EXTENSION7 V4.0"
DETECTOR_ID = MEX_HRSC_NADIR
EVENT_TYPE = "MARS-LOCAL-CARTOGRAPHY-Im-Tc-Ot"
INSTRUMENT_HOST_ID = MEX
INSTRUMENT_HOST_NAME = "MARS EXPRESS"
INSTRUMENT_ID = HRSC
INSTRUMENT_NAME = "HIGH RESOLUTION STEREO CAMERA"
MISSION_NAME = "MARS EXPRESS"
MISSION_PHASE_NAME = ME_Phase_40
PROCESSING_LEVEL_ID = 4
PRODUCT_CREATION_TIME = 2023-01-26T14:38:39.000Z
PRODUCT_ID = "HJ022_0000_ND4.TIF"
RELEASE_ID = 0002
REVISION_ID = 0000
/* QUALITY DATA ELEMENTS */
DATA_QUALITY_ID = 1
DATA_QUALITY_DESC = "Data calculated based on original SPICE kernels"
/* TIME DATA ELEMENTS */
SPACECRAFT_CLOCK_START_COUNT = "1/0495548973.24912"
SPACECRAFT_CLOCK_STOP_COUNT = "1/0495549289.33852"
START_TIME = 2019-01-14T12:31:39.789Z
STOP_TIME = 2019-01-14T12:32:41.768Z
/* ORBITAL DATA ELEMENTS */
ASCENDING_NODE_LONGITUDE = 217.37
MAXIMUM_RESOLUTION = 0.0358
FOOTPRINT_POINT_LATITUDE = (-6.49376,-6.49771,-6.50457,-6.51137, -6.5152,-6.51898,-6.52271,-6.52642, -6.53013,-6.53382,-6.53744,-6.54102, -6.54458,-6.54813,-6.55164,-6.55511, -6.55856,-6.56198,-6.56535,-6.5687, -6.57202,-6.57615,-6.5794,-6.58343, -6.58423,-6.58418,-6.37518,-6.25598, -6.13695,-6.0181,-5.8994,-5.78088, -5.66253,-5.51482,-5.39684,-5.27904, -5.1614,-5.04393,-4.92663,-4.80949, -4.69253,-4.57573,-4.45909,-4.34263, -4.22634,-4.11021,-3.99425,-3.79172, -3.67622,-3.64737,-3.62237,-3.6171, -3.61391,-3.60964,-3.60642,-3.6032, -3.5989,-3.59567,-3.59242,-3.58696, -3.58257,-3.57707,-3.57263,-3.56709, -3.56649,-3.5548,-3.5491,-3.54119, -3.5343,-3.52851,-3.52036,-3.51569, -3.511,-3.50982,-3.50957,-3.62592, -3.74243,-3.8591,-3.97593,-4.09293, -4.21007,-4.32739,-4.44488,-4.65092, -4.76888,-4.94596,-5.06428,-5.21257, -5.33132,-5.45019,-5.56923,-5.68845, -5.80783,-5.92738,-6.04709,-6.16697, -6.28702,-6.43731,-6.4674,-6.49376)
FOOTPRINT_POINT_LONGITUDE = (361.56,361.433,361.212,360.991,360.864 ,360.738,360.611,360.484,360.357,360.23 ,360.103,359.976,359.848,359.721, 359.594,359.466,359.339,359.211,359.083 ,358.955,358.826,358.665,358.537, 358.376,358.343,358.324,358.309,358.3, 358.292,358.283,358.275,358.266,358.257 ,358.246,358.237,358.229,358.22,358.211 ,358.202,358.194,358.185,358.176, 358.166,358.158,358.149,358.14,358.132, 358.115,358.106,358.104,358.102,358.276 ,358.381,358.52,358.624,358.729,358.867 ,358.971,359.075,359.248,359.386, 359.558,359.696,359.868,359.983,360.246 ,360.418,360.658,360.864,361.035, 361.274,361.411,361.548,361.583,361.599 ,361.598,361.596,361.595,361.593, 361.592,361.59,361.589,361.587,361.584, 361.583,361.582,361.581,361.578,361.576 ,361.575,361.573,361.572,361.57,361.569 ,361.568,361.566,361.565,361.563, 361.563,361.56)
ORBIT_NUMBER = 19022
ORBITAL_ECCENTRICITY = 0.577
ORBITAL_INCLINATION = 86.97
ORBITAL_SEMIMAJOR_AXIS = 8777.53
PERIAPSIS_ALTITUDE = 328.64
PERIAPSIS_ARGUMENT_ANGLE = 301.61
PERIAPSIS_TIME = 2019-01-14T12:17:09.000Z
SPACECRAFT_ORIENTATION = (0.0,1.0,0.0)
^MEX_ORIENTATION_DESC = "MEX_ORIENTATION_DESC.TXT"
SPACECRAFT_POINTING_MODE = ACROSSTRACK
^MEX_POINTING_DESC = "MEX_POINTING_DESC.TXT"
RIGHT_ASCENSION = -1e+32
DECLINATION = -1e+32
OFFSET_ANGLE = 0.5
SPACECRAFT_SOLAR_DISTANCE = 2.19906e+08
TARGET_NAME = MARS
/* CAMERA DATA ELEMENTS */
DETECTOR_TEMPERATURE = 17.9627
FOCAL_PLANE_TEMPERATURE = 9.195
INST_CMPRS_NAME = "DISCRETE COSINE TRANSFORMATION (DCT)"
INST_CMPRS_RATIO = 7.60134
INST_CMPRS_QUALITY = 0
INST_CMPRS_QUANTZ_TBL_ID = 0
INSTRUMENT_TEMPERATURE = 10.8262
LENS_TEMPERATURE = 9.195
MACROPIXEL_SIZE = 1
MISSING_FRAMES = 0
PIXEL_SUBSAMPLING_FLAG = N
SIGNAL_CHAIN_ID = 0
/* RADIOMETRIC DATA ELEMENTS */
BANDWIDTH = 177.0
CENTER_FILTER_WAVELENGTH = 677.5
RADIANCE_OFFSET = 7.87999
RADIANCE_SCALING_FACTOR = 0.00751668
REFLECTANCE_SCALING_FACTOR = 0.000193105
MEX:REFLECTANCE_OFFSET = 0.202438
/* IMAGE OBJECT DEFINITIONS */
OBJECT = IMAGE
  INTERCHANGE_FORMAT = BINARY
  LINES = 7291
  LINE_SAMPLES = 8276
  SAMPLE_TYPE = UNSIGNED_INTEGER
  SAMPLE_BITS = 8
  BANDS = 1
  BAND_STORAGE_TYPE = BAND_SEQUENTIAL
  MAXIMUM = 254
  MEAN = 115.086
  MINIMUM = 1
  STANDARD_DEVIATION = 32.3746
END_OBJECT = IMAGE
/* MAP OBJECT DEFINITIONS */
OBJECT = IMAGE_MAP_PROJECTION
  ^DATA_SET_MAP_PROJECTION_CATALOG= "DSMAP.CAT"
  A_AXIS_RADIUS = 3396.0
  B_AXIS_RADIUS = 3396.0
  C_AXIS_RADIUS = 3396.0
  CENTER_LATITUDE = 0.0
  CENTER_LONGITUDE = 360.0
  COORDINATE_SYSTEM_NAME = PLANETOGRAPHIC
  COORDINATE_SYSTEM_TYPE = "BODY-FIXED ROTATING"
  EASTERNMOST_LONGITUDE = 1.599
  FIRST_STANDARD_PARALLEL = "N/A"
  LINE_FIRST_PIXEL = 1
  LINE_LAST_PIXEL = 7291
  LINE_PROJECTION_OFFSET = -8321.0
  MAP_PROJECTION_ROTATION = 0.0
  MAP_PROJECTION_TYPE = SINUSOIDAL
  MAP_RESOLUTION = 2370.85521546667
  MAP_SCALE = 0.025
  MAXIMUM_LATITUDE = -3.50957
  MINIMUM_LATITUDE = -6.58423
  POSITIVE_LONGITUDE_DIRECTION = EAST
  REFERENCE_LATITUDE = "N/A"
  REFERENCE_LONGITUDE = "N/A"
  SAMPLE_FIRST_PIXEL = 1
  SAMPLE_LAST_PIXEL = 8276
  SAMPLE_PROJECTION_OFFSET = 4490.0
  SECOND_STANDARD_PARALLEL = "N/A"
  WESTERNMOST_LONGITUDE = -1.898
END_OBJECT = IMAGE_MAP_PROJECTION
END
