PDS_VERSION_ID = PDS3
/* FILE DATA ELEMENTS */
RECORD_TYPE = UNDEFINED
/* POINTERS TO DATA OBJECTS */
^IMAGE = ("HJ004_0009_S14.TIF")
/* IDENTIFICATION DATA ELEMENTS */
DATA_SET_ID = "MEX-M-HRSC-4-REFDR-MAPPROJECT-EXT7-V4.0"
DATA_SET_NAME = "MARS EXPRESS HRSC MAP PROJECTED REFDR EXTENSION7 V4.0"
DETECTOR_ID = MEX_HRSC_S1
EVENT_TYPE = "MARS-REGIONAL-MAPPING-Im-Pf-Eo"
INSTRUMENT_HOST_ID = MEX
INSTRUMENT_HOST_NAME = "MARS EXPRESS"
INSTRUMENT_ID = HRSC
INSTRUMENT_NAME = "HIGH RESOLUTION STEREO CAMERA"
MISSION_NAME = "MARS EXPRESS"
MISSION_PHASE_NAME = ME_Phase_40
PROCESSING_LEVEL_ID = 4
PRODUCT_CREATION_TIME = 2023-01-26T14:38:39.000Z
PRODUCT_ID = "HJ004_0009_S14.TIF"
RELEASE_ID = 0002
REVISION_ID = 0000
/* QUALITY DATA ELEMENTS */
DATA_QUALITY_ID = 1
DATA_QUALITY_DESC = "Data calculated based on original SPICE kernels"
/* TIME DATA ELEMENTS */
SPACECRAFT_CLOCK_START_COUNT = "1/0495095706.23981"
SPACECRAFT_CLOCK_STOP_COUNT = "1/0495095940.13728"
START_TIME = 2019-01-09T06:36:38.217Z
STOP_TIME = 2019-01-09T06:39:30.101Z
/* ORBITAL DATA ELEMENTS */
ASCENDING_NODE_LONGITUDE = 217.7
MAXIMUM_RESOLUTION = 0.0282
FOOTPRINT_POINT_LATITUDE = (-51.9528,-51.9165,-51.8844,-51.8511, -51.85,-51.9152,-51.6033,-51.288, -51.0733,-50.8586,-50.6442,-50.4301, -50.2127,-49.9991,-49.7853,-49.5718, -49.3574,-49.1441,-48.7282,-48.5147, -48.2931,-48.083,-47.8711,-47.5537, -47.2366,-46.9199,-46.7093,-46.3934, -46.1837,-45.9733,-45.7635,-45.5533, -45.3431,-45.1346,-44.9247,-44.6115, -44.4021,-44.0894,-43.8808,-43.4756, -43.0226,-42.7742,-42.5284,-42.2833, -42.0385,-41.6703,-41.4251,-41.1806, -41.0587,-41.0345,-41.0568,-41.0925, -41.1201,-41.121,-41.1217,-41.3661, -41.611,-41.8567,-42.3474,-42.7168, -42.9633,-43.2099,-43.4352,-43.8508, -44.2676,-44.476,-44.6844,-44.8936, -45.1034,-45.3121,-45.5211,-45.7316, -45.9413,-46.1517,-46.362,-46.5713, -46.7826,-46.994,-47.205,-47.4172, -47.7346,-47.948,-48.2663,-48.4786, -48.6916,-49.0109,-49.224,-49.4374, -49.6565,-49.8664,-50.08,-50.2953, -50.51,-50.7282,-51.0551,-51.2712, -51.4867,-51.9002,-52.0012,-51.9528)
FOOTPRINT_POINT_LONGITUDE = (40.8803,40.1669,39.5845,39.0173, 38.9998,39.0132,39.0304,39.0472,39.0582 ,39.0689,39.0794,39.0896,39.0996, 39.1093,39.1187,39.1278,39.1364,39.145, 39.164,39.1716,39.177,39.1849,39.1921, 39.2026,39.2125,39.2219,39.228,39.2367, 39.2423,39.2476,39.2528,39.2576,39.2622 ,39.2669,39.2711,39.2773,39.281,39.2865 ,39.2899,39.2984,39.3037,39.3065, 39.3095,39.3124,39.315,39.3183,39.3202, 39.3219,39.3227,39.3229,39.7654,40.3792 ,41.1117,41.13,41.1366,41.1342,41.1319, 41.1301,41.1245,41.1205,41.1177,41.1144 ,41.1118,41.1072,41.1028,41.1002, 41.0972,41.0948,41.0928,41.0892,41.0858 ,41.0836,41.0802,41.0774,41.0742, 41.0694,41.0666,41.0637,41.06,41.0574, 41.0518,41.0499,41.0443,41.0404,41.0369 ,41.031,41.0268,41.0228,41.0255,41.0165 ,41.0119,41.0089,41.005,41.0008,41.0002 ,40.997,40.9927,40.9778,40.9709, 40.8803)
ORBIT_NUMBER = 19004
ORBITAL_ECCENTRICITY = 0.578
ORBITAL_INCLINATION = 86.97
ORBITAL_SEMIMAJOR_AXIS = 8784.56
PERIAPSIS_ALTITUDE = 328.66
PERIAPSIS_ARGUMENT_ANGLE = 304.68
PERIAPSIS_TIME = 2019-01-09T06:35:19.000Z
SPACECRAFT_ORIENTATION = (0.0,1.0,0.0)
^MEX_ORIENTATION_DESC = "MEX_ORIENTATION_DESC.TXT"
SPACECRAFT_POINTING_MODE = ACROSSTRACK
^MEX_POINTING_DESC = "MEX_POINTING_DESC.TXT"
RIGHT_ASCENSION = -1e+32
DECLINATION = -1e+32
OFFSET_ANGLE = -0.95
SPACECRAFT_SOLAR_DISTANCE = 2.18936e+08
TARGET_NAME = MARS
/* CAMERA DATA ELEMENTS */
DETECTOR_TEMPERATURE = 17.7588
FOCAL_PLANE_TEMPERATURE = 9.3989
INST_CMPRS_NAME = "DISCRETE COSINE TRANSFORMATION (DCT)"
INST_CMPRS_RATIO = 10.7573
INST_CMPRS_QUALITY = 0
INST_CMPRS_QUANTZ_TBL_ID = 0
INSTRUMENT_TEMPERATURE = 11.6418
LENS_TEMPERATURE = 9.8067
MACROPIXEL_SIZE = 2
MISSING_FRAMES = 1
PIXEL_SUBSAMPLING_FLAG = N
SIGNAL_CHAIN_ID = 1
/* RADIOMETRIC DATA ELEMENTS */
BANDWIDTH = 180.0
CENTER_FILTER_WAVELENGTH = 677.0
RADIANCE_OFFSET = 4.80326
RADIANCE_SCALING_FACTOR = 0.023807
REFLECTANCE_SCALING_FACTOR = 0.000595361
MEX:REFLECTANCE_OFFSET = 0.120119
/* IMAGE OBJECT DEFINITIONS */
OBJECT = IMAGE
  INTERCHANGE_FORMAT = BINARY
  LINES = 25862
  LINE_SAMPLES = 3391
  SAMPLE_TYPE = UNSIGNED_INTEGER
  SAMPLE_BITS = 8
  BANDS = 1
  BAND_STORAGE_TYPE = BAND_SEQUENTIAL
  MAXIMUM = 255
  MEAN = 205.125
  MINIMUM = 1
  STANDARD_DEVIATION = 27.3975
END_OBJECT = IMAGE
/* MAP OBJECT DEFINITIONS */
OBJECT = IMAGE_MAP_PROJECTION
  ^DATA_SET_MAP_PROJECTION_CATALOG= "DSMAP.CAT"
  A_AXIS_RADIUS = 3396.0
  B_AXIS_RADIUS = 3396.0
  C_AXIS_RADIUS = 3396.0
  CENTER_LATITUDE = 0.0
  CENTER_LONGITUDE = 40.0
  COORDINATE_SYSTEM_NAME = PLANETOGRAPHIC
  COORDINATE_SYSTEM_TYPE = "BODY-FIXED ROTATING"
  EASTERNMOST_LONGITUDE = 41.1366
  FIRST_STANDARD_PARALLEL = "N/A"
  LINE_FIRST_PIXEL = 1
  LINE_LAST_PIXEL = 25862
  LINE_PROJECTION_OFFSET = -97410.75
  MAP_PROJECTION_ROTATION = 0.0
  MAP_PROJECTION_TYPE = SINUSOIDAL
  MAP_RESOLUTION = 2370.85521546667
  MAP_SCALE = 0.025
  MAXIMUM_LATITUDE = -41.0345
  MINIMUM_LATITUDE = -52.0012
  POSITIVE_LONGITUDE_DIRECTION = EAST
  REFERENCE_LATITUDE = "N/A"
  REFERENCE_LONGITUDE = "N/A"
  SAMPLE_FIRST_PIXEL = 1
  SAMPLE_LAST_PIXEL = 3391
  SAMPLE_PROJECTION_OFFSET = 1447.75
  SECOND_STANDARD_PARALLEL = "N/A"
  WESTERNMOST_LONGITUDE = 38.9998
END_OBJECT = IMAGE_MAP_PROJECTION
END
