PDS_VERSION_ID = PDS3
/* FILE DATA ELEMENTS */
RECORD_TYPE = UNDEFINED
/* POINTERS TO DATA OBJECTS */
^IMAGE = ("HJ004_0009_IR4.TIF")
/* IDENTIFICATION DATA ELEMENTS */
DATA_SET_ID = "MEX-M-HRSC-4-REFDR-MAPPROJECT-EXT7-V4.0"
DATA_SET_NAME = "MARS EXPRESS HRSC MAP PROJECTED REFDR EXTENSION7 V4.0"
DETECTOR_ID = MEX_HRSC_IR
EVENT_TYPE = "MARS-REGIONAL-MAPPING-Im-Pf-Eo"
INSTRUMENT_HOST_ID = MEX
INSTRUMENT_HOST_NAME = "MARS EXPRESS"
INSTRUMENT_ID = HRSC
INSTRUMENT_NAME = "HIGH RESOLUTION STEREO CAMERA"
MISSION_NAME = "MARS EXPRESS"
MISSION_PHASE_NAME = ME_Phase_40
PROCESSING_LEVEL_ID = 4
PRODUCT_CREATION_TIME = 2023-01-26T14:38:39.000Z
PRODUCT_ID = "HJ004_0009_IR4.TIF"
RELEASE_ID = 0002
REVISION_ID = 0000
/* QUALITY DATA ELEMENTS */
DATA_QUALITY_ID = 1
DATA_QUALITY_DESC = "Data calculated based on original SPICE kernels"
/* TIME DATA ELEMENTS */
SPACECRAFT_CLOCK_START_COUNT = "1/0495095706.23981"
SPACECRAFT_CLOCK_STOP_COUNT = "1/0495095940.13728"
START_TIME = 2019-01-09T06:36:33.145Z
STOP_TIME = 2019-01-09T06:39:23.900Z
/* ORBITAL DATA ELEMENTS */
ASCENDING_NODE_LONGITUDE = 217.7
MAXIMUM_RESOLUTION = 0.0554
FOOTPRINT_POINT_LATITUDE = (-51.9531,-51.9197,-51.8926,-51.8641, -51.8632,-51.9168,-51.605,-51.086, -50.8718,-50.5507,-50.3365,-50.1227, -49.9091,-49.6954,-49.4817,-49.2679, -49.0542,-48.6373,-48.416,-48.099, -47.8868,-47.675,-47.4631,-47.2516, -47.04,-46.829,-46.6176,-46.407, -46.0914,-45.8807,-45.6705,-45.4594, -45.2502,-45.0398,-44.8294,-44.621, -44.4111,-44.0974,-43.8887,-43.5839, -43.1654,-42.9565,-42.6012,-42.355, -42.1089,-41.7392,-41.4929,-41.2475, -41.1246,-41.0442,-41.075,-41.0935, -41.1162,-41.1168,-41.118,-41.4871, -41.7333,-41.9801,-42.3493,-42.5968, -42.9649,-43.3801,-43.588,-43.7969, -44.0057,-44.2148,-44.424,-44.633, -44.9476,-45.1576,-45.3669,-45.5772, -45.8927,-46.1035,-46.3143,-46.5243, -46.7356,-46.9474,-47.1587,-47.3709, -47.6885,-47.9022,-48.2208,-48.4332, -48.6462,-48.9659,-49.1791,-49.5004, -49.7172,-50.035,-50.2498,-50.4644, -50.6787,-50.8981,-51.1124,-51.3231, -51.5315,-51.8438,-51.9453,-51.9531)
FOOTPRINT_POINT_LONGITUDE = (40.8727,40.1184,39.5612,39.018,39.0012 ,39.0169,39.0341,39.0616,39.0723, 39.0881,39.0982,39.1081,39.1177,39.127, 39.136,39.1447,39.1531,39.1724,39.1775, 39.1894,39.1967,39.2038,39.2107,39.2174 ,39.2238,39.2301,39.236,39.242,39.2504, 39.2557,39.2608,39.2655,39.2704,39.2748 ,39.2789,39.2834,39.2872,39.2928, 39.2963,39.3034,39.3089,39.3114,39.3158 ,39.3188,39.3216,39.3252,39.3272, 39.3292,39.33,39.3306,40.0154,40.3695, 41.1008,41.1182,41.124,41.1214,41.1192, 41.1174,41.1126,41.1104,41.1067,41.1015 ,41.0988,41.0971,41.095,41.0929,41.0905 ,41.0876,41.0842,41.0818,41.0781, 41.0754,41.0711,41.0683,41.0652,41.0608 ,41.0576,41.0551,41.0513,41.0485, 41.0429,41.0416,41.036,41.032,41.0285, 41.023,41.019,41.0145,41.0152,41.0043, 41.0011,40.9974,40.9927,40.9958,40.9906 ,40.9876,40.9834,40.9764,40.9698, 40.8727)
ORBIT_NUMBER = 19004
ORBITAL_ECCENTRICITY = 0.578
ORBITAL_INCLINATION = 86.97
ORBITAL_SEMIMAJOR_AXIS = 8784.56
PERIAPSIS_ALTITUDE = 328.66
PERIAPSIS_ARGUMENT_ANGLE = 304.68
PERIAPSIS_TIME = 2019-01-09T06:35:19.000Z
SPACECRAFT_ORIENTATION = (0.0,1.0,0.0)
^MEX_ORIENTATION_DESC = "MEX_ORIENTATION_DESC.TXT"
SPACECRAFT_POINTING_MODE = ACROSSTRACK
^MEX_POINTING_DESC = "MEX_POINTING_DESC.TXT"
RIGHT_ASCENSION = -1e+32
DECLINATION = -1e+32
OFFSET_ANGLE = -0.95
SPACECRAFT_SOLAR_DISTANCE = 2.18936e+08
TARGET_NAME = MARS
/* CAMERA DATA ELEMENTS */
DETECTOR_TEMPERATURE = 17.7588
FOCAL_PLANE_TEMPERATURE = 9.3989
INST_CMPRS_NAME = "DISCRETE COSINE TRANSFORMATION (DCT)"
INST_CMPRS_RATIO = 12.9427
INST_CMPRS_QUALITY = 0
INST_CMPRS_QUANTZ_TBL_ID = 0
INSTRUMENT_TEMPERATURE = 11.6418
LENS_TEMPERATURE = 9.8067
MACROPIXEL_SIZE = 4
MISSING_FRAMES = 0
PIXEL_SUBSAMPLING_FLAG = N
SIGNAL_CHAIN_ID = 2
/* RADIOMETRIC DATA ELEMENTS */
BANDWIDTH = 81.0
CENTER_FILTER_WAVELENGTH = 955.5
RADIANCE_OFFSET = 0.975475
RADIANCE_SCALING_FACTOR = 0.00667705
REFLECTANCE_SCALING_FACTOR = 0.000690473
MEX:REFLECTANCE_OFFSET = 0.100874
/* IMAGE OBJECT DEFINITIONS */
OBJECT = IMAGE
  INTERCHANGE_FORMAT = BINARY
  LINES = 12931
  LINE_SAMPLES = 1696
  SAMPLE_TYPE = UNSIGNED_INTEGER
  SAMPLE_BITS = 8
  BANDS = 1
  BAND_STORAGE_TYPE = BAND_SEQUENTIAL
  MAXIMUM = 255
  MEAN = 197.651
  MINIMUM = 1
  STANDARD_DEVIATION = 30.3001
END_OBJECT = IMAGE
/* MAP OBJECT DEFINITIONS */
OBJECT = IMAGE_MAP_PROJECTION
  ^DATA_SET_MAP_PROJECTION_CATALOG= "DSMAP.CAT"
  A_AXIS_RADIUS = 3396.0
  B_AXIS_RADIUS = 3396.0
  C_AXIS_RADIUS = 3396.0
  CENTER_LATITUDE = 0.0
  CENTER_LONGITUDE = 40.0
  COORDINATE_SYSTEM_NAME = PLANETOGRAPHIC
  COORDINATE_SYSTEM_TYPE = "BODY-FIXED ROTATING"
  EASTERNMOST_LONGITUDE = 41.124
  FIRST_STANDARD_PARALLEL = "N/A"
  LINE_FIRST_PIXEL = 1
  LINE_LAST_PIXEL = 12931
  LINE_PROJECTION_OFFSET = -48705.625
  MAP_PROJECTION_ROTATION = 0.0
  MAP_PROJECTION_TYPE = SINUSOIDAL
  MAP_RESOLUTION = 1185.42760773333
  MAP_SCALE = 0.05
  MAXIMUM_LATITUDE = -41.0442
  MINIMUM_LATITUDE = -51.9531
  POSITIVE_LONGITUDE_DIRECTION = EAST
  REFERENCE_LATITUDE = "N/A"
  REFERENCE_LONGITUDE = "N/A"
  SAMPLE_FIRST_PIXEL = 1
  SAMPLE_LAST_PIXEL = 1696
  SAMPLE_PROJECTION_OFFSET = 723.625
  SECOND_STANDARD_PARALLEL = "N/A"
  WESTERNMOST_LONGITUDE = 39.0012
END_OBJECT = IMAGE_MAP_PROJECTION
END
