PDS_VERSION_ID = PDS3
/* FILE DATA ELEMENTS */
RECORD_TYPE = UNDEFINED
/* POINTERS TO DATA OBJECTS */
^IMAGE = ("HI999_0000_S24.TIF")
/* IDENTIFICATION DATA ELEMENTS */
DATA_SET_ID = "MEX-M-HRSC-4-REFDR-MAPPROJECT-EXT7-V4.0"
DATA_SET_NAME = "MARS EXPRESS HRSC MAP PROJECTED REFDR EXTENSION7 V4.0"
DETECTOR_ID = MEX_HRSC_S2
EVENT_TYPE = "MARS-REGIONAL-MAPPING-Im-Gl-Pf"
INSTRUMENT_HOST_ID = MEX
INSTRUMENT_HOST_NAME = "MARS EXPRESS"
INSTRUMENT_ID = HRSC
INSTRUMENT_NAME = "HIGH RESOLUTION STEREO CAMERA"
MISSION_NAME = "MARS EXPRESS"
MISSION_PHASE_NAME = ME_Phase_40
PROCESSING_LEVEL_ID = 4
PRODUCT_CREATION_TIME = 2023-01-26T14:38:39.000Z
PRODUCT_ID = "HI999_0000_S24.TIF"
RELEASE_ID = 0002
REVISION_ID = 0000
/* QUALITY DATA ELEMENTS */
DATA_QUALITY_ID = 1
DATA_QUALITY_DESC = "Data calculated based on original SPICE kernels"
/* TIME DATA ELEMENTS */
SPACECRAFT_CLOCK_START_COUNT = "1/0494969818.23937"
SPACECRAFT_CLOCK_STOP_COUNT = "1/0494970010.31231"
START_TIME = 2019-01-07T19:37:30.232Z
STOP_TIME = 2019-01-07T19:39:47.097Z
/* ORBITAL DATA ELEMENTS */
ASCENDING_NODE_LONGITUDE = 217.79
MAXIMUM_RESOLUTION = 0.0284
FOOTPRINT_POINT_LATITUDE = (-64.1657,-64.1189,-64.0805,-64.0269, -64.0253,-63.9663,-63.7724,-63.4816, -63.2875,-62.996,-62.8014,-62.5092, -62.2169,-62.0217,-61.7295,-61.4366, -61.2412,-61.0458,-60.8503,-60.6553, -60.4596,-60.2633,-59.9684,-59.7728, -59.5752,-59.3789,-59.0829,-58.8858, -58.59,-58.2953,-58.1039,-57.8168, -57.6248,-57.433,-57.2406,-56.9539, -56.7616,-56.5633,-56.3694,-56.0878, -55.8951,-55.7023,-55.4132,-55.2203, -55.0272,-54.7381,-54.5452,-54.3476, -54.2468,-54.2073,-54.2305,-54.265, -54.3014,-54.3238,-54.3246,-54.3254, -54.6193,-54.8119,-55.0049,-55.2935, -55.4867,-55.6798,-55.8732,-56.0668, -56.2597,-56.5498,-56.7432,-56.9357, -57.2246,-57.6076,-57.7998,-58.1833, -58.3753,-58.5714,-58.7693,-59.0662, -59.3628,-59.5603,-59.8559,-60.0531, -60.2505,-60.5458,-60.7428,-60.9395, -61.1358,-61.3324,-61.627,-61.9213, -62.1175,-62.3138,-62.5107,-62.7076, -63.0015,-63.1974,-63.393,-63.5878, -63.7828,-63.9778,-64.075,-64.1657)
FOOTPRINT_POINT_LONGITUDE = (188.779,187.779,187.063,186.171, 186.146,186.103,186.156,186.236,186.287 ,186.363,186.412,186.485,186.555, 186.601,186.669,186.735,186.778,186.821 ,186.863,186.904,186.944,186.984, 187.042,187.08,187.117,187.154,187.208, 187.243,187.295,187.345,187.377,187.424 ,187.455,187.485,187.514,187.559, 187.587,187.614,187.641,187.684,187.711 ,187.737,187.776,187.802,187.827, 187.864,187.888,187.911,187.921,187.926 ,188.277,188.706,189.426,189.914, 189.934,189.941,189.916,189.901,189.886 ,189.863,189.847,189.831,189.814, 189.797,189.78,189.754,189.736,189.718, 189.691,189.655,189.637,189.599,189.579 ,189.558,189.537,189.506,189.473, 189.452,189.419,189.396,189.373,189.338 ,189.314,189.29,189.266,189.241,189.203 ,189.165,189.138,189.111,189.083, 189.055,189.012,188.983,188.954,188.925 ,188.896,188.866,188.851,188.779)
ORBIT_NUMBER = 18999
ORBITAL_ECCENTRICITY = 0.577
ORBITAL_INCLINATION = 86.98
ORBITAL_SEMIMAJOR_AXIS = 8782.36
PERIAPSIS_ALTITUDE = 328.6
PERIAPSIS_ARGUMENT_ANGLE = 305.53
PERIAPSIS_TIME = 2019-01-07T19:40:21.000Z
SPACECRAFT_ORIENTATION = (0.0,1.0,0.0)
^MEX_ORIENTATION_DESC = "MEX_ORIENTATION_DESC.TXT"
SPACECRAFT_POINTING_MODE = INERT
^MEX_POINTING_DESC = "MEX_POINTING_DESC.TXT"
RIGHT_ASCENSION = 12.423
DECLINATION = 58.482
OFFSET_ANGLE = -1e+32
SPACECRAFT_SOLAR_DISTANCE = 2.1867e+08
TARGET_NAME = MARS
/* CAMERA DATA ELEMENTS */
DETECTOR_TEMPERATURE = 19.1861
FOCAL_PLANE_TEMPERATURE = 9.195
INST_CMPRS_NAME = "DISCRETE COSINE TRANSFORMATION (DCT)"
INST_CMPRS_RATIO = 10.4459
INST_CMPRS_QUALITY = 0
INST_CMPRS_QUANTZ_TBL_ID = 0
INSTRUMENT_TEMPERATURE = 12.0496
LENS_TEMPERATURE = 10.0106
MACROPIXEL_SIZE = 2
MISSING_FRAMES = 0
PIXEL_SUBSAMPLING_FLAG = N
SIGNAL_CHAIN_ID = 1
/* RADIOMETRIC DATA ELEMENTS */
BANDWIDTH = 178.0
CENTER_FILTER_WAVELENGTH = 679.0
RADIANCE_OFFSET = 3.10748
RADIANCE_SCALING_FACTOR = 0.0249436
REFLECTANCE_SCALING_FACTOR = 0.000631631
MEX:REFLECTANCE_OFFSET = 0.0786886
/* IMAGE OBJECT DEFINITIONS */
OBJECT = IMAGE
  INTERCHANGE_FORMAT = BINARY
  LINES = 23430
  LINE_SAMPLES = 4593
  SAMPLE_TYPE = UNSIGNED_INTEGER
  SAMPLE_BITS = 8
  BANDS = 1
  BAND_STORAGE_TYPE = BAND_SEQUENTIAL
  MAXIMUM = 255
  MEAN = 98.1998
  MINIMUM = 1
  STANDARD_DEVIATION = 22.9709
END_OBJECT = IMAGE
/* MAP OBJECT DEFINITIONS */
OBJECT = IMAGE_MAP_PROJECTION
  ^DATA_SET_MAP_PROJECTION_CATALOG= "DSMAP.CAT"
  A_AXIS_RADIUS = 3396.0
  B_AXIS_RADIUS = 3396.0
  C_AXIS_RADIUS = 3396.0
  CENTER_LATITUDE = 0.0
  CENTER_LONGITUDE = 188.0
  COORDINATE_SYSTEM_NAME = PLANETOGRAPHIC
  COORDINATE_SYSTEM_TYPE = "BODY-FIXED ROTATING"
  EASTERNMOST_LONGITUDE = 189.941
  FIRST_STANDARD_PARALLEL = "N/A"
  LINE_FIRST_PIXEL = 1
  LINE_LAST_PIXEL = 23430
  LINE_PROJECTION_OFFSET = -128516.25
  MAP_PROJECTION_ROTATION = 0.0
  MAP_PROJECTION_TYPE = SINUSOIDAL
  MAP_RESOLUTION = 2370.85521546667
  MAP_SCALE = 0.025
  MAXIMUM_LATITUDE = -54.2073
  MINIMUM_LATITUDE = -64.1657
  POSITIVE_LONGITUDE_DIRECTION = EAST
  REFERENCE_LATITUDE = "N/A"
  REFERENCE_LONGITUDE = "N/A"
  SAMPLE_FIRST_PIXEL = 1
  SAMPLE_LAST_PIXEL = 4593
  SAMPLE_PROJECTION_OFFSET = 2094.75
  SECOND_STANDARD_PARALLEL = "N/A"
  WESTERNMOST_LONGITUDE = 186.103
END_OBJECT = IMAGE_MAP_PROJECTION
END
