PDS_VERSION_ID = PDS3
/* FILE DATA ELEMENTS */
RECORD_TYPE = UNDEFINED
/* POINTERS TO DATA OBJECTS */
^IMAGE = ("HI999_0000_P24.TIF")
/* IDENTIFICATION DATA ELEMENTS */
DATA_SET_ID = "MEX-M-HRSC-4-REFDR-MAPPROJECT-EXT7-V4.0"
DATA_SET_NAME = "MARS EXPRESS HRSC MAP PROJECTED REFDR EXTENSION7 V4.0"
DETECTOR_ID = MEX_HRSC_P2
EVENT_TYPE = "MARS-REGIONAL-MAPPING-Im-Gl-Pf"
INSTRUMENT_HOST_ID = MEX
INSTRUMENT_HOST_NAME = "MARS EXPRESS"
INSTRUMENT_ID = HRSC
INSTRUMENT_NAME = "HIGH RESOLUTION STEREO CAMERA"
MISSION_NAME = "MARS EXPRESS"
MISSION_PHASE_NAME = ME_Phase_40
PROCESSING_LEVEL_ID = 4
PRODUCT_CREATION_TIME = 2023-01-26T14:38:39.000Z
PRODUCT_ID = "HI999_0000_P24.TIF"
RELEASE_ID = 0002
REVISION_ID = 0000
/* QUALITY DATA ELEMENTS */
DATA_QUALITY_ID = 1
DATA_QUALITY_DESC = "Data calculated based on original SPICE kernels"
/* TIME DATA ELEMENTS */
SPACECRAFT_CLOCK_START_COUNT = "1/0494969818.23937"
SPACECRAFT_CLOCK_STOP_COUNT = "1/0494970010.31231"
START_TIME = 2019-01-07T19:37:39.703Z
STOP_TIME = 2019-01-07T19:39:56.569Z
/* ORBITAL DATA ELEMENTS */
ASCENDING_NODE_LONGITUDE = 217.79
MAXIMUM_RESOLUTION = 0.0274
FOOTPRINT_POINT_LATITUDE = (-64.1406,-64.1052,-64.0466,-64.0021, -64.0005,-63.9649,-63.7692,-63.5734, -63.2798,-62.9858,-62.7895,-62.495, -62.2004,-61.9054,-61.6106,-61.3157, -61.1189,-60.8236,-60.627,-60.43, -60.2326,-59.9362,-59.7391,-59.5408, -59.2448,-58.9489,-58.5656,-58.3735, -57.9899,-57.7013,-57.5088,-57.3161, -57.028,-56.8354,-56.6396,-56.4457, -56.1604,-55.9674,-55.7743,-55.5815, -55.3883,-55.1949,-55.0013,-54.8087, -54.615,-54.3224,-54.2222,-54.2074, -54.2303,-54.2608,-54.2811,-54.3018, -54.3193,-54.3201,-54.3209,-54.6146, -54.8077,-55.0009,-55.2905,-55.4839, -55.6775,-55.8714,-56.1616,-56.3551, -56.5488,-56.7425,-56.9358,-57.2255, -57.6102,-57.8031,-57.9957,-58.2847, -58.4775,-58.6704,-58.8628,-59.0551, -59.2517,-59.4503,-59.6487,-59.847, -60.0453,-60.2437,-60.5407,-60.7391, -60.9371,-61.135,-61.3328,-61.6296, -61.9261,-62.1238,-62.4204,-62.6187, -62.8164,-63.0138,-63.31,-63.5071, -63.704,-63.9994,-64.0977,-64.1406)
FOOTPRINT_POINT_LONGITUDE = (188.75,187.979,186.878,186.137,186.111 ,186.06,186.115,186.169,186.248,186.325 ,186.375,186.448,186.52,186.589,186.658 ,186.724,186.767,186.831,186.873, 186.914,186.953,187.012,187.051,187.088 ,187.144,187.197,187.265,187.298, 187.362,187.409,187.44,187.47,187.515, 187.544,187.571,187.599,187.643,187.67, 187.696,187.723,187.749,187.774,187.799 ,187.825,187.849,187.884,187.894, 187.896,188.244,188.708,189.056,189.461 ,189.868,189.888,189.895,189.87,189.856 ,189.841,189.818,189.802,189.786,189.77 ,189.745,189.728,189.71,189.693,189.675 ,189.648,189.613,189.594,189.575, 189.546,189.527,189.507,189.487,189.466 ,189.445,189.424,189.402,189.38,189.358 ,189.335,189.3,189.276,189.252,189.228, 189.203,189.166,189.127,189.101,189.061 ,189.032,189.004,188.975,188.932, 188.903,188.874,188.828,188.813,188.75)
ORBIT_NUMBER = 18999
ORBITAL_ECCENTRICITY = 0.577
ORBITAL_INCLINATION = 86.98
ORBITAL_SEMIMAJOR_AXIS = 8782.36
PERIAPSIS_ALTITUDE = 328.6
PERIAPSIS_ARGUMENT_ANGLE = 305.53
PERIAPSIS_TIME = 2019-01-07T19:40:21.000Z
SPACECRAFT_ORIENTATION = (0.0,1.0,0.0)
^MEX_ORIENTATION_DESC = "MEX_ORIENTATION_DESC.TXT"
SPACECRAFT_POINTING_MODE = INERT
^MEX_POINTING_DESC = "MEX_POINTING_DESC.TXT"
RIGHT_ASCENSION = 12.423
DECLINATION = 58.482
OFFSET_ANGLE = -1e+32
SPACECRAFT_SOLAR_DISTANCE = 2.1867e+08
TARGET_NAME = MARS
/* CAMERA DATA ELEMENTS */
DETECTOR_TEMPERATURE = 19.1861
FOCAL_PLANE_TEMPERATURE = 9.195
INST_CMPRS_NAME = "DISCRETE COSINE TRANSFORMATION (DCT)"
INST_CMPRS_RATIO = 5.83088
INST_CMPRS_QUALITY = 0
INST_CMPRS_QUANTZ_TBL_ID = 0
INSTRUMENT_TEMPERATURE = 12.0496
LENS_TEMPERATURE = 10.0106
MACROPIXEL_SIZE = 2
MISSING_FRAMES = 0
PIXEL_SUBSAMPLING_FLAG = N
SIGNAL_CHAIN_ID = 3
/* RADIOMETRIC DATA ELEMENTS */
BANDWIDTH = 177.0
CENTER_FILTER_WAVELENGTH = 676.5
RADIANCE_OFFSET = 2.96266
RADIANCE_SCALING_FACTOR = 0.0235505
REFLECTANCE_SCALING_FACTOR = 0.000597082
MEX:REFLECTANCE_OFFSET = 0.075113
/* IMAGE OBJECT DEFINITIONS */
OBJECT = IMAGE
  INTERCHANGE_FORMAT = BINARY
  LINES = 23430
  LINE_SAMPLES = 4593
  SAMPLE_TYPE = UNSIGNED_INTEGER
  SAMPLE_BITS = 8
  BANDS = 1
  BAND_STORAGE_TYPE = BAND_SEQUENTIAL
  MAXIMUM = 255
  MEAN = 101.832
  MINIMUM = 1
  STANDARD_DEVIATION = 23.027
END_OBJECT = IMAGE
/* MAP OBJECT DEFINITIONS */
OBJECT = IMAGE_MAP_PROJECTION
  ^DATA_SET_MAP_PROJECTION_CATALOG= "DSMAP.CAT"
  A_AXIS_RADIUS = 3396.0
  B_AXIS_RADIUS = 3396.0
  C_AXIS_RADIUS = 3396.0
  CENTER_LATITUDE = 0.0
  CENTER_LONGITUDE = 188.0
  COORDINATE_SYSTEM_NAME = PLANETOGRAPHIC
  COORDINATE_SYSTEM_TYPE = "BODY-FIXED ROTATING"
  EASTERNMOST_LONGITUDE = 189.895
  FIRST_STANDARD_PARALLEL = "N/A"
  LINE_FIRST_PIXEL = 1
  LINE_LAST_PIXEL = 23430
  LINE_PROJECTION_OFFSET = -128516.25
  MAP_PROJECTION_ROTATION = 0.0
  MAP_PROJECTION_TYPE = SINUSOIDAL
  MAP_RESOLUTION = 2370.85521546667
  MAP_SCALE = 0.025
  MAXIMUM_LATITUDE = -54.2074
  MINIMUM_LATITUDE = -64.14060000000001
  POSITIVE_LONGITUDE_DIRECTION = EAST
  REFERENCE_LATITUDE = "N/A"
  REFERENCE_LONGITUDE = "N/A"
  SAMPLE_FIRST_PIXEL = 1
  SAMPLE_LAST_PIXEL = 4593
  SAMPLE_PROJECTION_OFFSET = 2094.75
  SECOND_STANDARD_PARALLEL = "N/A"
  WESTERNMOST_LONGITUDE = 186.06
END_OBJECT = IMAGE_MAP_PROJECTION
END
