PDS_VERSION_ID = PDS3
/* FILE DATA ELEMENTS */
RECORD_TYPE = UNDEFINED
/* POINTERS TO DATA OBJECTS */
^IMAGE = ("HI990_0000_S24.TIF")
/* IDENTIFICATION DATA ELEMENTS */
DATA_SET_ID = "MEX-M-HRSC-4-REFDR-MAPPROJECT-EXT7-V4.0"
DATA_SET_NAME = "MARS EXPRESS HRSC MAP PROJECTED REFDR EXTENSION7 V4.0"
DETECTOR_ID = MEX_HRSC_S2
EVENT_TYPE = "MARS-REGIONAL-MAPPING-Im-Gl-Pf"
INSTRUMENT_HOST_ID = MEX
INSTRUMENT_HOST_NAME = "MARS EXPRESS"
INSTRUMENT_ID = HRSC
INSTRUMENT_NAME = "HIGH RESOLUTION STEREO CAMERA"
MISSION_NAME = "MARS EXPRESS"
MISSION_PHASE_NAME = ME_Phase_40
PROCESSING_LEVEL_ID = 4
PRODUCT_CREATION_TIME = 2023-01-26T14:38:39.000Z
PRODUCT_ID = "HI990_0000_S24.TIF"
RELEASE_ID = 0002
REVISION_ID = 0000
/* QUALITY DATA ELEMENTS */
DATA_QUALITY_ID = 1
DATA_QUALITY_DESC = "Data calculated based on original SPICE kernels"
/* TIME DATA ELEMENTS */
SPACECRAFT_CLOCK_START_COUNT = "1/0494743702.23972"
SPACECRAFT_CLOCK_STOP_COUNT = "1/0494743958.06544"
START_TIME = 2019-01-05T04:48:54.187Z
STOP_TIME = 2019-01-05T04:52:09.603Z
/* ORBITAL DATA ELEMENTS */
ASCENDING_NODE_LONGITUDE = 217.96
MAXIMUM_RESOLUTION = 0.0266 <m/pixel>
FOOTPRINT_POINT_LATITUDE = (-53.8551,-53.817,-53.773,-53.772, -53.739,-53.4608,-53.0433,-52.7656, -52.4864,-52.204,-51.927,-51.648, -51.3682,-51.0885,-50.8091,-50.5293, -50.2496,-49.9696,-49.69,-49.4091, -48.9883,-48.7076,-48.4258,-48.1449, -47.8603,-47.5787,-47.1597,-46.8799, -46.5939,-46.1745,-45.7481,-45.4602, -45.0354,-44.7513,-44.3265,-44.0481, -43.621,-43.3362,-43.0507,-42.7599, -42.3169,-42.0219,-41.724,-41.4191, -40.9672,-40.6715,-40.3842,-39.9321, -39.6318,-39.4826,-39.4358,-39.4733, -39.5053,-39.5058,-39.5065,-39.9518, -40.2527,-40.708,-41.002,-41.3032, -41.7462,-42.0441,-42.4879,-42.7842, -43.078,-43.3555,-43.6498,-43.9347, -44.22,-44.5018,-44.7863,-45.0695, -45.3574,-45.6393,-45.9231,-46.2037, -46.6222,-47.0461,-47.4693,-47.7515, -48.0336,-48.4564,-48.7378,-49.0226, -49.4443,-49.7253,-50.1458,-50.4263, -50.8469,-51.1276,-51.4078,-51.8278, -52.1078,-52.3835,-52.6611,-52.9405, -53.3588,-53.6376,-53.7761,-53.8551)
FOOTPRINT_POINT_LONGITUDE = (29.1781,28.2655,27.3951,27.3777, 27.3576,27.388,27.4325,27.4616,27.4896, 27.5159,27.5437,27.5703,27.596,27.6213, 27.6462,27.6704,27.6943,27.7175,27.7405 ,27.7626,27.7952,27.8163,27.8367,27.857 ,27.8759,27.8952,27.9243,27.9431, 27.9601,27.9871,28.0118,28.0272,28.051, 28.0664,28.089,28.1046,28.1257,28.1394, 28.1527,28.1661,28.1857,28.1984,28.2105 ,28.2212,28.2377,28.2491,28.2615, 28.2767,28.2867,28.2917,28.2932,29.0641 ,29.9053,29.9213,29.927,29.9115,29.899, 29.8776,29.8679,29.8542,29.8377,29.8251 ,29.8073,29.7949,29.7823,29.7752, 29.7579,29.746,29.7334,29.7228,29.7102, 29.6983,29.6829,29.6713,29.658,29.6467, 29.6309,29.6108,29.5905,29.5765,29.5624 ,29.5407,29.5263,29.5085,29.4859, 29.4705,29.4475,29.4317,29.4073,29.3902 ,29.3732,29.3472,29.3293,29.3158, 29.2998,29.2814,29.2539,29.235,29.2266, 29.1781)
ORBIT_NUMBER = 18990
ORBITAL_ECCENTRICITY = 0.578
ORBITAL_INCLINATION = 86.97
ORBITAL_SEMIMAJOR_AXIS = 8788.17
PERIAPSIS_ALTITUDE = 328.82
PERIAPSIS_ARGUMENT_ANGLE = 307.05
PERIAPSIS_TIME = 2019-01-05T04:49:25.000Z
SPACECRAFT_ORIENTATION = (0.0,1.0,0.0)
^MEX_ORIENTATION_DESC = "MEX_ORIENTATION_DESC.TXT"
SPACECRAFT_POINTING_MODE = INERT
^MEX_POINTING_DESC = "MEX_POINTING_DESC.TXT"
RIGHT_ASCENSION = 33.887
DECLINATION = 53.279
OFFSET_ANGLE = -1e+32
SPACECRAFT_SOLAR_DISTANCE = 2.18194e+08
TARGET_NAME = MARS
/* CAMERA DATA ELEMENTS */
DETECTOR_TEMPERATURE = 19.1861 <degC>
FOCAL_PLANE_TEMPERATURE = 9.8067 <degC>
INST_CMPRS_NAME = "DISCRETE COSINE TRANSFORMATION (DCT)"
INST_CMPRS_RATIO = 9.1929
INST_CMPRS_QUALITY = 0
INST_CMPRS_QUANTZ_TBL_ID = 0
INSTRUMENT_TEMPERATURE = 11.8457 <degC>
LENS_TEMPERATURE = 10.2145 <degC>
MACROPIXEL_SIZE = 2
MISSING_FRAMES = 0
PIXEL_SUBSAMPLING_FLAG = N
SIGNAL_CHAIN_ID = 1
/* RADIOMETRIC DATA ELEMENTS */
BANDWIDTH = 178.0 <nm>
CENTER_FILTER_WAVELENGTH = 679.0 <nm>
RADIANCE_OFFSET = 3.02444 <W*m**-2*sr**-1>
RADIANCE_SCALING_FACTOR = 0.0264166 <W*m**-2*sr**-1>
REFLECTANCE_SCALING_FACTOR = 0.000666027
MEX:REFLECTANCE_OFFSET = 0.0762533
/* IMAGE OBJECT DEFINITIONS */
OBJECT = IMAGE
  INTERCHANGE_FORMAT = BINARY
  LINES = 34132
  LINE_SAMPLES = 3945
  SAMPLE_TYPE = UNSIGNED_INTEGER
  SAMPLE_BITS = 8
  BANDS = 1
  BAND_STORAGE_TYPE = BAND_SEQUENTIAL
  MAXIMUM = 255
  MEAN = 169.645
  MINIMUM = 1
  STANDARD_DEVIATION = 32.5808
END_OBJECT = IMAGE
/* MAP OBJECT DEFINITIONS */
OBJECT = IMAGE_MAP_PROJECTION
  ^DATA_SET_MAP_PROJECTION_CATALOG= "DSMAP.CAT"
  A_AXIS_RADIUS = 3396.0 <km>
  B_AXIS_RADIUS = 3396.0 <km>
  C_AXIS_RADIUS = 3396.0 <km>
  CENTER_LATITUDE = 0.0
  CENTER_LONGITUDE = 29.0
  COORDINATE_SYSTEM_NAME = PLANETOGRAPHIC
  COORDINATE_SYSTEM_TYPE = "BODY-FIXED ROTATING"
  EASTERNMOST_LONGITUDE = 29.927
  FIRST_STANDARD_PARALLEL = "N/A"
  LINE_FIRST_PIXEL = 1
  LINE_LAST_PIXEL = 34132
  LINE_PROJECTION_OFFSET = -93415.75
  MAP_PROJECTION_ROTATION = 0.0
  MAP_PROJECTION_TYPE = SINUSOIDAL
  MAP_RESOLUTION = 2370.85521546667 <pixel/degree>
  MAP_SCALE = 0.025 <km/pixel>
  MAXIMUM_LATITUDE = -39.4358
  MINIMUM_LATITUDE = -53.8551
  POSITIVE_LONGITUDE_DIRECTION = EAST
  REFERENCE_LATITUDE = "N/A"
  REFERENCE_LONGITUDE = "N/A"
  SAMPLE_FIRST_PIXEL = 1
  SAMPLE_LAST_PIXEL = 3945
  SAMPLE_PROJECTION_OFFSET = 2484.75
  SECOND_STANDARD_PARALLEL = "N/A"
  WESTERNMOST_LONGITUDE = 27.3576
END_OBJECT = IMAGE_MAP_PROJECTION
END
