PDS_VERSION_ID = PDS3
/* FILE DATA ELEMENTS */
RECORD_TYPE = UNDEFINED
/* POINTERS TO DATA OBJECTS */
^IMAGE = ("HI990_0000_S14.TIF")
/* IDENTIFICATION DATA ELEMENTS */
DATA_SET_ID = "MEX-M-HRSC-4-REFDR-MAPPROJECT-EXT7-V4.0"
DATA_SET_NAME = "MARS EXPRESS HRSC MAP PROJECTED REFDR EXTENSION7 V4.0"
DETECTOR_ID = MEX_HRSC_S1
EVENT_TYPE = "MARS-REGIONAL-MAPPING-Im-Gl-Pf"
INSTRUMENT_HOST_ID = MEX
INSTRUMENT_HOST_NAME = "MARS EXPRESS"
INSTRUMENT_ID = HRSC
INSTRUMENT_NAME = "HIGH RESOLUTION STEREO CAMERA"
MISSION_NAME = "MARS EXPRESS"
MISSION_PHASE_NAME = ME_Phase_40
PROCESSING_LEVEL_ID = 4
PRODUCT_CREATION_TIME = 2023-01-26T14:38:39.000Z
PRODUCT_ID = "HI990_0000_S14.TIF"
RELEASE_ID = 0002
REVISION_ID = 0000
/* QUALITY DATA ELEMENTS */
DATA_QUALITY_ID = 1
DATA_QUALITY_DESC = "Data calculated based on original SPICE kernels"
/* TIME DATA ELEMENTS */
SPACECRAFT_CLOCK_START_COUNT = "1/0494743702.23972"
SPACECRAFT_CLOCK_STOP_COUNT = "1/0494743958.06544"
START_TIME = 2019-01-05T04:49:48.207Z
STOP_TIME = 2019-01-05T04:53:07.964Z
/* ORBITAL DATA ELEMENTS */
ASCENDING_NODE_LONGITUDE = 217.96
MAXIMUM_RESOLUTION = 0.0283
FOOTPRINT_POINT_LATITUDE = (-53.6846,-53.6422,-53.6069,-53.5733, -53.5721,-53.6402,-53.2145,-52.7886, -52.5047,-52.0827,-51.7988,-51.519, -51.0962,-50.8142,-50.3913,-50.1097, -49.8271,-49.4037,-49.1218,-48.7016, -48.4217,-48.1414,-47.7228,-47.443, -47.1613,-46.8811,-46.5987,-46.3111, -46.0196,-45.7321,-45.4492,-45.1623, -44.8754,-44.5891,-44.3007,-44.0104, -43.7248,-43.2962,-42.8673,-42.5816, -42.296,-42.0116,-41.7272,-41.4435, -41.1617,-40.877,-40.59,-40.3071, -39.8831,-39.5721,-39.4027,-39.3795, -39.4095,-39.437,-39.4721,-39.4729, -39.474,-39.8137,-40.1021,-40.3832, -40.6712,-41.0998,-41.6628,-41.948, -42.3758,-42.8034,-43.0882,-43.3736, -43.6596,-43.9455,-44.2315,-44.5179, -44.8073,-45.2383,-45.6675,-45.9557, -46.2448,-46.5391,-46.8277,-47.1111, -47.3907,-47.8106,-48.0906,-48.5111, -48.7918,-49.2077,-49.6337,-50.0571, -50.4804,-50.7627,-51.0465,-51.609, -52.0308,-52.3217,-52.7512,-53.0361, -53.3209,-53.6028,-53.7465,-53.6846)
FOOTPRINT_POINT_LONGITUDE = (29.0626,28.2922,27.6951,27.1563, 27.1378,27.0984,27.1473,27.1948,27.2257 ,27.2691,27.2984,27.3253,27.3661, 27.3927,27.4316,27.4567,27.4818,27.5169 ,27.5406,27.5739,27.5955,27.6169, 27.6473,27.6674,27.6881,27.7077,27.7247 ,27.7433,27.7633,27.7811,27.7962,27.813 ,27.8294,27.8452,27.8618,27.8791, 27.8936,27.915,27.9359,27.9493,27.9625, 27.9747,27.9867,27.998,28.008,28.0193, 28.0319,28.0418,28.0559,28.066,28.0718, 28.0726,28.5469,28.9926,29.6408,29.6563 ,29.662,29.6536,29.6455,29.6354,29.6301 ,29.6192,29.5981,29.5897,29.5767,29.563 ,29.5535,29.5441,29.5348,29.5251, 29.5153,29.5054,29.497,29.482,29.4655, 29.4552,29.4451,29.4374,29.4264,29.4155 ,29.4044,29.3876,29.376,29.3582,29.3462 ,29.3251,29.3062,29.2872,29.2673, 29.2537,29.2404,29.2104,29.187,29.1749, 29.1531,29.1375,29.1214,29.1038,29.0959 ,29.0626)
ORBIT_NUMBER = 18990
ORBITAL_ECCENTRICITY = 0.578
ORBITAL_INCLINATION = 86.97
ORBITAL_SEMIMAJOR_AXIS = 8788.17
PERIAPSIS_ALTITUDE = 328.82
PERIAPSIS_ARGUMENT_ANGLE = 307.05
PERIAPSIS_TIME = 2019-01-05T04:49:25.000Z
SPACECRAFT_ORIENTATION = (0.0,1.0,0.0)
^MEX_ORIENTATION_DESC = "MEX_ORIENTATION_DESC.TXT"
SPACECRAFT_POINTING_MODE = INERT
^MEX_POINTING_DESC = "MEX_POINTING_DESC.TXT"
RIGHT_ASCENSION = 33.887
DECLINATION = 53.279
OFFSET_ANGLE = -1e+32
SPACECRAFT_SOLAR_DISTANCE = 2.18194e+08
TARGET_NAME = MARS
/* CAMERA DATA ELEMENTS */
DETECTOR_TEMPERATURE = 17.7588
FOCAL_PLANE_TEMPERATURE = 9.8067
INST_CMPRS_NAME = "DISCRETE COSINE TRANSFORMATION (DCT)"
INST_CMPRS_RATIO = 8.06501
INST_CMPRS_QUALITY = 0
INST_CMPRS_QUANTZ_TBL_ID = 0
INSTRUMENT_TEMPERATURE = 11.8457
LENS_TEMPERATURE = 10.2145
MACROPIXEL_SIZE = 2
MISSING_FRAMES = 1
PIXEL_SUBSAMPLING_FLAG = N
SIGNAL_CHAIN_ID = 1
/* RADIOMETRIC DATA ELEMENTS */
BANDWIDTH = 180.0
CENTER_FILTER_WAVELENGTH = 677.0
RADIANCE_OFFSET = 3.3356
RADIANCE_SCALING_FACTOR = 0.0282545
REFLECTANCE_SCALING_FACTOR = 0.000701801
MEX:REFLECTANCE_OFFSET = 0.0828515
/* IMAGE OBJECT DEFINITIONS */
OBJECT = IMAGE
  INTERCHANGE_FORMAT = BINARY
  LINES = 34132
  LINE_SAMPLES = 3945
  SAMPLE_TYPE = UNSIGNED_INTEGER
  SAMPLE_BITS = 8
  BANDS = 1
  BAND_STORAGE_TYPE = BAND_SEQUENTIAL
  MAXIMUM = 255
  MEAN = 179.017
  MINIMUM = 1
  STANDARD_DEVIATION = 30.1103
END_OBJECT = IMAGE
/* MAP OBJECT DEFINITIONS */
OBJECT = IMAGE_MAP_PROJECTION
  ^DATA_SET_MAP_PROJECTION_CATALOG= "DSMAP.CAT"
  A_AXIS_RADIUS = 3396.0
  B_AXIS_RADIUS = 3396.0
  C_AXIS_RADIUS = 3396.0
  CENTER_LATITUDE = 0.0
  CENTER_LONGITUDE = 29.0
  COORDINATE_SYSTEM_NAME = PLANETOGRAPHIC
  COORDINATE_SYSTEM_TYPE = "BODY-FIXED ROTATING"
  EASTERNMOST_LONGITUDE = 29.662
  FIRST_STANDARD_PARALLEL = "N/A"
  LINE_FIRST_PIXEL = 1
  LINE_LAST_PIXEL = 34132
  LINE_PROJECTION_OFFSET = -93415.75
  MAP_PROJECTION_ROTATION = 0.0
  MAP_PROJECTION_TYPE = SINUSOIDAL
  MAP_RESOLUTION = 2370.85521546667
  MAP_SCALE = 0.025
  MAXIMUM_LATITUDE = -39.3795
  MINIMUM_LATITUDE = -53.7465
  POSITIVE_LONGITUDE_DIRECTION = EAST
  REFERENCE_LATITUDE = "N/A"
  REFERENCE_LONGITUDE = "N/A"
  SAMPLE_FIRST_PIXEL = 1
  SAMPLE_LAST_PIXEL = 3945
  SAMPLE_PROJECTION_OFFSET = 2484.75
  SECOND_STANDARD_PARALLEL = "N/A"
  WESTERNMOST_LONGITUDE = 27.0984
END_OBJECT = IMAGE_MAP_PROJECTION
END
