PDS_VERSION_ID = PDS3
/* FILE DATA ELEMENTS */
RECORD_TYPE = UNDEFINED
/* POINTERS TO DATA OBJECTS */
^IMAGE = ("HI984_0000_BL4.TIF")
/* IDENTIFICATION DATA ELEMENTS */
DATA_SET_ID = "MEX-M-HRSC-4-REFDR-MAPPROJECT-EXT7-V4.0"
DATA_SET_NAME = "MARS EXPRESS HRSC MAP PROJECTED REFDR EXTENSION7 V4.0"
DETECTOR_ID = MEX_HRSC_BLUE
EVENT_TYPE = "MARS-REGIONAL-MAPPING-Im-Gl-Pf"
INSTRUMENT_HOST_ID = MEX
INSTRUMENT_HOST_NAME = "MARS EXPRESS"
INSTRUMENT_ID = HRSC
INSTRUMENT_NAME = "HIGH RESOLUTION STEREO CAMERA"
MISSION_NAME = "MARS EXPRESS"
MISSION_PHASE_NAME = ME_Phase_40
PROCESSING_LEVEL_ID = 4
PRODUCT_CREATION_TIME = 2023-01-26T14:38:39.000Z
PRODUCT_ID = "HI984_0000_BL4.TIF"
RELEASE_ID = 0002
REVISION_ID = 0000
/* QUALITY DATA ELEMENTS */
DATA_QUALITY_ID = 1
DATA_QUALITY_DESC = "Data calculated based on original SPICE kernels"
/* TIME DATA ELEMENTS */
SPACECRAFT_CLOCK_START_COUNT = "1/0494592805.24933"
SPACECRAFT_CLOCK_STOP_COUNT = "1/0494592992.07987"
START_TIME = 2019-01-03T10:54:19.193Z
STOP_TIME = 2019-01-03T10:56:31.182Z
/* ORBITAL DATA ELEMENTS */
ASCENDING_NODE_LONGITUDE = 218.07
MAXIMUM_RESOLUTION = 0.0521
FOOTPRINT_POINT_LATITUDE = (-57.1517,-57.1108,-57.0915,-57.0441, -57.0429,-57.045,-56.856,-56.6669, -56.3833,-56.1942,-55.9106,-55.7215, -55.5324,-55.3433,-55.1542,-54.9651, -54.7759,-54.5868,-54.3978,-54.2087, -54.0196,-53.8305,-53.6415,-53.4515, -53.2618,-52.9777,-52.7881,-52.4099, -52.2198,-52.0308,-51.8417,-51.5569, -51.178,-50.8947,-50.6125,-50.328, -50.1376,-49.7593,-49.4745,-49.2848, -49.0007,-48.8092,-48.4308,-48.2409, -47.9561,-47.6702,-47.5759,-47.5671, -47.5859,-47.6081,-47.6297,-47.6565, -47.6572,-47.6583,-47.8484,-48.1337, -48.4192,-48.609,-48.7992,-48.989, -49.1791,-49.3691,-49.654,-49.8439, -50.0339,-50.2238,-50.4138,-50.6987, -50.8886,-51.0786,-51.2687,-51.4591, -51.6488,-51.8386,-52.1229,-52.3127, -52.5024,-52.6922,-52.8818,-53.0715, -53.2611,-53.5456,-53.7352,-53.9248, -54.2092,-54.3989,-54.6835,-54.8732, -55.063,-55.2527,-55.4425,-55.6322, -55.822,-56.1066,-56.2964,-56.581, -56.8657,-57.0555,-57.1504,-57.1517)
FOOTPRINT_POINT_LONGITUDE = (281.362,280.522,280.16,279.342,279.323 ,279.276,279.305,279.335,279.378, 279.407,279.448,279.476,279.503,279.529 ,279.556,279.581,279.607,279.632, 279.657,279.682,279.706,279.729,279.753 ,279.772,279.793,279.825,279.846, 279.889,279.908,279.929,279.95,279.978, 280.016,280.045,280.076,280.102,280.118 ,280.153,280.177,280.193,280.217, 280.231,280.262,280.277,280.299,280.319 ,280.327,280.328,280.641,281.035, 281.445,281.997,282.012,282.018,282.009 ,281.995,281.98,281.971,281.961,281.952 ,281.942,281.932,281.917,281.906, 281.896,281.886,281.875,281.859,281.847 ,281.836,281.824,281.811,281.799, 281.788,281.771,281.759,281.747,281.734 ,281.722,281.71,281.698,281.679,281.666 ,281.654,281.635,281.622,281.601, 281.588,281.574,281.559,281.544,281.53, 281.515,281.492,281.477,281.453,281.429 ,281.413,281.404,281.362)
ORBIT_NUMBER = 18984
ORBITAL_ECCENTRICITY = 0.578
ORBITAL_INCLINATION = 86.97
ORBITAL_SEMIMAJOR_AXIS = 8788.55
PERIAPSIS_ALTITUDE = 328.49
PERIAPSIS_ARGUMENT_ANGLE = 308.08
PERIAPSIS_TIME = 2019-01-03T10:55:38.000Z
SPACECRAFT_ORIENTATION = (0.0,1.0,0.0)
^MEX_ORIENTATION_DESC = "MEX_ORIENTATION_DESC.TXT"
SPACECRAFT_POINTING_MODE = INERT
^MEX_POINTING_DESC = "MEX_POINTING_DESC.TXT"
RIGHT_ASCENSION = 26.665
DECLINATION = 56.775
OFFSET_ANGLE = -1e+32
SPACECRAFT_SOLAR_DISTANCE = 2.17879e+08
TARGET_NAME = MARS
/* CAMERA DATA ELEMENTS */
DETECTOR_TEMPERATURE = 18.5744
FOCAL_PLANE_TEMPERATURE = 10.4184
INST_CMPRS_NAME = "DISCRETE COSINE TRANSFORMATION (DCT)"
INST_CMPRS_RATIO = 5.42478
INST_CMPRS_QUALITY = 0
INST_CMPRS_QUANTZ_TBL_ID = 0
INSTRUMENT_TEMPERATURE = 12.2535
LENS_TEMPERATURE = 10.2145
MACROPIXEL_SIZE = 4
MISSING_FRAMES = 0
PIXEL_SUBSAMPLING_FLAG = N
SIGNAL_CHAIN_ID = 2
/* RADIOMETRIC DATA ELEMENTS */
BANDWIDTH = 76.0
CENTER_FILTER_WAVELENGTH = 444.0
RADIANCE_OFFSET = 0.651463
RADIANCE_SCALING_FACTOR = 0.00139839
REFLECTANCE_SCALING_FACTOR = 6.82052e-05
MEX:REFLECTANCE_OFFSET = 0.0317745
/* IMAGE OBJECT DEFINITIONS */
OBJECT = IMAGE
  INTERCHANGE_FORMAT = BINARY
  LINES = 11380
  LINE_SAMPLES = 1932
  SAMPLE_TYPE = UNSIGNED_INTEGER
  SAMPLE_BITS = 8
  BANDS = 1
  BAND_STORAGE_TYPE = BAND_SEQUENTIAL
  MAXIMUM = 255
  MEAN = 119.095
  MINIMUM = 1
  STANDARD_DEVIATION = 30.6047
END_OBJECT = IMAGE
/* MAP OBJECT DEFINITIONS */
OBJECT = IMAGE_MAP_PROJECTION
  ^DATA_SET_MAP_PROJECTION_CATALOG= "DSMAP.CAT"
  A_AXIS_RADIUS = 3396.0
  B_AXIS_RADIUS = 3396.0
  C_AXIS_RADIUS = 3396.0
  CENTER_LATITUDE = 0.0
  CENTER_LONGITUDE = 281.0
  COORDINATE_SYSTEM_NAME = PLANETOGRAPHIC
  COORDINATE_SYSTEM_TYPE = "BODY-FIXED ROTATING"
  EASTERNMOST_LONGITUDE = 282.018
  FIRST_STANDARD_PARALLEL = "N/A"
  LINE_FIRST_PIXEL = 1
  LINE_LAST_PIXEL = 11380
  LINE_PROJECTION_OFFSET = -56374.375
  MAP_PROJECTION_ROTATION = 0.0
  MAP_PROJECTION_TYPE = SINUSOIDAL
  MAP_RESOLUTION = 1185.42760773333
  MAP_SCALE = 0.05
  MAXIMUM_LATITUDE = -47.5671
  MINIMUM_LATITUDE = -57.1517
  POSITIVE_LONGITUDE_DIRECTION = EAST
  REFERENCE_LATITUDE = "N/A"
  REFERENCE_LONGITUDE = "N/A"
  SAMPLE_FIRST_PIXEL = 1
  SAMPLE_LAST_PIXEL = 1932
  SAMPLE_PROJECTION_OFFSET = 1134.125
  SECOND_STANDARD_PARALLEL = "N/A"
  WESTERNMOST_LONGITUDE = 279.276
END_OBJECT = IMAGE_MAP_PROJECTION
END
