PDS_VERSION_ID = PDS3
/* FILE DATA ELEMENTS */
RECORD_TYPE = UNDEFINED
/* POINTERS TO DATA OBJECTS */
^IMAGE = ("HI979_0000_P14.TIF")
/* IDENTIFICATION DATA ELEMENTS */
DATA_SET_ID = "MEX-M-HRSC-4-REFDR-MAPPROJECT-EXT7-V4.0"
DATA_SET_NAME = "MARS EXPRESS HRSC MAP PROJECTED REFDR EXTENSION7 V4.0"
DETECTOR_ID = MEX_HRSC_P1
EVENT_TYPE = "MARS-REGIONAL-MAPPING-Gl-Pf-Eo"
INSTRUMENT_HOST_ID = MEX
INSTRUMENT_HOST_NAME = "MARS EXPRESS"
INSTRUMENT_ID = HRSC
INSTRUMENT_NAME = "HIGH RESOLUTION STEREO CAMERA"
MISSION_NAME = "MARS EXPRESS"
MISSION_PHASE_NAME = ME_Phase_40
PROCESSING_LEVEL_ID = 4
PRODUCT_CREATION_TIME = 2023-01-26T13:25:29.000Z
PRODUCT_ID = "HI979_0000_P14.TIF"
RELEASE_ID = 0001
REVISION_ID = 0000
/* QUALITY DATA ELEMENTS */
DATA_QUALITY_ID = 1
DATA_QUALITY_DESC = "Data calculated based on original SPICE kernels"
/* TIME DATA ELEMENTS */
SPACECRAFT_CLOCK_START_COUNT = "1/0494467135.25686"
SPACECRAFT_CLOCK_STOP_COUNT = "1/0494467300.02698"
START_TIME = 2019-01-02T00:00:11.576Z
STOP_TIME = 2019-01-02T00:02:01.196Z
/* ORBITAL DATA ELEMENTS */
ASCENDING_NODE_LONGITUDE = 218.15
MAXIMUM_RESOLUTION = 0.0271
FOOTPRINT_POINT_LATITUDE = (-54.493,-54.4799,-54.458,-54.4432, -54.4278,-54.3982,-54.3971,-54.4663, -54.3081,-54.1494,-53.9912,-53.8333, -53.5967,-53.3596,-53.122,-52.9636, -52.8057,-52.6474,-52.4895,-52.3312, -52.173,-52.0152,-51.7777,-51.6194, -51.4618,-51.3039,-51.067,-50.909, -50.7513,-50.5931,-50.4349,-50.2771, -50.1189,-49.8815,-49.7237,-49.4876, -49.3293,-49.1719,-49.014,-48.7774, -48.6194,-48.3056,-48.0696,-47.9118, -47.5971,-47.4396,-47.2032,-46.8883, -46.6521,-46.5736,-46.5617,-46.5791, -46.6012,-46.6235,-46.6442,-46.6449, -46.6456,-46.9604,-47.1968,-47.4332, -47.5908,-47.7484,-47.9061,-48.1425, -48.3795,-48.5384,-48.6963,-49.0102, -49.1681,-49.3265,-49.4846,-49.7223, -49.8807,-50.118,-50.2765,-50.435, -50.6725,-50.8309,-51.0686,-51.2272, -51.3855,-51.5439,-51.7022,-51.8604, -52.0182,-52.1768,-52.3353,-52.4934, -52.7307,-52.8891,-53.0478,-53.2855, -53.524,-53.6825,-53.9205,-54.1585, -54.3171,-54.4759,-54.555,-54.493)
FOOTPRINT_POINT_LONGITUDE = (71.7391,71.4433,70.9797,70.6822,70.384 ,69.8409,69.8221,69.7293,69.7516, 69.7744,69.7961,69.8173,69.8483,69.8793 ,69.9104,69.931,69.9505,69.9704,69.9895 ,70.0089,70.028,70.0465,70.0746,70.0932 ,70.1105,70.1282,70.1542,70.1714,70.188 ,70.2052,70.2222,70.2384,70.2551, 70.2799,70.2955,70.3178,70.3338,70.3482 ,70.3634,70.3854,70.4003,70.426,70.4461 ,70.46,70.486,70.4991,70.5188,70.544, 70.5626,70.5683,70.5692,70.8815,71.3083 ,71.7661,72.238,72.2542,72.26,72.2449, 72.2335,72.2218,72.214,72.2059,72.1979, 72.1855,72.1732,72.1652,72.1566,72.1385 ,72.1296,72.1209,72.1119,72.0984, 72.0892,72.0751,72.0657,72.0561,72.0414 ,72.0314,72.0164,72.0062,71.9958, 71.9852,71.9746,71.9637,71.9526,71.9416 ,71.9305,71.919,71.9017,71.89,71.8782, 71.8603,71.8421,71.8297,71.8109,71.7917 ,71.7787,71.7655,71.7588,71.7391)
ORBIT_NUMBER = 18979
ORBITAL_ECCENTRICITY = 0.578
ORBITAL_INCLINATION = 86.99
ORBITAL_SEMIMAJOR_AXIS = 8790.91
PERIAPSIS_ALTITUDE = 327.93
PERIAPSIS_ARGUMENT_ANGLE = 308.93
PERIAPSIS_TIME = 2019-01-02T00:00:44.000Z
SPACECRAFT_ORIENTATION = (0.0,1.0,0.0)
^MEX_ORIENTATION_DESC = "MEX_ORIENTATION_DESC.TXT"
SPACECRAFT_POINTING_MODE = INERT
^MEX_POINTING_DESC = "MEX_POINTING_DESC.TXT"
RIGHT_ASCENSION = 29.953
DECLINATION = 58.809
OFFSET_ANGLE = -1e+32
SPACECRAFT_SOLAR_DISTANCE = 2.17619e+08
TARGET_NAME = MARS
/* CAMERA DATA ELEMENTS */
DETECTOR_TEMPERATURE = 19.39
FOCAL_PLANE_TEMPERATURE = 10.2145
INST_CMPRS_NAME = "DISCRETE COSINE TRANSFORMATION (DCT)"
INST_CMPRS_RATIO = 11.6864
INST_CMPRS_QUALITY = 0
INST_CMPRS_QUANTZ_TBL_ID = 0
INSTRUMENT_TEMPERATURE = 12.4574
LENS_TEMPERATURE = 10.2145
MACROPIXEL_SIZE = 2
MISSING_FRAMES = 0
PIXEL_SUBSAMPLING_FLAG = N
SIGNAL_CHAIN_ID = 3
/* RADIOMETRIC DATA ELEMENTS */
BANDWIDTH = 174.0
CENTER_FILTER_WAVELENGTH = 675.0
RADIANCE_OFFSET = 6.22094
RADIANCE_SCALING_FACTOR = 0.0208772
REFLECTANCE_SCALING_FACTOR = 0.000531805
MEX:REFLECTANCE_OFFSET = 0.158466
/* IMAGE OBJECT DEFINITIONS */
OBJECT = IMAGE
  INTERCHANGE_FORMAT = BINARY
  LINES = 19035
  LINE_SAMPLES = 3816
  SAMPLE_TYPE = UNSIGNED_INTEGER
  SAMPLE_BITS = 8
  BANDS = 1
  BAND_STORAGE_TYPE = BAND_SEQUENTIAL
  MAXIMUM = 255
  MEAN = 196.518
  MINIMUM = 1
  STANDARD_DEVIATION = 25.4633
END_OBJECT = IMAGE
/* MAP OBJECT DEFINITIONS */
OBJECT = IMAGE_MAP_PROJECTION
  ^DATA_SET_MAP_PROJECTION_CATALOG= "DSMAP.CAT"
  A_AXIS_RADIUS = 3396.0
  B_AXIS_RADIUS = 3396.0
  C_AXIS_RADIUS = 3396.0
  CENTER_LATITUDE = 0.0
  CENTER_LONGITUDE = 71.0
  COORDINATE_SYSTEM_NAME = PLANETOGRAPHIC
  COORDINATE_SYSTEM_TYPE = "BODY-FIXED ROTATING"
  EASTERNMOST_LONGITUDE = 72.26000000000001
  FIRST_STANDARD_PARALLEL = "N/A"
  LINE_FIRST_PIXEL = 1
  LINE_LAST_PIXEL = 19035
  LINE_PROJECTION_OFFSET = -110353.25
  MAP_PROJECTION_ROTATION = 0.0
  MAP_PROJECTION_TYPE = SINUSOIDAL
  MAP_RESOLUTION = 2370.85521546667
  MAP_SCALE = 0.025
  MAXIMUM_LATITUDE = -46.5617
  MINIMUM_LATITUDE = -54.555
  POSITIVE_LONGITUDE_DIRECTION = EAST
  REFERENCE_LATITUDE = "N/A"
  REFERENCE_LONGITUDE = "N/A"
  SAMPLE_FIRST_PIXEL = 1
  SAMPLE_LAST_PIXEL = 3816
  SAMPLE_PROJECTION_OFFSET = 1638.25
  SECOND_STANDARD_PARALLEL = "N/A"
  WESTERNMOST_LONGITUDE = 69.72929999999999
END_OBJECT = IMAGE_MAP_PROJECTION
END
