PDS_VERSION_ID = PDS3
/* FILE DATA ELEMENTS */
RECORD_TYPE = UNDEFINED
/* POINTERS TO DATA OBJECTS */
^IMAGE = ("HI979_0000_ND4.TIF")
/* IDENTIFICATION DATA ELEMENTS */
DATA_SET_ID = "MEX-M-HRSC-4-REFDR-MAPPROJECT-EXT7-V4.0"
DATA_SET_NAME = "MARS EXPRESS HRSC MAP PROJECTED REFDR EXTENSION7 V4.0"
DETECTOR_ID = MEX_HRSC_NADIR
EVENT_TYPE = "MARS-REGIONAL-MAPPING-Gl-Pf-Eo"
INSTRUMENT_HOST_ID = MEX
INSTRUMENT_HOST_NAME = "MARS EXPRESS"
INSTRUMENT_ID = HRSC
INSTRUMENT_NAME = "HIGH RESOLUTION STEREO CAMERA"
MISSION_NAME = "MARS EXPRESS"
MISSION_PHASE_NAME = ME_Phase_40
PROCESSING_LEVEL_ID = 4
PRODUCT_CREATION_TIME = 2023-01-26T13:25:29.000Z
PRODUCT_ID = "HI979_0000_ND4.TIF"
RELEASE_ID = 0001
REVISION_ID = 0000
/* QUALITY DATA ELEMENTS */
DATA_QUALITY_ID = 1
DATA_QUALITY_DESC = "Data calculated based on original SPICE kernels"
/* TIME DATA ELEMENTS */
SPACECRAFT_CLOCK_START_COUNT = "1/0494467135.25686"
SPACECRAFT_CLOCK_STOP_COUNT = "1/0494467300.02698"
START_TIME = 2019-01-01T23:59:53.708Z
STOP_TIME = 2019-01-02T00:01:43.689Z
/* ORBITAL DATA ELEMENTS */
ASCENDING_NODE_LONGITUDE = 218.15
MAXIMUM_RESOLUTION = 0.0133
FOOTPRINT_POINT_LATITUDE = (-54.5578,-54.5439,-54.5282,-54.498, -54.471,-54.452,-54.4508,-54.4605, -54.3027,-54.0661,-53.6717,-53.435, -53.2772,-53.1193,-52.9614,-52.7246, -52.5667,-52.4088,-52.2509,-52.093, -51.9351,-51.7771,-51.5402,-51.3822, -51.1452,-50.9083,-50.7503,-50.5133, -50.3553,-50.1973,-50.0393,-49.7234, -49.5653,-49.4073,-49.2491,-48.9332, -48.7749,-48.4587,-48.3002,-47.9841, -47.7467,-47.5885,-47.2724,-47.1143, -46.9562,-46.7982,-46.6398,-46.5605, -46.5452,-46.5767,-46.5935,-46.6183, -46.6403,-46.6412,-46.6418,-46.9589, -47.1175,-47.355,-47.5135,-47.6719, -47.8304,-47.9887,-48.1472,-48.4637, -48.6221,-48.7805,-48.9391,-49.0976, -49.256,-49.4934,-49.6517,-49.8101, -49.9685,-50.1268,-50.3643,-50.5226, -50.681,-50.8394,-50.9977,-51.1561, -51.3936,-51.5519,-51.7103,-51.8686, -52.0268,-52.1852,-52.3435,-52.5017, -52.7391,-52.8974,-53.0557,-53.214, -53.4514,-53.6096,-53.7679,-54.0052, -54.2425,-54.4798,-54.5589,-54.5578)
FOOTPRINT_POINT_LONGITUDE = (71.7988,71.5177,71.2174,70.671,70.2172 ,69.9133,69.8942,69.8105,69.8326, 69.8646,69.9159,69.946,69.9661,69.9866, 70.0061,70.0349,70.0539,70.0724,70.0912 ,70.1096,70.1273,70.1456,70.1718, 70.1891,70.2142,70.2395,70.256,70.281, 70.2969,70.3128,70.329,70.3607,70.375, 70.3901,70.4041,70.4341,70.4473,70.4749 ,70.4868,70.5139,70.533,70.5455,70.5714 ,70.5838,70.5962,70.6085,70.6199, 70.6252,70.6262,71.135,71.422,71.8766, 72.3124,72.3291,72.3373,72.3215,72.3135 ,72.3017,72.2937,72.2854,72.2771, 72.2689,72.2603,72.244,72.2353,72.2265, 72.2171,72.2075,72.1985,72.185,72.1759, 72.1667,72.157,72.1476,72.133,72.1232, 72.1133,72.1031,72.0929,72.0827,72.0669 ,72.0562,72.0453,72.0342,72.0229, 72.0118,72.0004,71.9888,71.9713,71.9593 ,71.9474,71.9355,71.9172,71.9047, 71.8922,71.8729,71.8535,71.8336,71.8268 ,71.7988)
ORBIT_NUMBER = 18979
ORBITAL_ECCENTRICITY = 0.578
ORBITAL_INCLINATION = 86.99
ORBITAL_SEMIMAJOR_AXIS = 8790.91
PERIAPSIS_ALTITUDE = 327.93
PERIAPSIS_ARGUMENT_ANGLE = 308.93
PERIAPSIS_TIME = 2019-01-02T00:00:44.000Z
SPACECRAFT_ORIENTATION = (0.0,1.0,0.0)
^MEX_ORIENTATION_DESC = "MEX_ORIENTATION_DESC.TXT"
SPACECRAFT_POINTING_MODE = INERT
^MEX_POINTING_DESC = "MEX_POINTING_DESC.TXT"
RIGHT_ASCENSION = 29.953
DECLINATION = 58.809
OFFSET_ANGLE = -1e+32
SPACECRAFT_SOLAR_DISTANCE = 2.17619e+08
TARGET_NAME = MARS
/* CAMERA DATA ELEMENTS */
DETECTOR_TEMPERATURE = 18.9822
FOCAL_PLANE_TEMPERATURE = 10.2145
INST_CMPRS_NAME = "DISCRETE COSINE TRANSFORMATION (DCT)"
INST_CMPRS_RATIO = 7.62426
INST_CMPRS_QUALITY = 0
INST_CMPRS_QUANTZ_TBL_ID = 0
INSTRUMENT_TEMPERATURE = 12.4574
LENS_TEMPERATURE = 10.2145
MACROPIXEL_SIZE = 1
MISSING_FRAMES = 0
PIXEL_SUBSAMPLING_FLAG = N
SIGNAL_CHAIN_ID = 0
/* RADIOMETRIC DATA ELEMENTS */
BANDWIDTH = 177.0
CENTER_FILTER_WAVELENGTH = 677.5
RADIANCE_OFFSET = 5.86072
RADIANCE_SCALING_FACTOR = 0.022132
REFLECTANCE_SCALING_FACTOR = 0.000556798
MEX:REFLECTANCE_OFFSET = 0.147444
/* IMAGE OBJECT DEFINITIONS */
OBJECT = IMAGE
  INTERCHANGE_FORMAT = BINARY
  LINES = 38069
  LINE_SAMPLES = 7632
  SAMPLE_TYPE = UNSIGNED_INTEGER
  SAMPLE_BITS = 8
  BANDS = 1
  BAND_STORAGE_TYPE = BAND_SEQUENTIAL
  MAXIMUM = 254
  MEAN = 185.528
  MINIMUM = 1
  STANDARD_DEVIATION = 27.5197
END_OBJECT = IMAGE
/* MAP OBJECT DEFINITIONS */
OBJECT = IMAGE_MAP_PROJECTION
  ^DATA_SET_MAP_PROJECTION_CATALOG= "DSMAP.CAT"
  A_AXIS_RADIUS = 3396.0
  B_AXIS_RADIUS = 3396.0
  C_AXIS_RADIUS = 3396.0
  CENTER_LATITUDE = 0.0
  CENTER_LONGITUDE = 71.0
  COORDINATE_SYSTEM_NAME = PLANETOGRAPHIC
  COORDINATE_SYSTEM_TYPE = "BODY-FIXED ROTATING"
  EASTERNMOST_LONGITUDE = 72.3373
  FIRST_STANDARD_PARALLEL = "N/A"
  LINE_FIRST_PIXEL = 1
  LINE_LAST_PIXEL = 38069
  LINE_PROJECTION_OFFSET = -220706.0
  MAP_PROJECTION_ROTATION = 0.0
  MAP_PROJECTION_TYPE = SINUSOIDAL
  MAP_RESOLUTION = 4741.71043093333
  MAP_SCALE = 0.0125
  MAXIMUM_LATITUDE = -46.5452
  MINIMUM_LATITUDE = -54.5589
  POSITIVE_LONGITUDE_DIRECTION = EAST
  REFERENCE_LATITUDE = "N/A"
  REFERENCE_LONGITUDE = "N/A"
  SAMPLE_FIRST_PIXEL = 1
  SAMPLE_LAST_PIXEL = 7632
  SAMPLE_PROJECTION_OFFSET = 3277.0
  SECOND_STANDARD_PARALLEL = "N/A"
  WESTERNMOST_LONGITUDE = 69.8105
END_OBJECT = IMAGE_MAP_PROJECTION
END
