PDS_VERSION_ID = PDS3
/* FILE DATA ELEMENTS */
RECORD_TYPE = UNDEFINED
/* POINTERS TO DATA OBJECTS */
^IMAGE = ("HI978_0000_S14.TIF")
/* IDENTIFICATION DATA ELEMENTS */
DATA_SET_ID = "MEX-M-HRSC-4-REFDR-MAPPROJECT-EXT7-V4.0"
DATA_SET_NAME = "MARS EXPRESS HRSC MAP PROJECTED REFDR EXTENSION7 V4.0"
DETECTOR_ID = MEX_HRSC_S1
EVENT_TYPE = "MARS-REGIONAL-MAPPING-Vo-Im-Fl"
INSTRUMENT_HOST_ID = MEX
INSTRUMENT_HOST_NAME = "MARS EXPRESS"
INSTRUMENT_ID = HRSC
INSTRUMENT_NAME = "HIGH RESOLUTION STEREO CAMERA"
MISSION_NAME = "MARS EXPRESS"
MISSION_PHASE_NAME = ME_Phase_40
PROCESSING_LEVEL_ID = 4
PRODUCT_CREATION_TIME = 2023-01-26T13:25:29.000Z
PRODUCT_ID = "HI978_0000_S14.TIF"
RELEASE_ID = 0001
REVISION_ID = 0000
/* QUALITY DATA ELEMENTS */
DATA_QUALITY_ID = 1
DATA_QUALITY_DESC = "Data calculated based on original SPICE kernels"
/* TIME DATA ELEMENTS */
SPACECRAFT_CLOCK_START_COUNT = "1/0494442005.24922"
SPACECRAFT_CLOCK_STOP_COUNT = "1/0494442221.50290"
START_TIME = 2019-01-01T17:01:32.086Z
STOP_TIME = 2019-01-01T17:04:11.548Z
/* ORBITAL DATA ELEMENTS */
ASCENDING_NODE_LONGITUDE = 218.17
MAXIMUM_RESOLUTION = 0.0277
FOOTPRINT_POINT_LATITUDE = (-54.1343,-54.0757,-54.0252,-53.9739, -53.9723,-54.0499,-53.8202,-53.5899, -53.3604,-53.1305,-52.7862,-52.4421, -52.0983,-51.8692,-51.5259,-51.2972, -51.0694,-50.7255,-50.3838,-50.0418, -49.7006,-49.4731,-49.2461,-49.0188, -48.7922,-48.5662,-48.2272,-48.0015, -47.5509,-47.3252,-47.095,-46.8626, -46.6296,-46.3969,-46.048,-45.7003, -45.4685,-45.1224,-44.8915,-44.6568, -44.4284,-44.1967,-43.8505,-43.5017, -43.1563,-42.9259,-42.6952,-42.5799, -42.5413,-42.6093,-42.6567,-42.6843, -42.6856,-42.6867,-42.9169,-43.1476, -43.4936,-43.7248,-43.9555,-44.1863, -44.4188,-44.6489,-44.8805,-45.1123, -45.3443,-45.5769,-45.9254,-46.1577, -46.3902,-46.6231,-46.9724,-47.2051, -47.4367,-47.8881,-48.3401,-48.5665, -48.9078,-49.2486,-49.4759,-49.7037, -49.9323,-50.1614,-50.3904,-50.619, -50.8471,-51.0762,-51.3047,-51.5337, -51.7629,-52.1087,-52.3401,-52.5673, -52.7975,-53.0277,-53.375,-53.6067, -53.8378,-54.0675,-54.182,-54.1343)
FOOTPRINT_POINT_LONGITUDE = (175.954,175.196,174.579,173.979,173.96 ,173.968,173.985,174.002,174.019, 174.035,174.059,174.082,174.105,174.12, 174.141,174.155,174.17,174.19,174.21, 174.229,174.248,174.261,174.273,174.285 ,174.297,174.308,174.326,174.337, 174.359,174.37,174.381,174.392,174.402, 174.413,174.428,174.443,174.453,174.468 ,174.477,174.486,174.496,174.505, 174.518,174.53,174.543,174.552,174.56, 174.564,174.565,175.301,175.841,176.167 ,176.183,176.189,176.184,176.18,176.173 ,176.169,176.165,176.16,176.157,176.152 ,176.148,176.144,176.14,176.137,176.132 ,176.128,176.124,176.121,176.116, 176.112,176.108,176.101,176.095,176.091 ,176.089,176.085,176.082,176.08,176.079 ,176.078,176.076,176.074,176.072,176.07 ,176.068,176.066,176.064,176.063, 176.063,176.058,176.056,176.055,176.054 ,176.053,176.052,176.049,176.047, 175.954)
ORBIT_NUMBER = 18978
ORBITAL_ECCENTRICITY = 0.577
ORBITAL_INCLINATION = 86.98
ORBITAL_SEMIMAJOR_AXIS = 8788.37
PERIAPSIS_ALTITUDE = 329.12
PERIAPSIS_ARGUMENT_ANGLE = 309.11
PERIAPSIS_TIME = 2019-01-01T17:01:48.000Z
SPACECRAFT_ORIENTATION = (0.0,1.0,0.0)
^MEX_ORIENTATION_DESC = "MEX_ORIENTATION_DESC.TXT"
SPACECRAFT_POINTING_MODE = INERT
^MEX_POINTING_DESC = "MEX_POINTING_DESC.TXT"
RIGHT_ASCENSION = 26.228
DECLINATION = 46.288
OFFSET_ANGLE = -1e+32
SPACECRAFT_SOLAR_DISTANCE = 2.17567e+08
TARGET_NAME = MARS
/* CAMERA DATA ELEMENTS */
DETECTOR_TEMPERATURE = 18.3705
FOCAL_PLANE_TEMPERATURE = 11.0301
INST_CMPRS_NAME = "DISCRETE COSINE TRANSFORMATION (DCT)"
INST_CMPRS_RATIO = 10.0456
INST_CMPRS_QUALITY = 0
INST_CMPRS_QUANTZ_TBL_ID = 0
INSTRUMENT_TEMPERATURE = 12.8652
LENS_TEMPERATURE = 11.234
MACROPIXEL_SIZE = 2
MISSING_FRAMES = 0
PIXEL_SUBSAMPLING_FLAG = N
SIGNAL_CHAIN_ID = 1
/* RADIOMETRIC DATA ELEMENTS */
BANDWIDTH = 180.0
CENTER_FILTER_WAVELENGTH = 677.0
RADIANCE_OFFSET = 4.86996
RADIANCE_SCALING_FACTOR = 0.0248534
REFLECTANCE_SCALING_FACTOR = 0.000613782
MEX:REFLECTANCE_OFFSET = 0.120269
/* IMAGE OBJECT DEFINITIONS */
OBJECT = IMAGE
  INTERCHANGE_FORMAT = BINARY
  LINES = 27509
  LINE_SAMPLES = 3665
  SAMPLE_TYPE = UNSIGNED_INTEGER
  SAMPLE_BITS = 8
  BANDS = 1
  BAND_STORAGE_TYPE = BAND_SEQUENTIAL
  MAXIMUM = 255
  MEAN = 184.504
  MINIMUM = 1
  STANDARD_DEVIATION = 34.073
END_OBJECT = IMAGE
/* MAP OBJECT DEFINITIONS */
OBJECT = IMAGE_MAP_PROJECTION
  ^DATA_SET_MAP_PROJECTION_CATALOG= "DSMAP.CAT"
  A_AXIS_RADIUS = 3396.0
  B_AXIS_RADIUS = 3396.0
  C_AXIS_RADIUS = 3396.0
  CENTER_LATITUDE = 0.0
  CENTER_LONGITUDE = 175.0
  COORDINATE_SYSTEM_NAME = PLANETOGRAPHIC
  COORDINATE_SYSTEM_TYPE = "BODY-FIXED ROTATING"
  EASTERNMOST_LONGITUDE = 176.189
  FIRST_STANDARD_PARALLEL = "N/A"
  LINE_FIRST_PIXEL = 1
  LINE_LAST_PIXEL = 27509
  LINE_PROJECTION_OFFSET = -100995.25
  MAP_PROJECTION_ROTATION = 0.0
  MAP_PROJECTION_TYPE = SINUSOIDAL
  MAP_RESOLUTION = 2370.85521546667
  MAP_SCALE = 0.025
  MAXIMUM_LATITUDE = -42.5413
  MINIMUM_LATITUDE = -54.182
  POSITIVE_LONGITUDE_DIRECTION = EAST
  REFERENCE_LATITUDE = "N/A"
  REFERENCE_LONGITUDE = "N/A"
  SAMPLE_FIRST_PIXEL = 1
  SAMPLE_LAST_PIXEL = 3665
  SAMPLE_PROJECTION_OFFSET = 1301.75
  SECOND_STANDARD_PARALLEL = "N/A"
  WESTERNMOST_LONGITUDE = 173.96
END_OBJECT = IMAGE_MAP_PROJECTION
END
