PDS_VERSION_ID = PDS3
/* FILE DATA ELEMENTS */
RECORD_TYPE = UNDEFINED
/* POINTERS TO DATA OBJECTS */
^IMAGE = ("HI976_0000_P24.TIF")
/* IDENTIFICATION DATA ELEMENTS */
DATA_SET_ID = "MEX-M-HRSC-4-REFDR-MAPPROJECT-EXT7-V4.0"
DATA_SET_NAME = "MARS EXPRESS HRSC MAP PROJECTED REFDR EXTENSION7 V4.0"
DETECTOR_ID = MEX_HRSC_P2
EVENT_TYPE = "MARS-REGIONAL-MAPPING-Im-Gl-Pf"
INSTRUMENT_HOST_ID = MEX
INSTRUMENT_HOST_NAME = "MARS EXPRESS"
INSTRUMENT_ID = HRSC
INSTRUMENT_NAME = "HIGH RESOLUTION STEREO CAMERA"
MISSION_NAME = "MARS EXPRESS"
MISSION_PHASE_NAME = ME_Phase_40
PROCESSING_LEVEL_ID = 4
PRODUCT_CREATION_TIME = 2023-01-26T13:25:29.000Z
PRODUCT_ID = "HI976_0000_P24.TIF"
RELEASE_ID = 0001
REVISION_ID = 0000
/* QUALITY DATA ELEMENTS */
DATA_QUALITY_ID = 1
DATA_QUALITY_DESC = "Data calculated based on original SPICE kernels"
/* TIME DATA ELEMENTS */
SPACECRAFT_CLOCK_START_COUNT = "1/0494391610.23969"
SPACECRAFT_CLOCK_STOP_COUNT = "1/0494391835.14976"
START_TIME = 2019-01-01T03:00:51.930Z
STOP_TIME = 2019-01-01T03:03:40.663Z
/* ORBITAL DATA ELEMENTS */
ASCENDING_NODE_LONGITUDE = 218.21
MAXIMUM_RESOLUTION = 0.0273
FOOTPRINT_POINT_LATITUDE = (-61.3791,-61.3595,-61.338,-61.3122, -61.3113,-61.2847,-60.9225,-60.6812, -60.4396,-60.1981,-59.9568,-59.714, -59.4704,-59.2281,-58.986,-58.7451, -58.5065,-58.1429,-57.9005,-57.6556, -57.4129,-57.0488,-56.6858,-56.3205, -56.0769,-55.8332,-55.5897,-55.2244, -54.9805,-54.6151,-54.3711,-54.1268, -53.8901,-53.6535,-53.417,-53.1802, -52.7074,-52.4682,-52.2295,-51.6386, -51.2815,-51.0434,-50.8053,-50.4479, -50.2094,-49.971,-49.7331,-49.3759, -49.2559,-49.2308,-49.247,-49.2591, -49.2677,-49.2679,-49.2684,-49.6272, -49.9853,-50.3447,-50.5834,-50.8226, -51.062,-51.301,-51.5393,-52.0135, -52.2519,-52.4896,-52.8457,-53.0825, -53.3195,-53.675,-53.9121,-54.1493, -54.3936,-54.6378,-54.8824,-55.2489, -55.4933,-55.7378,-56.1043,-56.3488, -56.5926,-56.8365,-57.2022,-57.5664, -57.9327,-58.1753,-58.4186,-58.6606, -58.9033,-59.1462,-59.389,-59.6317, -59.8743,-60.1168,-60.3592,-60.6019, -60.8444,-61.2079,-61.329,-61.3791)
FOOTPRINT_POINT_LONGITUDE = (19.4501,18.511,17.7364,16.9754,16.9518 ,16.9565,17.0156,17.054,17.0917,17.1286 ,17.1646,17.2006,17.2361,17.2703, 17.3039,17.3363,17.3673,17.4147,17.4455 ,17.4765,17.5061,17.5496,17.5915, 17.6328,17.6598,17.6862,17.7121,17.75, 17.7748,17.8109,17.8346,17.8579,17.88, 17.9018,17.9231,17.9441,17.9848,18.0052 ,18.0252,18.0723,18.1001,18.1182,18.136 ,18.1622,18.1793,18.196,18.2124,18.2365 ,18.2446,18.2462,18.8168,19.435,20.0473 ,20.0656,20.0721,20.0596,20.0474, 20.0331,20.0244,20.0149,20.0048,19.9951 ,19.9861,19.9709,19.9611,19.952,19.9388 ,19.9307,19.9221,19.9085,19.8992, 19.8893,19.8792,19.8701,19.8601,19.8451 ,19.8348,19.8239,19.8073,19.7956,19.785 ,19.7739,19.7569,19.743,19.7229,19.7134 ,19.7016,19.6932,19.6826,19.6711, 19.6595,19.6478,19.6363,19.6245,19.613, 19.6002,19.5873,19.5685,19.5625, 19.4501)
ORBIT_NUMBER = 18976
ORBITAL_ECCENTRICITY = 0.578
ORBITAL_INCLINATION = 86.97
ORBITAL_SEMIMAJOR_AXIS = 8791.42
PERIAPSIS_ALTITUDE = 328.95
PERIAPSIS_ARGUMENT_ANGLE = 309.44
PERIAPSIS_TIME = 2019-01-01T03:03:49.000Z
SPACECRAFT_ORIENTATION = (0.0,1.0,0.0)
^MEX_ORIENTATION_DESC = "MEX_ORIENTATION_DESC.TXT"
SPACECRAFT_POINTING_MODE = INERT
^MEX_POINTING_DESC = "MEX_POINTING_DESC.TXT"
RIGHT_ASCENSION = 17.442
DECLINATION = 51.362
OFFSET_ANGLE = -1e+32
SPACECRAFT_SOLAR_DISTANCE = 2.17464e+08
TARGET_NAME = MARS
/* CAMERA DATA ELEMENTS */
DETECTOR_TEMPERATURE = 19.39
FOCAL_PLANE_TEMPERATURE = 9.6028
INST_CMPRS_NAME = "DISCRETE COSINE TRANSFORMATION (DCT)"
INST_CMPRS_RATIO = 5.72278
INST_CMPRS_QUALITY = 0
INST_CMPRS_QUANTZ_TBL_ID = 0
INSTRUMENT_TEMPERATURE = 12.2535
LENS_TEMPERATURE = 8.7872
MACROPIXEL_SIZE = 2
MISSING_FRAMES = 0
PIXEL_SUBSAMPLING_FLAG = N
SIGNAL_CHAIN_ID = 3
/* RADIOMETRIC DATA ELEMENTS */
BANDWIDTH = 177.0
CENTER_FILTER_WAVELENGTH = 676.5
RADIANCE_OFFSET = 2.68241
RADIANCE_SCALING_FACTOR = 0.0224515
REFLECTANCE_SCALING_FACTOR = 0.000562955
MEX:REFLECTANCE_OFFSET = 0.0672593
/* IMAGE OBJECT DEFINITIONS */
OBJECT = IMAGE
  INTERCHANGE_FORMAT = BINARY
  LINES = 28857
  LINE_SAMPLES = 3889
  SAMPLE_TYPE = UNSIGNED_INTEGER
  SAMPLE_BITS = 8
  BANDS = 1
  BAND_STORAGE_TYPE = BAND_SEQUENTIAL
  MAXIMUM = 255
  MEAN = 161.799
  MINIMUM = 1
  STANDARD_DEVIATION = 35.4798
END_OBJECT = IMAGE
/* MAP OBJECT DEFINITIONS */
OBJECT = IMAGE_MAP_PROJECTION
  ^DATA_SET_MAP_PROJECTION_CATALOG= "DSMAP.CAT"
  A_AXIS_RADIUS = 3396.0
  B_AXIS_RADIUS = 3396.0
  C_AXIS_RADIUS = 3396.0
  CENTER_LATITUDE = 0.0
  CENTER_LONGITUDE = 19.0
  COORDINATE_SYSTEM_NAME = PLANETOGRAPHIC
  COORDINATE_SYSTEM_TYPE = "BODY-FIXED ROTATING"
  EASTERNMOST_LONGITUDE = 20.0721
  FIRST_STANDARD_PARALLEL = "N/A"
  LINE_FIRST_PIXEL = 1
  LINE_LAST_PIXEL = 28857
  LINE_PROJECTION_OFFSET = -116609.25
  MAP_PROJECTION_ROTATION = 0.0
  MAP_PROJECTION_TYPE = SINUSOIDAL
  MAP_RESOLUTION = 2370.85521546667
  MAP_SCALE = 0.025
  MAXIMUM_LATITUDE = -49.2308
  MINIMUM_LATITUDE = -61.3791
  POSITIVE_LONGITUDE_DIRECTION = EAST
  REFERENCE_LATITUDE = "N/A"
  REFERENCE_LONGITUDE = "N/A"
  SAMPLE_FIRST_PIXEL = 1
  SAMPLE_LAST_PIXEL = 3889
  SAMPLE_PROJECTION_OFFSET = 2392.75
  SECOND_STANDARD_PARALLEL = "N/A"
  WESTERNMOST_LONGITUDE = 16.9518
END_OBJECT = IMAGE_MAP_PROJECTION
END
