PDS_VERSION_ID = PDS3
/* FILE DATA ELEMENTS */
RECORD_TYPE = UNDEFINED
/* POINTERS TO DATA OBJECTS */
^IMAGE = ("HI976_0000_ND4.TIF")
/* IDENTIFICATION DATA ELEMENTS */
DATA_SET_ID = "MEX-M-HRSC-4-REFDR-MAPPROJECT-EXT7-V4.0"
DATA_SET_NAME = "MARS EXPRESS HRSC MAP PROJECTED REFDR EXTENSION7 V4.0"
DETECTOR_ID = MEX_HRSC_NADIR
EVENT_TYPE = "MARS-REGIONAL-MAPPING-Im-Gl-Pf"
INSTRUMENT_HOST_ID = MEX
INSTRUMENT_HOST_NAME = "MARS EXPRESS"
INSTRUMENT_ID = HRSC
INSTRUMENT_NAME = "HIGH RESOLUTION STEREO CAMERA"
MISSION_NAME = "MARS EXPRESS"
MISSION_PHASE_NAME = ME_Phase_40
PROCESSING_LEVEL_ID = 4
PRODUCT_CREATION_TIME = 2023-01-26T13:25:29.000Z
PRODUCT_ID = "HI976_0000_ND4.TIF"
RELEASE_ID = 0001
REVISION_ID = 0000
/* QUALITY DATA ELEMENTS */
DATA_QUALITY_ID = 1
DATA_QUALITY_DESC = "Data calculated based on original SPICE kernels"
/* TIME DATA ELEMENTS */
SPACECRAFT_CLOCK_START_COUNT = "1/0494391610.23969"
SPACECRAFT_CLOCK_STOP_COUNT = "1/0494391835.14976"
START_TIME = 2019-01-01T03:01:11.059Z
STOP_TIME = 2019-01-01T03:03:59.050Z
/* ORBITAL DATA ELEMENTS */
ASCENDING_NODE_LONGITUDE = 218.21
MAXIMUM_RESOLUTION = 0.0131 <m/pixel>
FOOTPRINT_POINT_LATITUDE = (-61.332,-61.2999,-61.2674,-61.2311, -61.2299,-61.2492,-61.004,-60.7585, -60.5134,-60.2681,-60.0227,-59.7779, -59.5336,-59.2886,-59.0436,-58.7984, -58.5521,-58.307,-58.0623,-57.8173, -57.4503,-57.0829,-56.838,-56.4706, -56.2257,-55.8583,-55.6134,-55.369, -55.132,-54.7765,-54.3024,-53.9467, -53.591,-53.3539,-52.9983,-52.5237, -52.2864,-52.0487,-51.8114,-51.4562, -51.2187,-50.8626,-50.6245,-50.15, -49.9125,-49.6752,-49.3192,-49.2001, -49.184,-49.2081,-49.2271,-49.2546, -49.2555,-49.256,-49.6132,-49.8512, -50.0892,-50.3271,-50.5651,-50.922, -51.16,-51.3978,-51.7544,-52.1108, -52.3485,-52.705,-52.9427,-53.2991, -53.6555,-53.8932,-54.1309,-54.3686, -54.725,-54.9627,-55.2004,-55.438, -55.6825,-55.9281,-56.1737,-56.5421, -56.7877,-57.0333,-57.4019,-57.6477, -57.893,-58.139,-58.3847,-58.6309, -58.8769,-59.1229,-59.3689,-59.6149, -59.8611,-60.1073,-60.3535,-60.5997, -60.8459,-61.2155,-61.3388,-61.332)
FOOTPRINT_POINT_LONGITUDE = (19.4085,18.5,17.7097,16.9341,16.9101, 16.9012,16.9413,16.9806,17.019,17.0567, 17.0936,17.1298,17.1655,17.2003,17.2344 ,17.2678,17.3,17.332,17.3636,17.3944, 17.4399,17.4838,17.5124,17.5541,17.5814 ,17.6214,17.6474,17.6729,17.6971, 17.7326,17.7786,17.812,17.8445,17.8657, 17.8968,17.9372,17.9568,17.9763,17.9953 ,18.0227,18.0409,18.0675,18.0851, 18.1188,18.1353,18.1514,18.1751,18.1829 ,18.184,18.6995,19.1534,19.9406,19.9578 ,19.9666,19.9548,19.947,19.9395,19.9315 ,19.9236,19.9112,19.9022,19.8944, 19.8827,19.8719,19.8639,19.8524,19.8444 ,19.8334,19.8217,19.8134,19.8047, 19.7957,19.7834,19.775,19.7664,19.7581, 19.7483,19.7388,19.7279,19.7141,19.7045 ,19.694,19.6799,19.6715,19.6577,19.6494 ,19.6389,19.6315,19.6224,19.6123, 19.6021,19.5917,19.5815,19.5712,19.5609 ,19.5496,19.538,19.5215,19.5162, 19.4085)
ORBIT_NUMBER = 18976
ORBITAL_ECCENTRICITY = 0.578
ORBITAL_INCLINATION = 86.97
ORBITAL_SEMIMAJOR_AXIS = 8791.42
PERIAPSIS_ALTITUDE = 328.95
PERIAPSIS_ARGUMENT_ANGLE = 309.44
PERIAPSIS_TIME = 2019-01-01T03:03:49.000Z
SPACECRAFT_ORIENTATION = (0.0,1.0,0.0)
^MEX_ORIENTATION_DESC = "MEX_ORIENTATION_DESC.TXT"
SPACECRAFT_POINTING_MODE = INERT
^MEX_POINTING_DESC = "MEX_POINTING_DESC.TXT"
RIGHT_ASCENSION = 17.442
DECLINATION = 51.362
OFFSET_ANGLE = -1e+32
SPACECRAFT_SOLAR_DISTANCE = 2.17464e+08
TARGET_NAME = MARS
/* CAMERA DATA ELEMENTS */
DETECTOR_TEMPERATURE = 18.7783 <degC>
FOCAL_PLANE_TEMPERATURE = 9.6028 <degC>
INST_CMPRS_NAME = "DISCRETE COSINE TRANSFORMATION (DCT)"
INST_CMPRS_RATIO = 5.95105
INST_CMPRS_QUALITY = 0
INST_CMPRS_QUANTZ_TBL_ID = 0
INSTRUMENT_TEMPERATURE = 12.2535 <degC>
LENS_TEMPERATURE = 8.7872 <degC>
MACROPIXEL_SIZE = 1
MISSING_FRAMES = 0
PIXEL_SUBSAMPLING_FLAG = N
SIGNAL_CHAIN_ID = 0
/* RADIOMETRIC DATA ELEMENTS */
BANDWIDTH = 177.0 <nm>
CENTER_FILTER_WAVELENGTH = 677.5 <nm>
RADIANCE_OFFSET = 2.46591 <W*m**-2*sr**-1>
RADIANCE_SCALING_FACTOR = 0.0229431 <W*m**-2*sr**-1>
REFLECTANCE_SCALING_FACTOR = 0.000576382
MEX:REFLECTANCE_OFFSET = 0.0619492
/* IMAGE OBJECT DEFINITIONS */
OBJECT = IMAGE
  INTERCHANGE_FORMAT = BINARY
  LINES = 57714
  LINE_SAMPLES = 7777
  SAMPLE_TYPE = UNSIGNED_INTEGER
  SAMPLE_BITS = 8
  BANDS = 1
  BAND_STORAGE_TYPE = BAND_SEQUENTIAL
  MAXIMUM = 255
  MEAN = 163.405
  MINIMUM = 1
  STANDARD_DEVIATION = 34.8533
END_OBJECT = IMAGE
/* MAP OBJECT DEFINITIONS */
OBJECT = IMAGE_MAP_PROJECTION
  ^DATA_SET_MAP_PROJECTION_CATALOG= "DSMAP.CAT"
  A_AXIS_RADIUS = 3396.0 <km>
  B_AXIS_RADIUS = 3396.0 <km>
  C_AXIS_RADIUS = 3396.0 <km>
  CENTER_LATITUDE = 0.0
  CENTER_LONGITUDE = 19.0
  COORDINATE_SYSTEM_NAME = PLANETOGRAPHIC
  COORDINATE_SYSTEM_TYPE = "BODY-FIXED ROTATING"
  EASTERNMOST_LONGITUDE = 19.9666
  FIRST_STANDARD_PARALLEL = "N/A"
  LINE_FIRST_PIXEL = 1
  LINE_LAST_PIXEL = 57714
  LINE_PROJECTION_OFFSET = -233218.0
  MAP_PROJECTION_ROTATION = 0.0
  MAP_PROJECTION_TYPE = SINUSOIDAL
  MAP_RESOLUTION = 4741.71043093333 <pixel/degree>
  MAP_SCALE = 0.0125 <km/pixel>
  MAXIMUM_LATITUDE = -49.184
  MINIMUM_LATITUDE = -61.3388
  POSITIVE_LONGITUDE_DIRECTION = EAST
  REFERENCE_LATITUDE = "N/A"
  REFERENCE_LONGITUDE = "N/A"
  SAMPLE_FIRST_PIXEL = 1
  SAMPLE_LAST_PIXEL = 7777
  SAMPLE_PROJECTION_OFFSET = 4786.0
  SECOND_STANDARD_PARALLEL = "N/A"
  WESTERNMOST_LONGITUDE = 16.9012
END_OBJECT = IMAGE_MAP_PROJECTION
END
