PDS_VERSION_ID = PDS3
/* FILE DATA ELEMENTS */
RECORD_TYPE = UNDEFINED
/* POINTERS TO DATA OBJECTS */
^IMAGE = ("HI846_0000_ND4.TIF")
/* IDENTIFICATION DATA ELEMENTS */
DATA_SET_ID = "MEX-M-HRSC-4-REFDR-MAPPROJECT-EXT6-V4.0"
DATA_SET_NAME = "MARS EXPRESS HRSC MAP PROJECTED REFDR EXTENSION6 V4.0"
DETECTOR_ID = MEX_HRSC_NADIR
EVENT_TYPE = "MARS-REGIONAL-MAPPING-Te-Im-Fl"
INSTRUMENT_HOST_ID = MEX
INSTRUMENT_HOST_NAME = "MARS EXPRESS"
INSTRUMENT_ID = HRSC
INSTRUMENT_NAME = "HIGH RESOLUTION STEREO CAMERA"
MISSION_NAME = "MARS EXPRESS"
MISSION_PHASE_NAME = ME_Phase_39
PROCESSING_LEVEL_ID = 4
PRODUCT_CREATION_TIME = 2023-01-29T14:35:52.000Z
PRODUCT_ID = "HI846_0000_ND4.TIF"
RELEASE_ID = 0005
REVISION_ID = 0000
/* QUALITY DATA ELEMENTS */
DATA_QUALITY_ID = 1
DATA_QUALITY_DESC = "Data calculated based on original SPICE kernels"
/* TIME DATA ELEMENTS */
SPACECRAFT_CLOCK_START_COUNT = "1/0491123631.25675"
SPACECRAFT_CLOCK_STOP_COUNT = "1/0491123863.34094"
START_TIME = 2018-11-24T07:14:50.205Z
STOP_TIME = 2018-11-24T07:17:45.200Z
/* ORBITAL DATA ELEMENTS */
ASCENDING_NODE_LONGITUDE = 220.62
MAXIMUM_RESOLUTION = 0.0134
FOOTPRINT_POINT_LATITUDE = (-34.4682,-34.4452,-34.4207,-34.391, -34.3901,-34.4078,-34.0223,-33.7656, -33.3804,-33.1268,-32.8706,-32.4837, -32.2258,-31.9701,-31.7139,-31.4584, -31.2026,-30.819,-30.4359,-30.1803, -29.925,-29.6772,-29.4302,-29.1832, -28.9363,-28.6894,-28.3191,-28.0722, -27.8255,-27.5789,-27.3322,-27.0856, -26.8391,-26.5925,-26.3459,-26.0994, -25.7295,-25.3597,-25.1132,-24.7438, -24.2508,-24.0044,-23.6269,-23.3723, -22.9904,-22.6085,-22.3538,-21.9718, -21.8444,-21.8288,-21.8543,-21.8694, -21.8969,-21.8975,-21.8981,-22.2801, -22.6621,-22.9168,-23.1714,-23.4261, -23.6808,-24.0588,-24.3053,-24.5519, -24.7985,-25.0451,-25.2916,-25.5382, -25.9077,-26.4009,-26.648,-26.8947, -27.1413,-27.3882,-27.635,-28.0055, -28.2525,-28.4994,-28.8701,-29.1171, -29.3642,-29.611,-29.8583,-30.2403, -30.496,-30.7502,-31.1345,-31.3907, -31.647,-31.9032,-32.1597,-32.5445, -32.8011,-33.0581,-33.4437,-33.8291, -34.0861,-34.3438,-34.4727,-34.4682)
FOOTPRINT_POINT_LONGITUDE = (334.566,334.113,333.651,333.122, 333.108,333.069,333.091,333.105,333.125 ,333.133,333.145,333.168,333.184, 333.194,333.206,333.216,333.227,333.242 ,333.256,333.265,333.274,333.283, 333.291,333.299,333.306,333.313,333.324 ,333.331,333.338,333.343,333.349, 333.355,333.36,333.365,333.37,333.375, 333.383,333.389,333.394,333.396,333.403 ,333.406,333.414,333.416,333.42,333.423 ,333.424,333.426,333.426,333.427, 333.885,334.168,334.711,334.724,334.73, 334.728,334.726,334.724,334.723,334.721 ,334.72,334.717,334.715,334.713,334.711 ,334.709,334.707,334.705,334.702, 334.697,334.694,334.691,334.689,334.686 ,334.683,334.679,334.675,334.672, 334.667,334.664,334.66,334.657,334.653, 334.647,334.643,334.639,334.632,334.627 ,334.623,334.618,334.613,334.605,334.6, 334.595,334.586,334.578,334.572,334.566 ,334.563,334.566)
ORBIT_NUMBER = 18846
ORBITAL_ECCENTRICITY = 0.578
ORBITAL_INCLINATION = 86.97
ORBITAL_SEMIMAJOR_AXIS = 8823.54
PERIAPSIS_ALTITUDE = 333.3
PERIAPSIS_ARGUMENT_ANGLE = 331.67
PERIAPSIS_TIME = 2018-11-24T07:16:08.000Z
SPACECRAFT_ORIENTATION = (0.0,1.0,0.0)
^MEX_ORIENTATION_DESC = "MEX_ORIENTATION_DESC.TXT"
SPACECRAFT_POINTING_MODE = INERT
^MEX_POINTING_DESC = "MEX_POINTING_DESC.TXT"
RIGHT_ASCENSION = 60.586
DECLINATION = 45.375
OFFSET_ANGLE = -1e+32
SPACECRAFT_SOLAR_DISTANCE = 2.11503e+08
TARGET_NAME = MARS
/* CAMERA DATA ELEMENTS */
DETECTOR_TEMPERATURE = 18.9822
FOCAL_PLANE_TEMPERATURE = 11.0301
INST_CMPRS_NAME = "DISCRETE COSINE TRANSFORMATION (DCT)"
INST_CMPRS_RATIO = 6.11799
INST_CMPRS_QUALITY = 0
INST_CMPRS_QUANTZ_TBL_ID = 0
INSTRUMENT_TEMPERATURE = 12.8652
LENS_TEMPERATURE = 11.234
MACROPIXEL_SIZE = 1
MISSING_FRAMES = 0
PIXEL_SUBSAMPLING_FLAG = N
SIGNAL_CHAIN_ID = 0
/* RADIOMETRIC DATA ELEMENTS */
BANDWIDTH = 177.0
CENTER_FILTER_WAVELENGTH = 677.5
RADIANCE_OFFSET = 3.28788
RADIANCE_SCALING_FACTOR = 0.0125144
REFLECTANCE_SCALING_FACTOR = 0.000297391
MEX:REFLECTANCE_OFFSET = 0.0781327
/* IMAGE OBJECT DEFINITIONS */
OBJECT = IMAGE
  INTERCHANGE_FORMAT = BINARY
  LINES = 60028
  LINE_SAMPLES = 6854
  SAMPLE_TYPE = UNSIGNED_INTEGER
  SAMPLE_BITS = 8
  BANDS = 1
  BAND_STORAGE_TYPE = BAND_SEQUENTIAL
  MAXIMUM = 255
  MEAN = 118.767
  MINIMUM = 1
  STANDARD_DEVIATION = 21.367
END_OBJECT = IMAGE
/* MAP OBJECT DEFINITIONS */
OBJECT = IMAGE_MAP_PROJECTION
  ^DATA_SET_MAP_PROJECTION_CATALOG= "DSMAP.CAT"
  A_AXIS_RADIUS = 3396.0
  B_AXIS_RADIUS = 3396.0
  C_AXIS_RADIUS = 3396.0
  CENTER_LATITUDE = 0.0
  CENTER_LONGITUDE = 334.0
  COORDINATE_SYSTEM_NAME = PLANETOGRAPHIC
  COORDINATE_SYSTEM_TYPE = "BODY-FIXED ROTATING"
  EASTERNMOST_LONGITUDE = 334.73
  FIRST_STANDARD_PARALLEL = "N/A"
  LINE_FIRST_PIXEL = 1
  LINE_LAST_PIXEL = 60028
  LINE_PROJECTION_OFFSET = -103508.0
  MAP_PROJECTION_ROTATION = 0.0
  MAP_PROJECTION_TYPE = SINUSOIDAL
  MAP_RESOLUTION = 4741.71043093333
  MAP_SCALE = 0.0125
  MAXIMUM_LATITUDE = -21.8288
  MINIMUM_LATITUDE = -34.4727
  POSITIVE_LONGITUDE_DIRECTION = EAST
  REFERENCE_LATITUDE = "N/A"
  REFERENCE_LONGITUDE = "N/A"
  SAMPLE_FIRST_PIXEL = 1
  SAMPLE_LAST_PIXEL = 6854
  SAMPLE_PROJECTION_OFFSET = 3641.0
  SECOND_STANDARD_PARALLEL = "N/A"
  WESTERNMOST_LONGITUDE = 333.069
END_OBJECT = IMAGE_MAP_PROJECTION
END
