PDS_VERSION_ID = PDS3
/* FILE DATA ELEMENTS */
RECORD_TYPE = UNDEFINED
/* POINTERS TO DATA OBJECTS */
^IMAGE = ("HI063_0000_S24.TIF")
/* IDENTIFICATION DATA ELEMENTS */
DATA_SET_ID = "MEX-M-HRSC-4-REFDR-MAPPROJECT-EXT6-V4.0"
DATA_SET_NAME = "MARS EXPRESS HRSC MAP PROJECTED REFDR EXTENSION6 V4.0"
DETECTOR_ID = MEX_HRSC_S2
EVENT_TYPE = "MARS-REGIONAL-MAPPING-Im-Pf-Eo"
INSTRUMENT_HOST_ID = MEX
INSTRUMENT_HOST_NAME = "MARS EXPRESS"
INSTRUMENT_ID = HRSC
INSTRUMENT_NAME = "HIGH RESOLUTION STEREO CAMERA"
MISSION_NAME = "MARS EXPRESS"
MISSION_PHASE_NAME = ME_Phase_38
PROCESSING_LEVEL_ID = 4
PRODUCT_CREATION_TIME = 2023-01-29T08:20:11.000Z
PRODUCT_ID = "HI063_0000_S24.TIF"
RELEASE_ID = 0004
REVISION_ID = 0000
/* QUALITY DATA ELEMENTS */
DATA_QUALITY_ID = 1
DATA_QUALITY_DESC = "Data calculated based on original SPICE kernels"
/* TIME DATA ELEMENTS */
SPACECRAFT_CLOCK_START_COUNT = "1/0471440012.08306"
SPACECRAFT_CLOCK_STOP_COUNT = "1/0471440257.40103"
START_TIME = 2018-04-10T11:34:52.610Z
STOP_TIME = 2018-04-10T11:37:45.221Z
/* ORBITAL DATA ELEMENTS */
ASCENDING_NODE_LONGITUDE = 235.06
MAXIMUM_RESOLUTION = 0.0332
FOOTPRINT_POINT_LATITUDE = (72.8848,72.8161,72.7506,72.6784, 72.6761,72.815,72.5987,72.3821,72.1663, 71.8424,71.6265,71.4107,71.0866,70.7631 ,70.5476,70.2244,70.0092,69.7943, 69.4718,69.257,69.0425,68.8279,68.6137, 68.3994,68.1853,67.9714,67.7579,67.4374 ,67.2239,67.0109,66.7978,66.585,66.266, 66.0536,65.5233,65.1001,64.6773,64.3608 ,63.8342,63.5166,63.3008,63.0863, 62.8713,62.6564,62.442,62.2276,62.1206, 62.08,62.1061,62.1321,62.1619,62.1877, 62.2241,62.2252,62.2261,62.4408,62.656, 62.8716,63.0871,63.4118,63.6284,63.8432 ,64.2661,64.6896,65.1142,65.5396, 65.7526,65.9658,66.1793,66.393,66.6067, 66.8207,67.0346,67.2497,67.5716,67.7866 ,68.0015,68.2169,68.4323,68.6479, 68.8639,69.0798,69.4045,69.6209,69.8372 ,70.0539,70.2707,70.4881,70.7054, 71.0315,71.3587,71.5765,71.7939,72.0125 ,72.2308,72.4493,72.6679,72.8862, 72.9957,72.8848)
FOOTPRINT_POINT_LONGITUDE = (186.385,184.723,183.364,182.037, 181.996,181.936,182.046,182.154,182.258 ,182.409,182.507,182.601,182.739,182.87 ,182.955,183.078,183.157,183.235, 183.347,183.419,183.49,183.558,183.625, 183.691,183.754,183.816,183.877,183.965 ,184.022,184.077,184.132,184.185, 184.261,184.311,184.43,184.521,184.607, 184.669,184.768,184.824,184.862,184.898 ,184.934,184.969,185.003,185.036, 185.052,185.059,185.547,186.071,186.725 ,187.326,188.257,188.289,188.301, 188.282,188.263,188.243,188.223,188.194 ,188.173,188.152,188.11,188.065,188.019 ,187.971,187.947,187.921,187.895, 187.869,187.842,187.814,187.786,187.758 ,187.713,187.683,187.651,187.619, 187.587,187.553,187.519,187.484,187.43, 187.393,187.354,187.315,187.275,187.234 ,187.192,187.126,187.06,187.013,186.964 ,186.915,186.865,186.813,186.759, 186.703,186.676,186.385)
ORBIT_NUMBER = 18063
ORBITAL_ECCENTRICITY = 0.57
ORBITAL_INCLINATION = 86.98
ORBITAL_SEMIMAJOR_AXIS = 8758.97
PERIAPSIS_ALTITUDE = 384.71
PERIAPSIS_ARGUMENT_ANGLE = 107.01
PERIAPSIS_TIME = 2018-04-10T11:34:18.000Z
SPACECRAFT_ORIENTATION = (0.0,-1.0,0.0)
^MEX_ORIENTATION_DESC = "MEX_ORIENTATION_DESC.TXT"
SPACECRAFT_POINTING_MODE = ACROSSTRACK
^MEX_POINTING_DESC = "MEX_POINTING_DESC.TXT"
RIGHT_ASCENSION = -1e+32
DECLINATION = -1e+32
OFFSET_ANGLE = 0.75
SPACECRAFT_SOLAR_DISTANCE = 2.27445e+08
TARGET_NAME = MARS
/* CAMERA DATA ELEMENTS */
DETECTOR_TEMPERATURE = 18.9822
FOCAL_PLANE_TEMPERATURE = 8.7872
INST_CMPRS_NAME = "DISCRETE COSINE TRANSFORMATION (DCT)"
INST_CMPRS_RATIO = 11.5671
INST_CMPRS_QUALITY = 0
INST_CMPRS_QUANTZ_TBL_ID = 0
INSTRUMENT_TEMPERATURE = 11.8457
LENS_TEMPERATURE = 9.3989
MACROPIXEL_SIZE = 2
MISSING_FRAMES = 0
PIXEL_SUBSAMPLING_FLAG = N
SIGNAL_CHAIN_ID = 1
/* RADIOMETRIC DATA ELEMENTS */
BANDWIDTH = 178.0
CENTER_FILTER_WAVELENGTH = 679.0
RADIANCE_OFFSET = 3.12927
RADIANCE_SCALING_FACTOR = 0.0172424
REFLECTANCE_SCALING_FACTOR = 0.000472368
MEX:REFLECTANCE_OFFSET = 0.0857284
/* IMAGE OBJECT DEFINITIONS */
OBJECT = IMAGE
  INTERCHANGE_FORMAT = BINARY
  LINES = 25832
  LINE_SAMPLES = 5311
  SAMPLE_TYPE = UNSIGNED_INTEGER
  SAMPLE_BITS = 8
  BANDS = 1
  BAND_STORAGE_TYPE = BAND_SEQUENTIAL
  MAXIMUM = 255
  MEAN = 112.953
  MINIMUM = 1
  STANDARD_DEVIATION = 42.2838
END_OBJECT = IMAGE
/* MAP OBJECT DEFINITIONS */
OBJECT = IMAGE_MAP_PROJECTION
  ^DATA_SET_MAP_PROJECTION_CATALOG= "DSMAP.CAT"
  A_AXIS_RADIUS = 3396.0
  B_AXIS_RADIUS = 3396.0
  C_AXIS_RADIUS = 3396.0
  CENTER_LATITUDE = 0.0
  CENTER_LONGITUDE = 186.0
  COORDINATE_SYSTEM_NAME = PLANETOGRAPHIC
  COORDINATE_SYSTEM_TYPE = "BODY-FIXED ROTATING"
  EASTERNMOST_LONGITUDE = 188.301
  FIRST_STANDARD_PARALLEL = "N/A"
  LINE_FIRST_PIXEL = 1
  LINE_LAST_PIXEL = 25832
  LINE_PROJECTION_OFFSET = 173024.75
  MAP_PROJECTION_ROTATION = 0.0
  MAP_PROJECTION_TYPE = SINUSOIDAL
  MAP_RESOLUTION = 2370.85521546667
  MAP_SCALE = 0.025
  MAXIMUM_LATITUDE = 72.9957
  MINIMUM_LATITUDE = 62.08
  POSITIVE_LONGITUDE_DIRECTION = EAST
  REFERENCE_LATITUDE = "N/A"
  REFERENCE_LONGITUDE = "N/A"
  SAMPLE_FIRST_PIXEL = 1
  SAMPLE_LAST_PIXEL = 5311
  SAMPLE_PROJECTION_OFFSET = 2853.75
  SECOND_STANDARD_PARALLEL = "N/A"
  WESTERNMOST_LONGITUDE = 181.936
END_OBJECT = IMAGE_MAP_PROJECTION
END
