PDS_VERSION_ID = PDS3
/* FILE DATA ELEMENTS */
RECORD_TYPE = UNDEFINED
/* POINTERS TO DATA OBJECTS */
^IMAGE = ("HH809_0000_P24.TIF")
/* IDENTIFICATION DATA ELEMENTS */
DATA_SET_ID = "MEX-M-HRSC-4-REFDR-MAPPROJECT-EXT6-V4.0"
DATA_SET_NAME = "MARS EXPRESS HRSC MAP PROJECTED REFDR EXTENSION6 V4.0"
DETECTOR_ID = MEX_HRSC_P2
EVENT_TYPE = "MARS-REGIONAL-VARIABLE-Eo-At-Sh"
INSTRUMENT_HOST_ID = MEX
INSTRUMENT_HOST_NAME = "MARS EXPRESS"
INSTRUMENT_ID = HRSC
INSTRUMENT_NAME = "HIGH RESOLUTION STEREO CAMERA"
MISSION_NAME = "MARS EXPRESS"
MISSION_PHASE_NAME = ME_Phase_38
PROCESSING_LEVEL_ID = 4
PRODUCT_CREATION_TIME = 2023-01-28T19:29:54.000Z
PRODUCT_ID = "HH809_0000_P24.TIF"
RELEASE_ID = 0003
REVISION_ID = 0000
/* QUALITY DATA ELEMENTS */
DATA_QUALITY_ID = 1
DATA_QUALITY_DESC = "Data calculated based on original SPICE kernels"
/* TIME DATA ELEMENTS */
SPACECRAFT_CLOCK_START_COUNT = "1/0465054522.09083"
SPACECRAFT_CLOCK_STOP_COUNT = "1/0465054716.59708"
START_TIME = 2018-01-26T13:49:50.160Z
STOP_TIME = 2018-01-26T13:51:52.890Z
/* ORBITAL DATA ELEMENTS */
ASCENDING_NODE_LONGITUDE = 239.77
MAXIMUM_RESOLUTION = 0.0301
FOOTPRINT_POINT_LATITUDE = (38.082,38.0799,38.0754,38.072,38.0686, 38.0612,38.0609,38.1064,37.8345,37.5621 ,37.3807,37.1992,36.927,36.6549,36.3827 ,36.1105,35.9291,35.7738,35.6218, 35.4698,35.2419,35.0899,34.9379,34.7859 ,34.634,34.4061,34.2542,34.1023,33.8745 ,33.7226,33.5708,33.4189,33.2671, 33.1153,32.8877,32.7359,32.5083,32.3566 ,32.205,32.0533,31.826,31.6744,31.4471, 31.1441,30.8413,30.6143,30.236,30.1605, 30.1493,30.1524,30.1538,30.155,30.1565, 30.1571,30.1571,30.1575,30.6121,30.9152 ,31.0669,31.2185,31.3702,31.522,31.6736 ,31.8255,32.0532,32.2051,32.4329,32.585 ,32.813,33.0411,33.1932,33.3452,33.5733 ,33.7253,33.8774,34.0295,34.1817, 34.3339,34.5622,34.7144,34.8666,35.0186 ,35.1708,35.3232,35.5517,35.704,35.8563 ,36.0246,36.2063,36.479,36.6607,36.8426 ,37.0243,37.2061,37.3879,37.5698, 37.8425,38.0243,38.1152,38.082)
FOOTPRINT_POINT_LONGITUDE = (207.56,207.322,206.908,206.638,206.4, 205.939,205.923,205.889,205.9,205.911, 205.918,205.925,205.935,205.945,205.955 ,205.965,205.971,205.976,205.981, 205.986,205.993,205.998,206.002,206.007 ,206.011,206.018,206.022,206.026, 206.033,206.037,206.041,206.045,206.048 ,206.052,206.058,206.061,206.066,206.07 ,206.073,206.076,206.081,206.084, 206.089,206.095,206.1,206.104,206.111, 206.112,206.112,206.514,206.744,206.974 ,207.333,207.577,207.592,207.597, 207.597,207.597,207.597,207.597,207.597 ,207.597,207.596,207.596,207.596, 207.596,207.596,207.596,207.596,207.596 ,207.596,207.596,207.595,207.595, 207.595,207.595,207.595,207.595,207.594 ,207.594,207.594,207.594,207.593, 207.593,207.593,207.593,207.592,207.592 ,207.592,207.591,207.591,207.59,207.59, 207.59,207.589,207.589,207.588,207.588, 207.587,207.56)
ORBIT_NUMBER = 17809
ORBITAL_ECCENTRICITY = 0.575
ORBITAL_INCLINATION = 86.97
ORBITAL_SEMIMAJOR_AXIS = 8825.94
PERIAPSIS_ALTITUDE = 361.75
PERIAPSIS_ARGUMENT_ANGLE = 150.91
PERIAPSIS_TIME = 2018-01-26T13:51:49.000Z
SPACECRAFT_ORIENTATION = (0.0,-1.0,0.0)
^MEX_ORIENTATION_DESC = "MEX_ORIENTATION_DESC.TXT"
SPACECRAFT_POINTING_MODE = NADIR
^MEX_POINTING_DESC = "MEX_POINTING_DESC.TXT"
RIGHT_ASCENSION = -1e+32
DECLINATION = -1e+32
OFFSET_ANGLE = -1e+32
SPACECRAFT_SOLAR_DISTANCE = 2.4056e+08
TARGET_NAME = MARS
/* CAMERA DATA ELEMENTS */
DETECTOR_TEMPERATURE = 18.5744
FOCAL_PLANE_TEMPERATURE = 8.3794
INST_CMPRS_NAME = "DISCRETE COSINE TRANSFORMATION (DCT)"
INST_CMPRS_RATIO = 5.59849
INST_CMPRS_QUALITY = 0
INST_CMPRS_QUANTZ_TBL_ID = 0
INSTRUMENT_TEMPERATURE = 12.6613
LENS_TEMPERATURE = 8.5833
MACROPIXEL_SIZE = 2
MISSING_FRAMES = 0
PIXEL_SUBSAMPLING_FLAG = N
SIGNAL_CHAIN_ID = 3
/* RADIOMETRIC DATA ELEMENTS */
BANDWIDTH = 177.0
CENTER_FILTER_WAVELENGTH = 676.5
RADIANCE_OFFSET = 3.09286
RADIANCE_SCALING_FACTOR = 0.0151144
REFLECTANCE_SCALING_FACTOR = 0.000463762
MEX:REFLECTANCE_OFFSET = 0.0948994
/* IMAGE OBJECT DEFINITIONS */
OBJECT = IMAGE
  INTERCHANGE_FORMAT = BINARY
  LINES = 18955
  LINE_SAMPLES = 3315
  SAMPLE_TYPE = UNSIGNED_INTEGER
  SAMPLE_BITS = 8
  BANDS = 1
  BAND_STORAGE_TYPE = BAND_SEQUENTIAL
  MAXIMUM = 255
  MEAN = 114.482
  MINIMUM = 1
  STANDARD_DEVIATION = 14.3337
END_OBJECT = IMAGE
/* MAP OBJECT DEFINITIONS */
OBJECT = IMAGE_MAP_PROJECTION
  ^DATA_SET_MAP_PROJECTION_CATALOG= "DSMAP.CAT"
  A_AXIS_RADIUS = 3396.0
  B_AXIS_RADIUS = 3396.0
  C_AXIS_RADIUS = 3396.0
  CENTER_LATITUDE = 0.0
  CENTER_LONGITUDE = 207.0
  COORDINATE_SYSTEM_NAME = PLANETOGRAPHIC
  COORDINATE_SYSTEM_TYPE = "BODY-FIXED ROTATING"
  EASTERNMOST_LONGITUDE = 207.597
  FIRST_STANDARD_PARALLEL = "N/A"
  LINE_FIRST_PIXEL = 1
  LINE_LAST_PIXEL = 18955
  LINE_PROJECTION_OFFSET = 90392.25
  MAP_PROJECTION_ROTATION = 0.0
  MAP_PROJECTION_TYPE = SINUSOIDAL
  MAP_RESOLUTION = 2370.85521546667
  MAP_SCALE = 0.025
  MAXIMUM_LATITUDE = 38.1152
  MINIMUM_LATITUDE = 30.1493
  POSITIVE_LONGITUDE_DIRECTION = EAST
  REFERENCE_LATITUDE = "N/A"
  REFERENCE_LONGITUDE = "N/A"
  SAMPLE_FIRST_PIXEL = 1
  SAMPLE_LAST_PIXEL = 3315
  SAMPLE_PROJECTION_OFFSET = 2090.75
  SECOND_STANDARD_PARALLEL = "N/A"
  WESTERNMOST_LONGITUDE = 205.889
END_OBJECT = IMAGE_MAP_PROJECTION
END
