PDS_VERSION_ID = PDS3
/* FILE DATA ELEMENTS */
RECORD_TYPE = UNDEFINED
/* POINTERS TO DATA OBJECTS */
^IMAGE = ("HH704_0000_S14.TIF")
/* IDENTIFICATION DATA ELEMENTS */
DATA_SET_ID = "MEX-M-HRSC-4-REFDR-MAPPROJECT-EXT6-V4.0"
DATA_SET_NAME = "MARS EXPRESS HRSC MAP PROJECTED REFDR EXTENSION6 V4.0"
DETECTOR_ID = MEX_HRSC_S1
EVENT_TYPE = "MARS-REGIONAL-COLOR-Vo-At-Sh"
INSTRUMENT_HOST_ID = MEX
INSTRUMENT_HOST_NAME = "MARS EXPRESS"
INSTRUMENT_ID = HRSC
INSTRUMENT_NAME = "HIGH RESOLUTION STEREO CAMERA"
MISSION_NAME = "MARS EXPRESS"
MISSION_PHASE_NAME = ME_Phase_37
PROCESSING_LEVEL_ID = 4
PRODUCT_CREATION_TIME = 2023-01-28T19:29:54.000Z
PRODUCT_ID = "HH704_0000_S14.TIF"
RELEASE_ID = 0003
REVISION_ID = 0000
/* QUALITY DATA ELEMENTS */
DATA_QUALITY_ID = 1
DATA_QUALITY_DESC = "Data calculated based on original SPICE kernels"
/* TIME DATA ELEMENTS */
SPACECRAFT_CLOCK_START_COUNT = "1/0462410838.09051"
SPACECRAFT_CLOCK_STOP_COUNT = "1/0462411047.47928"
START_TIME = 2017-12-26T23:27:27.103Z
STOP_TIME = 2017-12-26T23:29:46.212Z
/* ORBITAL DATA ELEMENTS */
ASCENDING_NODE_LONGITUDE = 241.72
MAXIMUM_RESOLUTION = 0.0327
FOOTPRINT_POINT_LATITUDE = (29.2555,29.2603,29.2632,29.2651,29.266 ,29.2659,29.265,29.2649,29.2408,29.0682 ,28.8957,28.7225,28.4564,28.204,28.0342 ,27.7787,27.608,27.4369,27.1812,27.0143 ,26.8473,26.6798,26.5127,26.3449, 26.1768,25.8467,25.437,25.1108,24.6997, 24.3735,24.0455,23.8795,23.714,23.4657, 23.136,22.9708,22.8062,22.4783,22.3137, 22.1489,21.82,21.6552,21.4902,21.3253, 21.156,20.9908,20.9081,20.8896,20.8884, 20.8864,20.8837,20.8807,20.877,20.8703, 20.87,20.8704,21.0368,21.2029,21.3726, 21.5383,21.7037,21.8689,22.0342,22.1996 ,22.3651,22.6133,22.7802,22.9474, 23.1147,23.283,23.4522,23.6227,23.7944, 24.051,24.2213,24.3898,24.6365,24.8752, 25.1924,25.5102,25.8299,26.1551,26.4043 ,26.5707,26.7371,26.9039,27.0702, 27.2379,27.4089,27.6654,27.836,28.0055, 28.26,28.4329,28.6065,28.7801,28.9533, 29.126,29.2124,29.2555)
FOOTPRINT_POINT_LONGITUDE = (147.128,146.779,146.501,146.223, 145.946,145.601,145.359,145.342,145.331 ,145.336,145.342,145.347,145.354, 145.363,145.368,145.375,145.38,145.385, 145.392,145.396,145.4,145.405,145.409, 145.413,145.417,145.425,145.435,145.443 ,145.452,145.457,145.462,145.465, 145.467,145.47,145.475,145.477,145.479, 145.484,145.486,145.489,145.493,145.495 ,145.498,145.5,145.502,145.504,145.505, 145.505,145.699,145.921,146.144,146.354 ,146.592,146.929,146.943,146.948, 146.951,146.954,146.957,146.96,146.963, 146.966,146.969,146.972,146.975,146.979 ,146.981,146.983,146.985,146.987, 146.987,146.988,146.988,146.988,146.988 ,146.989,146.993,147.001,147.014, 147.028,147.04,147.051,147.059,147.063, 147.068,147.073,147.078,147.082,147.087 ,147.094,147.098,147.103,147.111, 147.115,147.12,147.125,147.13,147.135, 147.138,147.128)
ORBIT_NUMBER = 17704
ORBITAL_ECCENTRICITY = 0.577
ORBITAL_INCLINATION = 86.94
ORBITAL_SEMIMAJOR_AXIS = 8855.72
PERIAPSIS_ALTITUDE = 351.9
PERIAPSIS_ARGUMENT_ANGLE = 169.14
PERIAPSIS_TIME = 2017-12-26T23:32:56.000Z
SPACECRAFT_ORIENTATION = (0.0,-1.0,0.0)
^MEX_ORIENTATION_DESC = "MEX_ORIENTATION_DESC.TXT"
SPACECRAFT_POINTING_MODE = ACROSSTRACK
^MEX_POINTING_DESC = "MEX_POINTING_DESC.TXT"
RIGHT_ASCENSION = -1e+32
DECLINATION = -1e+32
OFFSET_ANGLE = 0.2
SPACECRAFT_SOLAR_DISTANCE = 2.44585e+08
TARGET_NAME = MARS
/* CAMERA DATA ELEMENTS */
DETECTOR_TEMPERATURE = 17.351
FOCAL_PLANE_TEMPERATURE = 8.3794
INST_CMPRS_NAME = "DISCRETE COSINE TRANSFORMATION (DCT)"
INST_CMPRS_RATIO = 10.5154
INST_CMPRS_QUALITY = 0
INST_CMPRS_QUANTZ_TBL_ID = 0
INSTRUMENT_TEMPERATURE = 11.6418
LENS_TEMPERATURE = 8.5833
MACROPIXEL_SIZE = 2
MISSING_FRAMES = 1
PIXEL_SUBSAMPLING_FLAG = N
SIGNAL_CHAIN_ID = 1
/* RADIOMETRIC DATA ELEMENTS */
BANDWIDTH = 180.0
CENTER_FILTER_WAVELENGTH = 677.0
RADIANCE_OFFSET = 1.22828
RADIANCE_SCALING_FACTOR = 0.0109115
REFLECTANCE_SCALING_FACTOR = 0.000340555
MEX:REFLECTANCE_OFFSET = 0.0383354
/* IMAGE OBJECT DEFINITIONS */
OBJECT = IMAGE
  INTERCHANGE_FORMAT = BINARY
  LINES = 19835
  LINE_SAMPLES = 3537
  SAMPLE_TYPE = UNSIGNED_INTEGER
  SAMPLE_BITS = 8
  BANDS = 1
  BAND_STORAGE_TYPE = BAND_SEQUENTIAL
  MAXIMUM = 255
  MEAN = 117.233
  MINIMUM = 1
  STANDARD_DEVIATION = 28.8623
END_OBJECT = IMAGE
/* MAP OBJECT DEFINITIONS */
OBJECT = IMAGE_MAP_PROJECTION
  ^DATA_SET_MAP_PROJECTION_CATALOG= "DSMAP.CAT"
  A_AXIS_RADIUS = 3396.0
  B_AXIS_RADIUS = 3396.0
  C_AXIS_RADIUS = 3396.0
  CENTER_LATITUDE = 0.0
  CENTER_LONGITUDE = 146.0
  COORDINATE_SYSTEM_NAME = PLANETOGRAPHIC
  COORDINATE_SYSTEM_TYPE = "BODY-FIXED ROTATING"
  EASTERNMOST_LONGITUDE = 147.138
  FIRST_STANDARD_PARALLEL = "N/A"
  LINE_FIRST_PIXEL = 1
  LINE_LAST_PIXEL = 19835
  LINE_PROJECTION_OFFSET = 69305.75
  MAP_PROJECTION_ROTATION = 0.0
  MAP_PROJECTION_TYPE = SINUSOIDAL
  MAP_RESOLUTION = 2370.85521546667
  MAP_SCALE = 0.025
  MAXIMUM_LATITUDE = 29.266
  MINIMUM_LATITUDE = 20.87
  POSITIVE_LONGITUDE_DIRECTION = EAST
  REFERENCE_LATITUDE = "N/A"
  REFERENCE_LONGITUDE = "N/A"
  SAMPLE_FIRST_PIXEL = 1
  SAMPLE_LAST_PIXEL = 3537
  SAMPLE_PROJECTION_OFFSET = 1295.25
  SECOND_STANDARD_PARALLEL = "N/A"
  WESTERNMOST_LONGITUDE = 145.331
END_OBJECT = IMAGE_MAP_PROJECTION
END
