PDS_VERSION_ID = PDS3
/* FILE DATA ELEMENTS */
RECORD_TYPE = UNDEFINED
/* POINTERS TO DATA OBJECTS */
^IMAGE = ("HG742_0000_IR4.TIF")
/* IDENTIFICATION DATA ELEMENTS */
DATA_SET_ID = "MEX-M-HRSC-4-REFDR-MAPPROJECT-EXT6-V4.0"
DATA_SET_NAME = "MARS EXPRESS HRSC MAP PROJECTED REFDR EXTENSION6 V4.0"
DETECTOR_ID = MEX_HRSC_IR
EVENT_TYPE = "MARS-REGIONAL-MAPPING-Vo-Im-Fl"
INSTRUMENT_HOST_ID = MEX
INSTRUMENT_HOST_NAME = "MARS EXPRESS"
INSTRUMENT_ID = HRSC
INSTRUMENT_NAME = "HIGH RESOLUTION STEREO CAMERA"
MISSION_NAME = "MARS EXPRESS"
MISSION_PHASE_NAME = ME_Phase_36
PROCESSING_LEVEL_ID = 4
PRODUCT_CREATION_TIME = 2023-01-26T14:39:22.000Z
PRODUCT_ID = "HG742_0000_IR4.TIF"
RELEASE_ID = 0001
REVISION_ID = 0000
/* QUALITY DATA ELEMENTS */
DATA_QUALITY_ID = 1
DATA_QUALITY_DESC = "Data calculated based on original SPICE kernels"
/* TIME DATA ELEMENTS */
SPACECRAFT_CLOCK_START_COUNT = "1/0438185274.09044"
SPACECRAFT_CLOCK_STOP_COUNT = "1/0438185549.37845"
START_TIME = 2017-03-21T14:09:01.903Z
STOP_TIME = 2017-03-21T14:12:27.205Z
/* ORBITAL DATA ELEMENTS */
ASCENDING_NODE_LONGITUDE = 259.46
MAXIMUM_RESOLUTION = 0.0615
FOOTPRINT_POINT_LATITUDE = (-14.2893,-14.3007,-14.3121,-14.3275, -14.3279,-14.3206,-14.0766,-13.8358, -13.4767,-13.1149,-12.8748,-12.6354, -12.3966,-12.0384,-11.8,-11.5615, -11.204,-10.8467,-10.2649,-10.0295, -9.67659,-9.43766,-9.084,-8.61129, -8.25316,-8.01225,-7.7745,-7.40861, -7.16445,-6.92133,-6.68022,-6.436, -6.18555,-5.935,-5.68919,-5.43657, -5.18486,-4.81084,-4.55702,-4.29851, -4.04168,-3.78097,-3.39101,-3.13385, -2.8709,-2.60628,-2.21149,-2.07507, -2.06384,-2.05566,-2.04079,-2.02904, -2.0214,-2.01042,-2.00996,-2.01091, -2.40884,-2.68233,-2.9483,-3.20921, -3.45838,-3.71836,-4.10611,-4.36312, -4.61601,-4.87359,-5.12638,-5.37904, -5.63173,-5.88047,-6.12722,-6.3751, -6.62433,-6.86816,-7.11023,-7.47176, -7.84187,-8.08144,-8.55394,-8.79536, -9.14727,-9.49831,-9.84985,-10.3208, -10.561,-10.8027,-11.2722,-11.5111, -11.8685,-12.1076,-12.3467,-12.7062, -12.946,-13.186,-13.4263,-13.6669, -13.9078,-14.1498,-14.2708,-14.2893)
FOOTPRINT_POINT_LONGITUDE = (90.9195,90.5248,90.1254,89.5938,89.581 ,89.5822,89.5811,89.578,89.5721,89.5683 ,89.5652,89.5618,89.558,89.5527,89.5489 ,89.5454,89.5403,89.5353,89.5189, 89.5143,89.5075,89.5055,89.4997,89.4886 ,89.4803,89.4763,89.4704,89.4617, 89.4563,89.4504,89.4428,89.4341,89.4292 ,89.4246,89.4166,89.4098,89.4026, 89.3902,89.381,89.3748,89.3678,89.3613, 89.3488,89.339,89.3303,89.3217,89.3074, 89.3039,89.3037,89.589,90.0016,90.3482, 90.5988,90.9728,90.9883,90.9935,90.9896 ,90.9888,90.9867,90.9845,90.9806, 90.9784,90.9755,90.9737,90.9712,90.9699 ,90.9682,90.9665,90.9648,90.9631, 90.9613,90.9597,90.9582,90.9566,90.955, 90.9522,90.9508,90.9496,90.9461,90.9449 ,90.943,90.941,90.939,90.9365,90.9357, 90.9351,90.9322,90.9312,90.9295,90.9284 ,90.9273,90.9257,90.9246,90.9235, 90.9224,90.9213,90.9203,90.9193,90.9187 ,90.9195)
ORBIT_NUMBER = 16742
ORBITAL_ECCENTRICITY = 0.579
ORBITAL_INCLINATION = 86.94
ORBITAL_SEMIMAJOR_AXIS = 8844.02
PERIAPSIS_ALTITUDE = 331.32
PERIAPSIS_ARGUMENT_ANGLE = 333.23
PERIAPSIS_TIME = 2017-03-21T14:05:24.000Z
SPACECRAFT_ORIENTATION = (0.0,1.0,0.0)
^MEX_ORIENTATION_DESC = "MEX_ORIENTATION_DESC.TXT"
SPACECRAFT_POINTING_MODE = ACROSSTRACK
^MEX_POINTING_DESC = "MEX_POINTING_DESC.TXT"
RIGHT_ASCENSION = -1e+32
DECLINATION = -1e+32
OFFSET_ANGLE = 0.5
SPACECRAFT_SOLAR_DISTANCE = 2.24331e+08
TARGET_NAME = MARS
/* CAMERA DATA ELEMENTS */
DETECTOR_TEMPERATURE = 17.7588
FOCAL_PLANE_TEMPERATURE = 8.3794
INST_CMPRS_NAME = "DISCRETE COSINE TRANSFORMATION (DCT)"
INST_CMPRS_RATIO = 10.6056
INST_CMPRS_QUALITY = 0
INST_CMPRS_QUANTZ_TBL_ID = 0
INSTRUMENT_TEMPERATURE = 12.0496
LENS_TEMPERATURE = 9.195
MACROPIXEL_SIZE = 4
MISSING_FRAMES = 0
PIXEL_SUBSAMPLING_FLAG = N
SIGNAL_CHAIN_ID = 2
/* RADIOMETRIC DATA ELEMENTS */
BANDWIDTH = 81.0
CENTER_FILTER_WAVELENGTH = 955.5
RADIANCE_OFFSET = 0.710518
RADIANCE_SCALING_FACTOR = 0.0047122
REFLECTANCE_SCALING_FACTOR = 0.000511601
MEX:REFLECTANCE_OFFSET = 0.0771406
/* IMAGE OBJECT DEFINITIONS */
OBJECT = IMAGE
  INTERCHANGE_FORMAT = BINARY
  LINES = 14570
  LINE_SAMPLES = 1895
  SAMPLE_TYPE = UNSIGNED_INTEGER
  SAMPLE_BITS = 8
  BANDS = 1
  BAND_STORAGE_TYPE = BAND_SEQUENTIAL
  MAXIMUM = 255
  MEAN = 88.6802
  MINIMUM = 1
  STANDARD_DEVIATION = 37.7376
END_OBJECT = IMAGE
/* MAP OBJECT DEFINITIONS */
OBJECT = IMAGE_MAP_PROJECTION
  ^DATA_SET_MAP_PROJECTION_CATALOG= "DSMAP.CAT"
  A_AXIS_RADIUS = 3396.0
  B_AXIS_RADIUS = 3396.0
  C_AXIS_RADIUS = 3396.0
  CENTER_LATITUDE = 0.0
  CENTER_LONGITUDE = 90.0
  COORDINATE_SYSTEM_NAME = PLANETOGRAPHIC
  COORDINATE_SYSTEM_TYPE = "BODY-FIXED ROTATING"
  EASTERNMOST_LONGITUDE = 90.9935
  FIRST_STANDARD_PARALLEL = "N/A"
  LINE_FIRST_PIXEL = 1
  LINE_LAST_PIXEL = 14570
  LINE_PROJECTION_OFFSET = -2409.375
  MAP_PROJECTION_ROTATION = 0.0
  MAP_PROJECTION_TYPE = SINUSOIDAL
  MAP_RESOLUTION = 1185.42760773333
  MAP_SCALE = 0.05
  MAXIMUM_LATITUDE = -2.00996
  MINIMUM_LATITUDE = -14.3279
  POSITIVE_LONGITUDE_DIRECTION = EAST
  REFERENCE_LATITUDE = "N/A"
  REFERENCE_LONGITUDE = "N/A"
  SAMPLE_FIRST_PIXEL = 1
  SAMPLE_LAST_PIXEL = 1895
  SAMPLE_PROJECTION_OFFSET = 772.625
  SECOND_STANDARD_PARALLEL = "N/A"
  WESTERNMOST_LONGITUDE = 89.30370000000001
END_OBJECT = IMAGE_MAP_PROJECTION
END
