PDS_VERSION_ID = PDS3
/* FILE DATA ELEMENTS */
RECORD_TYPE = UNDEFINED
/* POINTERS TO DATA OBJECTS */
^IMAGE = ("HG566_0000_P24.TIF")
/* IDENTIFICATION DATA ELEMENTS */
DATA_SET_ID = "MEX-M-HRSC-4-REFDR-MAPPROJECT-EXT6-V4.0"
DATA_SET_NAME = "MARS EXPRESS HRSC MAP PROJECTED REFDR EXTENSION6 V4.0"
DETECTOR_ID = MEX_HRSC_P2
EVENT_TYPE = "MARS-REGIONAL-STEREO-Vo-Fl"
INSTRUMENT_HOST_ID = MEX
INSTRUMENT_HOST_NAME = "MARS EXPRESS"
INSTRUMENT_ID = HRSC
INSTRUMENT_NAME = "HIGH RESOLUTION STEREO CAMERA"
MISSION_NAME = "MARS EXPRESS"
MISSION_PHASE_NAME = ME_Phase_36
PROCESSING_LEVEL_ID = 4
PRODUCT_CREATION_TIME = 2023-01-26T14:39:22.000Z
PRODUCT_ID = "HG566_0000_P24.TIF"
RELEASE_ID = 0001
REVISION_ID = 0000
/* QUALITY DATA ELEMENTS */
DATA_QUALITY_ID = 1
DATA_QUALITY_DESC = "Data calculated based on original SPICE kernels"
/* TIME DATA ELEMENTS */
SPACECRAFT_CLOCK_START_COUNT = "1/0433752200.08242"
SPACECRAFT_CLOCK_STOP_COUNT = "1/0433752542.49832"
START_TIME = 2017-01-29T06:44:05.362Z
STOP_TIME = 2017-01-29T06:47:36.959Z
/* ORBITAL DATA ELEMENTS */
ASCENDING_NODE_LONGITUDE = 262.76
MAXIMUM_RESOLUTION = 0.0489
FOOTPRINT_POINT_LATITUDE = (-38.331,-38.325,-38.3125,-38.3046, -38.2957,-38.286,-38.2752,-38.2635, -38.2509,-38.2373,-38.2228,-38.1949, -38.1928,-38.1384,-37.9028,-37.5516, -37.203,-36.8562,-36.6261,-36.2828, -35.9427,-35.604,-35.3778,-35.1484, -34.8046,-34.582,-34.3538,-34.1242, -33.7804,-33.5766,-33.2702,-32.8657, -32.5592,-32.3534,-32.147,-31.9405, -31.7333,-31.4239,-31.1153,-30.911, -30.7071,-30.4031,-30.1001,-29.6004, -29.1062,-28.7149,-28.3268,-27.9408, -27.6548,-27.5596,-27.5125,-27.5248, -27.5381,-27.5563,-27.5712,-27.5809, -27.5883,-27.5888,-27.5896,-28.0692, -28.5551,-28.9474,-29.3424,-29.64, -29.9401,-30.3421,-30.5443,-30.7471, -30.9518,-31.1564,-31.3628,-31.5696, -31.7781,-32.0891,-32.4033,-32.6107, -32.8176,-33.1281,-33.3352,-33.5412, -33.7457,-33.9503,-34.1812,-34.4122, -34.6428,-34.8729,-35.1022,-35.3309, -35.6737,-36.0146,-36.3568,-36.587, -36.8181,-37.0504,-37.2873,-37.6353, -37.8706,-38.1055,-38.2245,-38.331)
FOOTPRINT_POINT_LONGITUDE = (96.4726,96.1643,95.6496,95.3741, 95.0978,94.8204,94.5425,94.2637,93.9842 ,93.7036,93.4217,92.9257,92.8901,92.832 ,92.8573,92.8953,92.9323,92.9677, 92.9911,93.0245,93.0574,93.0886,93.1089 ,93.1268,93.1545,93.1795,93.1998, 93.2193,93.2418,93.2578,93.2817,93.3184 ,93.3438,93.3598,93.3756,93.3917, 93.4074,93.4304,93.4525,93.4657,93.4796 ,93.4993,93.5188,93.55,93.5802,93.6032, 93.6261,93.6481,93.6645,93.6702,93.6739 ,93.9328,94.2374,94.8591,95.3175, 95.6806,96.019,96.0415,96.0497,96.0656, 96.082,96.0955,96.1092,96.1197,96.1304, 96.1449,96.1524,96.1598,96.1674,96.1751 ,96.1828,96.1907,96.1986,96.2108, 96.2228,96.231,96.2392,96.2515,96.2597, 96.268,96.2764,96.2848,96.2944,96.3041, 96.3139,96.3237,96.3335,96.3434,96.3583 ,96.3733,96.3889,96.3994,96.41,96.4208, 96.4311,96.4484,96.4598,96.4717,96.4775 ,96.4726)
ORBIT_NUMBER = 16566
ORBITAL_ECCENTRICITY = 0.578
ORBITAL_INCLINATION = 86.92
ORBITAL_SEMIMAJOR_AXIS = 8864.14
PERIAPSIS_ALTITUDE = 344.76
PERIAPSIS_ARGUMENT_ANGLE = 3.62
PERIAPSIS_TIME = 2017-01-29T06:56:35.000Z
SPACECRAFT_ORIENTATION = (0.0,1.0,0.0)
^MEX_ORIENTATION_DESC = "MEX_ORIENTATION_DESC.TXT"
SPACECRAFT_POINTING_MODE = ACROSSTRACK
^MEX_POINTING_DESC = "MEX_POINTING_DESC.TXT"
RIGHT_ASCENSION = -1e+32
DECLINATION = -1e+32
OFFSET_ANGLE = 1.0
SPACECRAFT_SOLAR_DISTANCE = 2.14915e+08
TARGET_NAME = MARS
/* CAMERA DATA ELEMENTS */
DETECTOR_TEMPERATURE = 18.7783
FOCAL_PLANE_TEMPERATURE = 8.5833
INST_CMPRS_NAME = "DISCRETE COSINE TRANSFORMATION (DCT)"
INST_CMPRS_RATIO = 7.33416
INST_CMPRS_QUALITY = 0
INST_CMPRS_QUANTZ_TBL_ID = 0
INSTRUMENT_TEMPERATURE = 11.8457
LENS_TEMPERATURE = 9.3989
MACROPIXEL_SIZE = 2
MISSING_FRAMES = 0
PIXEL_SUBSAMPLING_FLAG = N
SIGNAL_CHAIN_ID = 3
/* RADIOMETRIC DATA ELEMENTS */
BANDWIDTH = 177.0
CENTER_FILTER_WAVELENGTH = 676.5
RADIANCE_OFFSET = 1.74439
RADIANCE_SCALING_FACTOR = 0.00940603
REFLECTANCE_SCALING_FACTOR = 0.000230352
MEX:REFLECTANCE_OFFSET = 0.0427199
/* IMAGE OBJECT DEFINITIONS */
OBJECT = IMAGE
  INTERCHANGE_FORMAT = BINARY
  LINES = 12711
  LINE_SAMPLES = 3115
  SAMPLE_TYPE = UNSIGNED_INTEGER
  SAMPLE_BITS = 8
  BANDS = 1
  BAND_STORAGE_TYPE = BAND_SEQUENTIAL
  MAXIMUM = 255
  MEAN = 101.474
  MINIMUM = 1
  STANDARD_DEVIATION = 38.4805
END_OBJECT = IMAGE
/* MAP OBJECT DEFINITIONS */
OBJECT = IMAGE_MAP_PROJECTION
  ^DATA_SET_MAP_PROJECTION_CATALOG= "DSMAP.CAT"
  A_AXIS_RADIUS = 3396.0
  B_AXIS_RADIUS = 3396.0
  C_AXIS_RADIUS = 3396.0
  CENTER_LATITUDE = 0.0
  CENTER_LONGITUDE = 95.0
  COORDINATE_SYSTEM_NAME = PLANETOGRAPHIC
  COORDINATE_SYSTEM_TYPE = "BODY-FIXED ROTATING"
  EASTERNMOST_LONGITUDE = 96.47750000000001
  FIRST_STANDARD_PARALLEL = "N/A"
  LINE_FIRST_PIXEL = 1
  LINE_LAST_PIXEL = 12711
  LINE_PROJECTION_OFFSET = -32659.75
  MAP_PROJECTION_ROTATION = 0.0
  MAP_PROJECTION_TYPE = SINUSOIDAL
  MAP_RESOLUTION = 1185.42760773333
  MAP_SCALE = 0.05
  MAXIMUM_LATITUDE = -27.5125
  MINIMUM_LATITUDE = -38.331
  POSITIVE_LONGITUDE_DIRECTION = EAST
  REFERENCE_LATITUDE = "N/A"
  REFERENCE_LONGITUDE = "N/A"
  SAMPLE_FIRST_PIXEL = 1
  SAMPLE_LAST_PIXEL = 3115
  SAMPLE_PROJECTION_OFFSET = 1876.75
  SECOND_STANDARD_PARALLEL = "N/A"
  WESTERNMOST_LONGITUDE = 92.83199999999999
END_OBJECT = IMAGE_MAP_PROJECTION
END
