PDS_VERSION_ID = PDS3
/* FILE DATA ELEMENTS */
RECORD_TYPE = UNDEFINED
/* POINTERS TO DATA OBJECTS */
^IMAGE = ("HG505_0000_S24.TIF")
/* IDENTIFICATION DATA ELEMENTS */
DATA_SET_ID = "MEX-M-HRSC-4-REFDR-MAPPROJECT-EXT6-V4.0"
DATA_SET_NAME = "MARS EXPRESS HRSC MAP PROJECTED REFDR EXTENSION6 V4.0"
DETECTOR_ID = MEX_HRSC_S2
EVENT_TYPE = "MARS-TERMINATOR-CALIBRATION-Tc"
INSTRUMENT_HOST_ID = MEX
INSTRUMENT_HOST_NAME = "MARS EXPRESS"
INSTRUMENT_ID = HRSC
INSTRUMENT_NAME = "HIGH RESOLUTION STEREO CAMERA"
MISSION_NAME = "MARS EXPRESS"
MISSION_PHASE_NAME = ME_Phase_36
PROCESSING_LEVEL_ID = 4
PRODUCT_CREATION_TIME = 2023-01-26T14:39:22.000Z
PRODUCT_ID = "HG505_0000_S24.TIF"
RELEASE_ID = 0001
REVISION_ID = 0000
/* QUALITY DATA ELEMENTS */
DATA_QUALITY_ID = 1
DATA_QUALITY_DESC = "Data calculated based on original SPICE kernels"
/* TIME DATA ELEMENTS */
SPACECRAFT_CLOCK_START_COUNT = "1/0432229408.08254"
SPACECRAFT_CLOCK_STOP_COUNT = "1/0432229847.02663"
START_TIME = 2017-01-11T15:43:36.018Z
STOP_TIME = 2017-01-11T15:46:45.881Z
/* ORBITAL DATA ELEMENTS */
ASCENDING_NODE_LONGITUDE = 263.92
MAXIMUM_RESOLUTION = 1.6848 <m/pixel>
FOOTPRINT_POINT_LATITUDE = (44.0426,41.4916,41.5646,38.486,34.2902 ,31.117,27.6029,25.2375,23.9524,22.1859 ,20.2761,17.9726,15.7237,13.9308, 12.3047,9.46365,7.24971,3.59384,1.52594 ,-0.434942,-4.11771,-6.73286,-10.0768, -14.0984,-17.8215,-21.6954,-24.6016, -28.3182,-32.9503,-38.2318,-41.5952, -45.411,-47.7028,-51.2338,-53.5718, -57.0766,-61.7345,-65.0765,-68.9643, -71.2481,-73.8262,-76.7782,-77.5832, -74.013,-70.9062,-65.87,-61.2881, -59.0227,-56.3375,-52.6834,-49.9732, -49.5347,-49.1254,-44.3013,-40.8673, -35.3941,-33.1287,-33.3967,-33.3731, -32.9976,-32.4884,-31.9155,-30.6799, -29.3909,-27.9003,-26.5711,-25.2349, -23.8963,-20.5601,-18.0656,-14.9053, -12.2315,-9.86667,-7.65233,-5.76293, -3.65277,-0.795712,2.15957,4.26694, 7.45405,10.8141,15.1245,19.9408,23.9687 ,26.4691,30.745,33.6171,37.4648,42.2946 ,45.4636,49.7776,53.2644,56.2341, 53.9723,54.4007,51.6336,50.0473,46.8032 ,45.4206,44.0426)
FOOTPRINT_POINT_LONGITUDE = (398.388,400.706,400.931,402.135, 405.411,405.22,409.097,407.714,411.991, 408.809,406.535,402.181,398.467,395.83, 393.591,390.018,387.464,383.629,381.613 ,379.795,376.589,374.438,371.817, 368.828,366.177,363.509,361.548,359.064 ,355.997,352.422,350.068,347.274, 345.516,342.623,340.549,337.132,331.679 ,326.818,319.407,313.581,304.513, 286.168,268.59,266.436,263.616,259.571, 260.354,260.912,259.865,264.076,261.726 ,260.603,260.713,263.008,263.19,263.36, 264.871,269.096,275.0,280.071,283.908, 287.088,292.213,296.306,300.259,303.251 ,305.943,308.393,313.665,317.041, 320.832,323.692,325.995,328.042,329.712 ,331.444,333.701,335.889,337.369, 339.518,341.69,344.353,347.201,349.514, 350.958,353.405,355.064,357.324,360.289 ,362.345,365.367,368.063,370.638, 374.807,380.126,385.563,389.047,392.252 ,396.677,398.388)
ORBIT_NUMBER = 16505
ORBITAL_ECCENTRICITY = 0.577
ORBITAL_INCLINATION = 86.93
ORBITAL_SEMIMAJOR_AXIS = 8857.02
PERIAPSIS_ALTITUDE = 351.61
PERIAPSIS_ARGUMENT_ANGLE = 14.18
PERIAPSIS_TIME = 2017-01-11T12:13:52.000Z
SPACECRAFT_ORIENTATION = (0.0,1.0,0.0)
^MEX_ORIENTATION_DESC = "MEX_ORIENTATION_DESC.TXT"
SPACECRAFT_POINTING_MODE = INERT
^MEX_POINTING_DESC = "MEX_POINTING_DESC.TXT"
RIGHT_ASCENSION = 312.07
DECLINATION = -22.917
OFFSET_ANGLE = -1e+32
SPACECRAFT_SOLAR_DISTANCE = 2.12197e+08
TARGET_NAME = MARS
/* CAMERA DATA ELEMENTS */
DETECTOR_TEMPERATURE = 18.9822 <degC>
FOCAL_PLANE_TEMPERATURE = 7.9716 <degC>
INST_CMPRS_NAME = "DISCRETE COSINE TRANSFORMATION (DCT)"
INST_CMPRS_RATIO = 13.4098
INST_CMPRS_QUALITY = 0
INST_CMPRS_QUANTZ_TBL_ID = 0
INSTRUMENT_TEMPERATURE = 11.4379 <degC>
LENS_TEMPERATURE = 8.5833 <degC>
MACROPIXEL_SIZE = 4
MISSING_FRAMES = 0
PIXEL_SUBSAMPLING_FLAG = N
SIGNAL_CHAIN_ID = 3
/* RADIOMETRIC DATA ELEMENTS */
BANDWIDTH = 178.0 <nm>
CENTER_FILTER_WAVELENGTH = 679.0 <nm>
RADIANCE_OFFSET = 0.0 <W*m**-2*sr**-1>
RADIANCE_SCALING_FACTOR = 0.0210575 <W*m**-2*sr**-1>
REFLECTANCE_SCALING_FACTOR = 0.000502229
MEX:REFLECTANCE_OFFSET = 0.0
/* IMAGE OBJECT DEFINITIONS */
OBJECT = IMAGE
  INTERCHANGE_FORMAT = BINARY
  LINES = 5152
  LINE_SAMPLES = 4975
  SAMPLE_TYPE = UNSIGNED_INTEGER
  SAMPLE_BITS = 8
  BANDS = 1
  BAND_STORAGE_TYPE = BAND_SEQUENTIAL
  MAXIMUM = 255
  MEAN = 151.934
  MINIMUM = 1
  STANDARD_DEVIATION = 99.3397
END_OBJECT = IMAGE
/* MAP OBJECT DEFINITIONS */
OBJECT = IMAGE_MAP_PROJECTION
  ^DATA_SET_MAP_PROJECTION_CATALOG= "DSMAP.CAT"
  A_AXIS_RADIUS = 3396.0 <km>
  B_AXIS_RADIUS = 3396.0 <km>
  C_AXIS_RADIUS = 3396.0 <km>
  CENTER_LATITUDE = 0.0
  CENTER_LONGITUDE = 346.0
  COORDINATE_SYSTEM_NAME = PLANETOGRAPHIC
  COORDINATE_SYSTEM_TYPE = "BODY-FIXED ROTATING"
  EASTERNMOST_LONGITUDE = 51.991
  FIRST_STANDARD_PARALLEL = "N/A"
  LINE_FIRST_PIXEL = 1
  LINE_LAST_PIXEL = 5152
  LINE_PROJECTION_OFFSET = 2137.125
  MAP_PROJECTION_ROTATION = 0.0
  MAP_PROJECTION_TYPE = SINUSOIDAL
  MAP_RESOLUTION = 37.0446127416667 <pixel/degree>
  MAP_SCALE = 1.6 <km/pixel>
  MAXIMUM_LATITUDE = 56.2341
  MINIMUM_LATITUDE = -77.58320000000001
  POSITIVE_LONGITUDE_DIRECTION = EAST
  REFERENCE_LATITUDE = "N/A"
  REFERENCE_LONGITUDE = "N/A"
  SAMPLE_FIRST_PIXEL = 1
  SAMPLE_LAST_PIXEL = 4975
  SAMPLE_PROJECTION_OFFSET = 2631.375
  SECOND_STANDARD_PARALLEL = "N/A"
  WESTERNMOST_LONGITUDE = -100.429
END_OBJECT = IMAGE_MAP_PROJECTION
END
