PDS_VERSION_ID = PDS3
/* FILE DATA ELEMENTS */
RECORD_TYPE = UNDEFINED
/* POINTERS TO DATA OBJECTS */
^IMAGE = ("HG491_0000_P14.TIF")
/* IDENTIFICATION DATA ELEMENTS */
DATA_SET_ID = "MEX-M-HRSC-4-REFDR-MAPPROJECT-EXT6-V4.0"
DATA_SET_NAME = "MARS EXPRESS HRSC MAP PROJECTED REFDR EXTENSION6 V4.0"
DETECTOR_ID = MEX_HRSC_P1
EVENT_TYPE = "MARS-TERMINATOR-CALIBRATION-Tc"
INSTRUMENT_HOST_ID = MEX
INSTRUMENT_HOST_NAME = "MARS EXPRESS"
INSTRUMENT_ID = HRSC
INSTRUMENT_NAME = "HIGH RESOLUTION STEREO CAMERA"
MISSION_NAME = "MARS EXPRESS"
MISSION_PHASE_NAME = ME_Phase_36
PROCESSING_LEVEL_ID = 4
PRODUCT_CREATION_TIME = 2023-01-26T14:39:22.000Z
PRODUCT_ID = "HG491_0000_P14.TIF"
RELEASE_ID = 0001
REVISION_ID = 0000
/* QUALITY DATA ELEMENTS */
DATA_QUALITY_ID = 1
DATA_QUALITY_DESC = "Data calculated based on original SPICE kernels"
/* TIME DATA ELEMENTS */
SPACECRAFT_CLOCK_START_COUNT = "1/0431852884.08236"
SPACECRAFT_CLOCK_STOP_COUNT = "1/0431853323.64129"
START_TIME = 2017-01-07T07:11:37.894Z
STOP_TIME = 2017-01-07T07:14:48.670Z
/* ORBITAL DATA ELEMENTS */
ASCENDING_NODE_LONGITUDE = 264.18
MAXIMUM_RESOLUTION = 1.6621 <m/pixel>
FOOTPRINT_POINT_LATITUDE = (44.3875,38.5364,33.7887,30.27,27.4203, 25.0232,22.9794,21.2386,19.7804,18.6148 ,17.795,17.4653,17.6049,18.1459,19.2065 ,19.9879,19.9508,18.3238,13.9099, 10.5951,8.239,4.40215,1.27696,-1.47133, -3.95178,-6.27357,-10.5253,-14.4272, -18.0977,-21.6136,-25.0244,-28.3753, -31.7057,-34.2048,-37.5681,-40.9964, -44.5247,-48.1899,-52.0057,-56.0984, -60.5909,-65.6169,-68.4314,-71.5031, -74.9138,-78.8393,-80.9723,-82.9327, -83.5885,-80.3873,-77.3592,-74.2527, -72.7816,-69.1539,-63.7079,-63.0281, -62.5891,-60.6495,-57.6285,-54.7991, -51.3471,-47.1257,-46.2756,-46.0902, -41.7764,-38.0776,-39.6376,-39.9251, -39.9268,-39.4612,-38.6923,-37.7584, -36.7242,-35.6237,-33.2965,-30.8652, -28.3694,-25.8253,-23.2381,-20.6052, -17.9239,-15.177,-12.3503,-9.43504, -6.40782,-3.22301,0.150997,3.76437, 7.70385,12.1222,14.5727,17.1932,20.0664 ,23.2798,27.0565,31.7694,34.7279, 38.5337,45.091,44.3875)
FOOTPRINT_POINT_LONGITUDE = (453.377,453.869,455.61,457.686,459.942 ,462.348,464.912,467.654,470.628, 473.906,477.625,482.082,484.804,488.199 ,491.853,493.794,493.259,496.685, 492.508,488.232,485.537,481.539,478.614 ,476.23,474.221,472.417,469.324,466.677 ,464.32,462.154,460.139,458.212,456.361 ,454.973,453.124,451.24,449.277,447.177 ,444.838,442.177,438.954,434.63,431.68, 427.714,421.764,410.739,400.085,380.365 ,340.474,308.435,308.19,310.184,325.624 ,329.916,328.041,331.705,340.455, 345.942,349.168,349.794,348.602,343.637 ,341.73,341.57,346.273,347.896,357.887, 363.142,367.492,374.118,379.351,383.763 ,387.55,390.887,396.576,401.329,405.407 ,408.995,412.194,415.096,417.775,420.26 ,422.6,424.836,426.994,429.097,431.181, 433.279,435.434,437.71,438.924,440.208, 441.592,443.118,444.883,447.076,448.471 ,450.302,453.629,453.377)
ORBIT_NUMBER = 16491
ORBITAL_ECCENTRICITY = 0.577
ORBITAL_INCLINATION = 86.93
ORBITAL_SEMIMAJOR_AXIS = 8851.35
PERIAPSIS_ALTITUDE = 353.41
PERIAPSIS_ARGUMENT_ANGLE = 16.63
PERIAPSIS_TIME = 2017-01-07T10:18:03.000Z
SPACECRAFT_ORIENTATION = (0.0,1.0,0.0)
^MEX_ORIENTATION_DESC = "MEX_ORIENTATION_DESC.TXT"
SPACECRAFT_POINTING_MODE = INERT
^MEX_POINTING_DESC = "MEX_POINTING_DESC.TXT"
RIGHT_ASCENSION = 313.332
DECLINATION = -14.632
OFFSET_ANGLE = -1e+32
SPACECRAFT_SOLAR_DISTANCE = 2.11634e+08
TARGET_NAME = MARS
/* CAMERA DATA ELEMENTS */
DETECTOR_TEMPERATURE = 17.7588 <degC>
FOCAL_PLANE_TEMPERATURE = 8.9911 <degC>
INST_CMPRS_NAME = "DISCRETE COSINE TRANSFORMATION (DCT)"
INST_CMPRS_RATIO = 12.6737
INST_CMPRS_QUALITY = 0
INST_CMPRS_QUANTZ_TBL_ID = 0
INSTRUMENT_TEMPERATURE = 12.0496 <degC>
LENS_TEMPERATURE = 9.3989 <degC>
MACROPIXEL_SIZE = 4
MISSING_FRAMES = 0
PIXEL_SUBSAMPLING_FLAG = N
SIGNAL_CHAIN_ID = 3
/* RADIOMETRIC DATA ELEMENTS */
BANDWIDTH = 174.0 <nm>
CENTER_FILTER_WAVELENGTH = 675.0 <nm>
RADIANCE_OFFSET = 0.0 <W*m**-2*sr**-1>
RADIANCE_SCALING_FACTOR = 0.0285961 <W*m**-2*sr**-1>
REFLECTANCE_SCALING_FACTOR = 0.000688795
MEX:REFLECTANCE_OFFSET = 0.0
/* IMAGE OBJECT DEFINITIONS */
OBJECT = IMAGE
  INTERCHANGE_FORMAT = BINARY
  LINES = 4970
  LINE_SAMPLES = 4970
  SAMPLE_TYPE = UNSIGNED_INTEGER
  SAMPLE_BITS = 8
  BANDS = 1
  BAND_STORAGE_TYPE = BAND_SEQUENTIAL
  MAXIMUM = 255
  MEAN = 140.403
  MINIMUM = 1
  STANDARD_DEVIATION = 87.7725
END_OBJECT = IMAGE
/* MAP OBJECT DEFINITIONS */
OBJECT = IMAGE_MAP_PROJECTION
  ^DATA_SET_MAP_PROJECTION_CATALOG= "DSMAP.CAT"
  A_AXIS_RADIUS = 3396.0 <km>
  B_AXIS_RADIUS = 3396.0 <km>
  C_AXIS_RADIUS = 3396.0 <km>
  CENTER_LATITUDE = 0.0
  CENTER_LONGITUDE = 75.0
  COORDINATE_SYSTEM_NAME = PLANETOGRAPHIC
  COORDINATE_SYSTEM_TYPE = "BODY-FIXED ROTATING"
  EASTERNMOST_LONGITUDE = 136.685
  FIRST_STANDARD_PARALLEL = "N/A"
  LINE_FIRST_PIXEL = 1
  LINE_LAST_PIXEL = 4970
  LINE_PROJECTION_OFFSET = 1877.125
  MAP_PROJECTION_ROTATION = 0.0
  MAP_PROJECTION_TYPE = SINUSOIDAL
  MAP_RESOLUTION = 37.0446127416667 <pixel/degree>
  MAP_SCALE = 1.6 <km/pixel>
  MAXIMUM_LATITUDE = 45.091
  MINIMUM_LATITUDE = -83.5885
  POSITIVE_LONGITUDE_DIRECTION = EAST
  REFERENCE_LATITUDE = "N/A"
  REFERENCE_LONGITUDE = "N/A"
  SAMPLE_FIRST_PIXEL = 1
  SAMPLE_LAST_PIXEL = 4970
  SAMPLE_PROJECTION_OFFSET = 2705.875
  SECOND_STANDARD_PARALLEL = "N/A"
  WESTERNMOST_LONGITUDE = -51.81
END_OBJECT = IMAGE_MAP_PROJECTION
END
