PDS_VERSION_ID = PDS3
/* FILE DATA ELEMENTS */
RECORD_TYPE = UNDEFINED
/* POINTERS TO DATA OBJECTS */
^IMAGE = ("HG455_0000_ND4.TIF")
/* IDENTIFICATION DATA ELEMENTS */
DATA_SET_ID = "MEX-M-HRSC-4-REFDR-MAPPROJECT-EXT5-V4.0"
DATA_SET_NAME = "MARS EXPRESS HRSC MAP PROJECTED REFDR EXTENSION5 V4.0"
DETECTOR_ID = MEX_HRSC_NADIR
EVENT_TYPE = "MARS-TERMINATOR-VARIABLE-Eo-Tc-At"
INSTRUMENT_HOST_ID = MEX
INSTRUMENT_HOST_NAME = "MARS EXPRESS"
INSTRUMENT_ID = HRSC
INSTRUMENT_NAME = "HIGH RESOLUTION STEREO CAMERA"
MISSION_NAME = "MARS EXPRESS"
MISSION_PHASE_NAME = ME_Phase_35
PROCESSING_LEVEL_ID = 4
PRODUCT_CREATION_TIME = 2023-02-01T10:02:00.000Z
PRODUCT_ID = "HG455_0000_ND4.TIF"
RELEASE_ID = 0005
REVISION_ID = 0000
/* QUALITY DATA ELEMENTS */
DATA_QUALITY_ID = 1
DATA_QUALITY_DESC = "Data calculated based on original SPICE kernels"
/* TIME DATA ELEMENTS */
SPACECRAFT_CLOCK_START_COUNT = "1/0430954365.07306"
SPACECRAFT_CLOCK_STOP_COUNT = "1/0430956776.33979"
START_TIME = 2016-12-27T21:55:11.132Z
STOP_TIME = 2016-12-27T22:11:09.015Z
/* ORBITAL DATA ELEMENTS */
ASCENDING_NODE_LONGITUDE = 264.85
MAXIMUM_RESOLUTION = 0.0422
FOOTPRINT_POINT_LATITUDE = (-65.7539,-65.8334,-65.8637,-65.8757, -65.8499,-65.8102,-65.6885,-65.5982, -65.4902,-65.3644,-65.1827,-65.163, -65.1412,-64.5268,-63.9006,-63.2635, -62.6145,-61.954,-61.2815,-60.5972, -59.9013,-59.1933,-58.4732,-57.7409, -56.9962,-56.239,-55.0804,-54.308, -53.5438,-52.7883,-52.0405,-51.3011, -50.57,-49.8469,-49.1319,-48.4248, -47.7255,-47.0341,-46.3505,-45.6748, -45.0064,-44.3457,-43.0461,-41.7751, -40.5327,-39.3174,-38.1289,-36.9658, -35.8281,-34.7143,-33.6243,-32.557, -32.2937,-32.2839,-32.2882,-32.2745, -32.2457,-32.2446,-32.2446,-33.3075, -34.3933,-35.5033,-36.6375,-37.7972, -38.9834,-40.1965,-41.4381,-42.7089, -44.0099,-44.6715,-45.341,-46.0191, -46.7053,-47.3997,-48.1027,-48.814, -49.5344,-50.2631,-51.0012,-51.7483, -52.5054,-53.2715,-54.0471,-54.8329, -55.6278,-56.8094,-57.5825,-58.3452, -59.0969,-59.8382,-60.5688,-61.2893, -61.9998,-62.7004,-63.3913,-64.0719, -64.7438,-65.4075,-65.7353,-65.7539)
FOOTPRINT_POINT_LONGITUDE = (301.757,299.262,297.6,295.94,292.832, 291.182,288.108,286.479,284.86,283.247, 281.249,281.051,280.864,281.367,281.847 ,282.309,282.747,283.168,283.567, 283.949,284.316,284.667,285.002,285.322 ,285.628,285.921,286.336,286.593, 286.832,287.057,287.266,287.461,287.643 ,287.814,287.973,288.123,288.264, 288.397,288.522,288.642,288.753,288.857 ,289.049,289.221,289.378,289.518, 289.644,289.758,289.862,289.956,290.042 ,290.122,290.141,290.142,291.262, 293.026,294.447,294.49,294.512,294.615, 294.724,294.841,294.965,295.098,295.238 ,295.392,295.554,295.728,295.92,296.022 ,296.127,296.235,296.348,296.466, 296.589,296.72,296.855,297.0,297.146, 297.305,297.463,297.636,297.819,298.006 ,298.21,298.527,298.754,298.98,299.214, 299.454,299.703,299.959,300.224,300.497 ,300.779,301.083,301.387,301.688,301.85 ,301.757)
ORBIT_NUMBER = 16455
ORBITAL_ECCENTRICITY = 0.576
ORBITAL_INCLINATION = 86.93
ORBITAL_SEMIMAJOR_AXIS = 8846.99
PERIAPSIS_ALTITUDE = 356.9
PERIAPSIS_ARGUMENT_ANGLE = 22.88
PERIAPSIS_TIME = 2016-12-27T22:27:10.000Z
SPACECRAFT_ORIENTATION = (0.0,1.0,0.0)
^MEX_ORIENTATION_DESC = "MEX_ORIENTATION_DESC.TXT"
SPACECRAFT_POINTING_MODE = NADIR
^MEX_POINTING_DESC = "MEX_POINTING_DESC.TXT"
RIGHT_ASCENSION = -1e+32
DECLINATION = -1e+32
OFFSET_ANGLE = -1e+32
SPACECRAFT_SOLAR_DISTANCE = 2.10301e+08
TARGET_NAME = MARS
/* CAMERA DATA ELEMENTS */
DETECTOR_TEMPERATURE = 18.3705
FOCAL_PLANE_TEMPERATURE = 7.9716
INST_CMPRS_NAME = "DISCRETE COSINE TRANSFORMATION (DCT)"
INST_CMPRS_RATIO = 7.60771
INST_CMPRS_QUALITY = 0
INST_CMPRS_QUANTZ_TBL_ID = 0
INSTRUMENT_TEMPERATURE = 10.6223
LENS_TEMPERATURE = 8.3794
MACROPIXEL_SIZE = 1
MISSING_FRAMES = 0
PIXEL_SUBSAMPLING_FLAG = N
SIGNAL_CHAIN_ID = 0
/* RADIOMETRIC DATA ELEMENTS */
BANDWIDTH = 177.0
CENTER_FILTER_WAVELENGTH = 677.5
RADIANCE_OFFSET = 0.0287881
RADIANCE_SCALING_FACTOR = 0.00956782
REFLECTANCE_SCALING_FACTOR = 0.000224782
MEX:REFLECTANCE_OFFSET = 0.000676336
/* IMAGE OBJECT DEFINITIONS */
OBJECT = IMAGE
  INTERCHANGE_FORMAT = BINARY
  LINES = 39866
  LINE_SAMPLES = 10350
  SAMPLE_TYPE = UNSIGNED_INTEGER
  SAMPLE_BITS = 8
  BANDS = 1
  BAND_STORAGE_TYPE = BAND_SEQUENTIAL
  MAXIMUM = 255
  MEAN = 157.702
  MINIMUM = 1
  STANDARD_DEVIATION = 76.8928
END_OBJECT = IMAGE
/* MAP OBJECT DEFINITIONS */
OBJECT = IMAGE_MAP_PROJECTION
  ^DATA_SET_MAP_PROJECTION_CATALOG= "DSMAP.CAT"
  A_AXIS_RADIUS = 3396.0
  B_AXIS_RADIUS = 3396.0
  C_AXIS_RADIUS = 3396.0
  CENTER_LATITUDE = 0.0
  CENTER_LONGITUDE = 292.0
  COORDINATE_SYSTEM_NAME = PLANETOGRAPHIC
  COORDINATE_SYSTEM_TYPE = "BODY-FIXED ROTATING"
  EASTERNMOST_LONGITUDE = 301.85
  FIRST_STANDARD_PARALLEL = "N/A"
  LINE_FIRST_PIXEL = 1
  LINE_LAST_PIXEL = 39866
  LINE_PROJECTION_OFFSET = -38224.0
  MAP_PROJECTION_ROTATION = 0.0
  MAP_PROJECTION_TYPE = SINUSOIDAL
  MAP_RESOLUTION = 1185.42760773333
  MAP_SCALE = 0.05
  MAXIMUM_LATITUDE = -32.2446
  MINIMUM_LATITUDE = -65.87569999999999
  POSITIVE_LONGITUDE_DIRECTION = EAST
  REFERENCE_LATITUDE = "N/A"
  REFERENCE_LONGITUDE = "N/A"
  SAMPLE_FIRST_PIXEL = 1
  SAMPLE_LAST_PIXEL = 10350
  SAMPLE_PROJECTION_OFFSET = 5549.0
  SECOND_STANDARD_PARALLEL = "N/A"
  WESTERNMOST_LONGITUDE = 280.864
END_OBJECT = IMAGE_MAP_PROJECTION
END
