PDS_VERSION_ID = PDS3
/* FILE DATA ELEMENTS */
RECORD_TYPE = UNDEFINED
/* POINTERS TO DATA OBJECTS */
^IMAGE = ("HG154_0000_ND4.TIF")
/* IDENTIFICATION DATA ELEMENTS */
DATA_SET_ID = "MEX-M-HRSC-4-REFDR-MAPPROJECT-EXT5-V4.0"
DATA_SET_NAME = "MARS EXPRESS HRSC MAP PROJECTED REFDR EXTENSION5 V4.0"
DETECTOR_ID = MEX_HRSC_NADIR
EVENT_TYPE = "MARS-REGIONAL-PHOTOMETRY-Vo-Te"
INSTRUMENT_HOST_ID = MEX
INSTRUMENT_HOST_NAME = "MARS EXPRESS"
INSTRUMENT_ID = HRSC
INSTRUMENT_NAME = "HIGH RESOLUTION STEREO CAMERA"
MISSION_NAME = "MARS EXPRESS"
MISSION_PHASE_NAME = ME_Phase_35
PROCESSING_LEVEL_ID = 4
PRODUCT_CREATION_TIME = 2023-02-01T10:02:00.000Z
PRODUCT_ID = "HG154_0000_ND4.TIF"
RELEASE_ID = 0005
REVISION_ID = 0000
/* QUALITY DATA ELEMENTS */
DATA_QUALITY_ID = 1
DATA_QUALITY_DESC = "Data calculated based on original SPICE kernels"
/* TIME DATA ELEMENTS */
SPACECRAFT_CLOCK_START_COUNT = "1/0423378019.08398"
SPACECRAFT_CLOCK_STOP_COUNT = "1/0423378903.47367"
START_TIME = 2016-10-01T05:01:58.185Z
STOP_TIME = 2016-10-01T05:09:32.186Z
/* ORBITAL DATA ELEMENTS */
ASCENDING_NODE_LONGITUDE = 270.48
MAXIMUM_RESOLUTION = 0.0355
FOOTPRINT_POINT_LATITUDE = (57.3568,57.4179,57.4607,57.4924, 57.5094,57.5096,57.5081,56.8272,56.376, 55.9269,55.4799,55.035,54.5923,54.1517, 53.7132,53.2769,52.8427,52.4106,51.9806 ,51.5526,51.1268,50.7031,50.2815,49.862 ,49.4445,49.029,48.6156,48.2045,47.7955 ,47.3884,46.9833,46.5802,46.1792, 45.7803,45.3833,44.9884,44.5954,44.2044 ,43.4285,42.6605,41.9003,41.1478, 40.4029,39.6657,38.9359,38.2137,37.4988 ,37.3212,37.3023,37.3418,37.3637, 37.3826,37.3935,37.405,37.4097,37.4078, 37.4018,37.401,37.4009,38.1007,38.8082, 39.5234,40.2463,40.9771,41.7159,42.4626 ,43.2174,43.9803,44.7514,45.1398, 45.5304,45.9232,46.318,46.7149,47.114, 47.5151,47.9182,48.3237,48.7311,49.1407 ,49.5523,49.9661,50.3819,50.8,51.2202, 51.6424,52.067,52.4936,52.9224,53.3533, 53.7864,54.2216,54.659,55.0985,55.5402, 55.984,56.4299,57.1028,57.3282,57.3568)
FOOTPRINT_POINT_LONGITUDE = (291.045,292.431,293.71,295.104,296.62, 296.676,296.782,296.839,296.875,296.91, 296.943,296.975,297.006,297.035,297.063 ,297.088,297.111,297.135,297.159, 297.183,297.205,297.225,297.246,297.264 ,297.283,297.304,297.324,297.336, 297.349,297.365,297.38,297.394,297.408, 297.421,297.433,297.445,297.457,297.468 ,297.49,297.508,297.525,297.54,297.555, 297.568,297.581,297.592,297.602,297.604 ,297.604,296.576,295.871,295.104, 294.529,293.635,292.676,291.91,291.207, 291.143,291.112,291.154,291.195,291.233 ,291.269,291.301,291.33,291.357,291.379 ,291.398,291.415,291.418,291.423, 291.428,291.43,291.432,291.433,291.434, 291.431,291.431,291.426,291.421,291.414 ,291.405,291.395,291.384,291.371, 291.355,291.34,291.322,291.303,291.281, 291.258,291.233,291.205,291.176,291.143 ,291.109,291.072,291.011,290.989, 291.045)
ORBIT_NUMBER = 16154
ORBITAL_ECCENTRICITY = 0.571
ORBITAL_INCLINATION = 86.95
ORBITAL_SEMIMAJOR_AXIS = 8769.84
PERIAPSIS_ALTITUDE = 384.52
PERIAPSIS_ARGUMENT_ANGLE = 74.93
PERIAPSIS_TIME = 2016-10-01T04:48:35.000Z
SPACECRAFT_ORIENTATION = (0.0,1.0,0.0)
^MEX_ORIENTATION_DESC = "MEX_ORIENTATION_DESC.TXT"
SPACECRAFT_POINTING_MODE = ACROSSTRACK
^MEX_POINTING_DESC = "MEX_POINTING_DESC.TXT"
RIGHT_ASCENSION = -1e+32
DECLINATION = -1e+32
OFFSET_ANGLE = 0.2
SPACECRAFT_SOLAR_DISTANCE = 2.07494e+08
TARGET_NAME = MARS
/* CAMERA DATA ELEMENTS */
DETECTOR_TEMPERATURE = 17.5549
FOCAL_PLANE_TEMPERATURE = 7.7677
INST_CMPRS_NAME = "DISCRETE COSINE TRANSFORMATION (DCT)"
INST_CMPRS_RATIO = 6.79378
INST_CMPRS_QUALITY = 0
INST_CMPRS_QUANTZ_TBL_ID = 0
INSTRUMENT_TEMPERATURE = 10.6223
LENS_TEMPERATURE = 7.9716
MACROPIXEL_SIZE = 1
MISSING_FRAMES = 0
PIXEL_SUBSAMPLING_FLAG = N
SIGNAL_CHAIN_ID = 0
/* RADIOMETRIC DATA ELEMENTS */
BANDWIDTH = 177.0
CENTER_FILTER_WAVELENGTH = 677.5
RADIANCE_OFFSET = 2.20637
RADIANCE_SCALING_FACTOR = 0.0273528
REFLECTANCE_SCALING_FACTOR = 0.000625601
MEX:REFLECTANCE_OFFSET = 0.050463
/* IMAGE OBJECT DEFINITIONS */
OBJECT = IMAGE
  INTERCHANGE_FORMAT = BINARY
  LINES = 47906
  LINE_SAMPLES = 12238
  SAMPLE_TYPE = UNSIGNED_INTEGER
  SAMPLE_BITS = 8
  BANDS = 1
  BAND_STORAGE_TYPE = BAND_SEQUENTIAL
  MAXIMUM = 255
  MEAN = 119.452
  MINIMUM = 1
  STANDARD_DEVIATION = 53.4921
END_OBJECT = IMAGE
/* MAP OBJECT DEFINITIONS */
OBJECT = IMAGE_MAP_PROJECTION
  ^DATA_SET_MAP_PROJECTION_CATALOG= "DSMAP.CAT"
  A_AXIS_RADIUS = 3396.0
  B_AXIS_RADIUS = 3396.0
  C_AXIS_RADIUS = 3396.0
  CENTER_LATITUDE = 0.0
  CENTER_LONGITUDE = 294.0
  COORDINATE_SYSTEM_NAME = PLANETOGRAPHIC
  COORDINATE_SYSTEM_TYPE = "BODY-FIXED ROTATING"
  EASTERNMOST_LONGITUDE = 297.604
  FIRST_STANDARD_PARALLEL = "N/A"
  LINE_FIRST_PIXEL = 1
  LINE_LAST_PIXEL = 47906
  LINE_PROJECTION_OFFSET = 136344.0
  MAP_PROJECTION_ROTATION = 0.0
  MAP_PROJECTION_TYPE = SINUSOIDAL
  MAP_RESOLUTION = 2370.85521546667
  MAP_SCALE = 0.025
  MAXIMUM_LATITUDE = 57.5096
  MINIMUM_LATITUDE = 37.3023
  POSITIVE_LONGITUDE_DIRECTION = EAST
  REFERENCE_LATITUDE = "N/A"
  REFERENCE_LONGITUDE = "N/A"
  SAMPLE_FIRST_PIXEL = 1
  SAMPLE_LAST_PIXEL = 12238
  SAMPLE_PROJECTION_OFFSET = 5439.0
  SECOND_STANDARD_PARALLEL = "N/A"
  WESTERNMOST_LONGITUDE = 290.989
END_OBJECT = IMAGE_MAP_PROJECTION
END
